BEGIN:VCALENDAR
VERSION:2.0
PRODID:-//Melanchthon-Gemeinde - ECPv6.15.20//NONSGML v1.0//EN
CALSCALE:GREGORIAN
METHOD:PUBLISH
X-WR-CALNAME:Melanchthon-Gemeinde
X-ORIGINAL-URL:https://www.melanchthon-hannover.de
X-WR-CALDESC:Veranstaltungen für Melanchthon-Gemeinde
REFRESH-INTERVAL;VALUE=DURATION:PT1H
X-Robots-Tag:noindex
X-PUBLISHED-TTL:PT1H
BEGIN:VTIMEZONE
TZID:Europe/Berlin
BEGIN:DAYLIGHT
TZOFFSETFROM:+0100
TZOFFSETTO:+0200
TZNAME:CEST
DTSTART:20230326T010000
END:DAYLIGHT
BEGIN:STANDARD
TZOFFSETFROM:+0200
TZOFFSETTO:+0100
TZNAME:CET
DTSTART:20231029T010000
END:STANDARD
BEGIN:DAYLIGHT
TZOFFSETFROM:+0100
TZOFFSETTO:+0200
TZNAME:CEST
DTSTART:20240331T010000
END:DAYLIGHT
BEGIN:STANDARD
TZOFFSETFROM:+0200
TZOFFSETTO:+0100
TZNAME:CET
DTSTART:20241027T010000
END:STANDARD
BEGIN:DAYLIGHT
TZOFFSETFROM:+0100
TZOFFSETTO:+0200
TZNAME:CEST
DTSTART:20250330T010000
END:DAYLIGHT
BEGIN:STANDARD
TZOFFSETFROM:+0200
TZOFFSETTO:+0100
TZNAME:CET
DTSTART:20251026T010000
END:STANDARD
BEGIN:DAYLIGHT
TZOFFSETFROM:+0100
TZOFFSETTO:+0200
TZNAME:CEST
DTSTART:20260329T010000
END:DAYLIGHT
BEGIN:STANDARD
TZOFFSETFROM:+0200
TZOFFSETTO:+0100
TZNAME:CET
DTSTART:20261025T010000
END:STANDARD
END:VTIMEZONE
BEGIN:VEVENT
DTSTART;TZID=Europe/Berlin:20250609T103000
DTEND;TZID=Europe/Berlin:20250609T123000
DTSTAMP:20260425T150826
CREATED:20250511T192650Z
LAST-MODIFIED:20250609T083301Z
UID:10007015-1749465000-1749472200@www.melanchthon-hannover.de
SUMMARY:Ökomenischer Gottesdienst auf dem Stephansplatz
DESCRIPTION:
URL:https://www.melanchthon-hannover.de/termin/oekomenischer-gottesdienst-auf-dem-stephansplatz/
LOCATION:Stephansplatz\, Hannover\, Deutschland
CATEGORIES:Gottesdienst - mal woanders
END:VEVENT
BEGIN:VEVENT
DTSTART;TZID=Europe/Berlin:20240520T103000
DTEND;TZID=Europe/Berlin:20240520T103000
DTSTAMP:20260425T150826
CREATED:20240329T214846Z
LAST-MODIFIED:20240519T101229Z
UID:10004445-1716201000-1716201000@www.melanchthon-hannover.de
SUMMARY:Ökomenisches Pfingstfest auf dem Stephansplatz
DESCRIPTION:
URL:https://www.melanchthon-hannover.de/termin/oekomenisches-pfingstfest-auf-dem-stephansplatz/
LOCATION:Stephansplatz\, Hannover\, Deutschland
CATEGORIES:Gottesdienst - mal woanders
ATTACH;FMTTYPE=image/png:https://www.melanchthon-hannover.de/wp-content/uploads/2024/03/Pfingstfest-Stephansplatz.png
END:VEVENT
END:VCALENDAR