BEGIN:VCALENDAR
VERSION:2.0
PRODID:-//Melanchthon-Gemeinde - ECPv6.15.20//NONSGML v1.0//EN
CALSCALE:GREGORIAN
METHOD:PUBLISH
X-ORIGINAL-URL:https://www.melanchthon-hannover.de
X-WR-CALDESC:Veranstaltungen für Melanchthon-Gemeinde
REFRESH-INTERVAL;VALUE=DURATION:PT1H
X-Robots-Tag:noindex
X-PUBLISHED-TTL:PT1H
BEGIN:VTIMEZONE
TZID:Europe/Berlin
BEGIN:DAYLIGHT
TZOFFSETFROM:+0100
TZOFFSETTO:+0200
TZNAME:CEST
DTSTART:20230326T010000
END:DAYLIGHT
BEGIN:STANDARD
TZOFFSETFROM:+0200
TZOFFSETTO:+0100
TZNAME:CET
DTSTART:20231029T010000
END:STANDARD
BEGIN:DAYLIGHT
TZOFFSETFROM:+0100
TZOFFSETTO:+0200
TZNAME:CEST
DTSTART:20240331T010000
END:DAYLIGHT
BEGIN:STANDARD
TZOFFSETFROM:+0200
TZOFFSETTO:+0100
TZNAME:CET
DTSTART:20241027T010000
END:STANDARD
BEGIN:DAYLIGHT
TZOFFSETFROM:+0100
TZOFFSETTO:+0200
TZNAME:CEST
DTSTART:20250330T010000
END:DAYLIGHT
BEGIN:STANDARD
TZOFFSETFROM:+0200
TZOFFSETTO:+0100
TZNAME:CET
DTSTART:20251026T010000
END:STANDARD
BEGIN:DAYLIGHT
TZOFFSETFROM:+0100
TZOFFSETTO:+0200
TZNAME:CEST
DTSTART:20260329T010000
END:DAYLIGHT
BEGIN:STANDARD
TZOFFSETFROM:+0200
TZOFFSETTO:+0100
TZNAME:CET
DTSTART:20261025T010000
END:STANDARD
END:VTIMEZONE
BEGIN:VEVENT
DTSTART;TZID=Europe/Berlin:20250905T170000
DTEND;TZID=Europe/Berlin:20250905T170000
DTSTAMP:20260419T142001
CREATED:20250803T145756Z
LAST-MODIFIED:20250803T145843Z
UID:10007035-1757091600-1757091600@www.melanchthon-hannover.de
SUMMARY:Weinfest der TimotheusStiftung
DESCRIPTION:
URL:https://www.melanchthon-hannover.de/termin/weinfest-der-timotheusstiftung/
LOCATION:Timotheus\, Kärtner Platz\, Hannover\, 30159\, Deutschland
CATEGORIES:Gemeindeveranstaltung - mal woanders
ATTACH;FMTTYPE=image/png:https://www.melanchthon-hannover.de/wp-content/uploads/2025/08/5.9-Weinfest.png
END:VEVENT
BEGIN:VEVENT
DTSTART;TZID=Europe/Berlin:20241117T100000
DTEND;TZID=Europe/Berlin:20241117T100000
DTSTAMP:20260419T142001
CREATED:20240930T201137Z
LAST-MODIFIED:20240930T201137Z
UID:10005917-1731837600-1731837600@www.melanchthon-hannover.de
SUMMARY:Jugendgottesdienst
DESCRIPTION:
URL:https://www.melanchthon-hannover.de/termin/jugendgottesdienst/
LOCATION:Timotheus\, Kärtner Platz\, Hannover\, 30159\, Deutschland
CATEGORIES:Gottesdienst - mal woanders
END:VEVENT
BEGIN:VEVENT
DTSTART;TZID=Europe/Berlin:20240520T110000
DTEND;TZID=Europe/Berlin:20240520T123000
DTSTAMP:20260419T142001
CREATED:20240330T123310Z
LAST-MODIFIED:20240330T123310Z
UID:10004469-1716202800-1716208200@www.melanchthon-hannover.de
SUMMARY:Ökomenischer Gottesdienst auf der Bernwardswiese / Döhren
DESCRIPTION:Pfingstmontag
URL:https://www.melanchthon-hannover.de/termin/oekomenischer-gottesdienst-auf-der-bernwardswiese-doehren/
LOCATION:Bernwardswiese / Döhren\, Brückstraße 26\, Hannover\, Niedersachsen\, 30519\, Deutschland
CATEGORIES:Gottesdienst - mal woanders
GEO:52.3317257;9.7497723
X-APPLE-STRUCTURED-LOCATION;VALUE=URI;X-ADDRESS=Bernwardswiese / Döhren Brückstraße 26 Hannover Niedersachsen 30519 Deutschland;X-APPLE-RADIUS=500;X-TITLE=Brückstraße 26:geo:9.7497723,52.3317257
END:VEVENT
END:VCALENDAR