BEGIN:VCALENDAR
VERSION:2.0
PRODID:-//Melanchthon-Gemeinde - ECPv6.15.20//NONSGML v1.0//EN
CALSCALE:GREGORIAN
METHOD:PUBLISH
X-WR-CALNAME:Melanchthon-Gemeinde
X-ORIGINAL-URL:https://www.melanchthon-hannover.de
X-WR-CALDESC:Veranstaltungen für Melanchthon-Gemeinde
REFRESH-INTERVAL;VALUE=DURATION:PT1H
X-Robots-Tag:noindex
X-PUBLISHED-TTL:PT1H
BEGIN:VTIMEZONE
TZID:Europe/Berlin
BEGIN:DAYLIGHT
TZOFFSETFROM:+0100
TZOFFSETTO:+0200
TZNAME:CEST
DTSTART:20220327T010000
END:DAYLIGHT
BEGIN:STANDARD
TZOFFSETFROM:+0200
TZOFFSETTO:+0100
TZNAME:CET
DTSTART:20221030T010000
END:STANDARD
BEGIN:DAYLIGHT
TZOFFSETFROM:+0100
TZOFFSETTO:+0200
TZNAME:CEST
DTSTART:20230326T010000
END:DAYLIGHT
BEGIN:STANDARD
TZOFFSETFROM:+0200
TZOFFSETTO:+0100
TZNAME:CET
DTSTART:20231029T010000
END:STANDARD
BEGIN:DAYLIGHT
TZOFFSETFROM:+0100
TZOFFSETTO:+0200
TZNAME:CEST
DTSTART:20240331T010000
END:DAYLIGHT
BEGIN:STANDARD
TZOFFSETFROM:+0200
TZOFFSETTO:+0100
TZNAME:CET
DTSTART:20241027T010000
END:STANDARD
BEGIN:DAYLIGHT
TZOFFSETFROM:+0100
TZOFFSETTO:+0200
TZNAME:CEST
DTSTART:20250330T010000
END:DAYLIGHT
BEGIN:STANDARD
TZOFFSETFROM:+0200
TZOFFSETTO:+0100
TZNAME:CET
DTSTART:20251026T010000
END:STANDARD
END:VTIMEZONE
BEGIN:VEVENT
DTSTART;TZID=Europe/Berlin:20240504T100000
DTEND;TZID=Europe/Berlin:20240504T113000
DTSTAMP:20260425T165006
CREATED:20240329T221439Z
LAST-MODIFIED:20240329T221439Z
UID:10004451-1714816800-1714822200@www.melanchthon-hannover.de
SUMMARY:Abendmahlsgottesdienst vor der Konfirmation
DESCRIPTION:
URL:https://www.melanchthon-hannover.de/termin/abendmahlsgottesdienst-vor-der-konfirmation-2/
LOCATION:Bugenhagen\, Stresemannallee 34\, Hannover\, 30173\, Deutschland
CATEGORIES:Gottesdienst - mal woanders
END:VEVENT
BEGIN:VEVENT
DTSTART;TZID=Europe/Berlin:20240414T180000
DTEND;TZID=Europe/Berlin:20240414T190000
DTSTAMP:20260425T165006
CREATED:20240329T164736Z
LAST-MODIFIED:20240329T164736Z
UID:10004437-1713117600-1713121200@www.melanchthon-hannover.de
SUMMARY:Abendgottesdienst
DESCRIPTION:Misericordias Domini
URL:https://www.melanchthon-hannover.de/termin/abendgottesdienst-5/
LOCATION:Melanchthon\, Menschingstr. 12\, Hannover\, 30173\, Deutschland
CATEGORIES:Abendgottesdienst
ATTACH;FMTTYPE=image/png:https://www.melanchthon-hannover.de/wp-content/uploads/2024/03/Abend-GD.png
END:VEVENT
BEGIN:VEVENT
DTSTART;TZID=Europe/Berlin:20240414T100000
DTEND;TZID=Europe/Berlin:20240414T113000
DTSTAMP:20260425T165006
CREATED:20240329T220813Z
LAST-MODIFIED:20240329T220813Z
UID:10004448-1713088800-1713094200@www.melanchthon-hannover.de
SUMMARY:Gottesdienst mit Abendmahl
DESCRIPTION:Misericordias Domini
URL:https://www.melanchthon-hannover.de/termin/gottesdienst-mit-abendmahl-2/
LOCATION:Bugenhagen\, Stresemannallee 34\, Hannover\, 30173\, Deutschland
CATEGORIES:Gottesdienst - mal woanders
END:VEVENT
BEGIN:VEVENT
DTSTART;TZID=Europe/Berlin:20240407T100000
DTEND;TZID=Europe/Berlin:20240407T110000
DTSTAMP:20260425T165006
CREATED:20240329T220630Z
LAST-MODIFIED:20240329T221758Z
UID:10004447-1712484000-1712487600@www.melanchthon-hannover.de
SUMMARY:Festgottesdienst zum Stiftungsjubiläum
DESCRIPTION:Quasimodogeniti \nmit Posaunenchor
URL:https://www.melanchthon-hannover.de/termin/festgottesdienst-zum-stiftungsjubilaeum/
LOCATION:Bugenhagen\, Stresemannallee 34\, Hannover\, 30173\, Deutschland
CATEGORIES:Gottesdienst - mal woanders
END:VEVENT
BEGIN:VEVENT
DTSTART;TZID=Europe/Berlin:20240329T150000
DTEND;TZID=Europe/Berlin:20240329T160000
DTSTAMP:20260425T165006
CREATED:20240125T114215Z
LAST-MODIFIED:20240125T120231Z
UID:10001688-1711724400-1711728000@www.melanchthon-hannover.de
SUMMARY:Gottesdienst am Karfreitag
DESCRIPTION:
URL:https://www.melanchthon-hannover.de/termin/karfreitag/
LOCATION:Melanchthon\, Menschingstr. 12\, Hannover\, 30173\, Deutschland
CATEGORIES:Gottesdienst
ATTACH;FMTTYPE=image/png:https://www.melanchthon-hannover.de/wp-content/uploads/2024/01/Karfreitag-2024-2.png
END:VEVENT
BEGIN:VEVENT
DTSTART;TZID=Europe/Berlin:20240211T180000
DTEND;TZID=Europe/Berlin:20240211T190000
DTSTAMP:20260425T165006
CREATED:20240123T163816Z
LAST-MODIFIED:20240123T163816Z
UID:10001310-1707674400-1707678000@www.melanchthon-hannover.de
SUMMARY:Gottesdienst
DESCRIPTION:Gottesdienst mit Vorstellung der Konfirmandinnen und Konfirmanden
URL:https://www.melanchthon-hannover.de/termin/gottesdienst-38/
LOCATION:Melanchthon\, Menschingstr. 12\, Hannover\, 30173\, Deutschland
CATEGORIES:Abendgottesdienst
ATTACH;FMTTYPE=image/png:https://www.melanchthon-hannover.de/wp-content/uploads/2024/01/GD-11.2.24.png
END:VEVENT
BEGIN:VEVENT
DTSTART;TZID=Europe/Berlin:20240121T180000
DTEND;TZID=Europe/Berlin:20240121T190000
DTSTAMP:20260425T165006
CREATED:20231209T153802Z
LAST-MODIFIED:20231209T154722Z
UID:10001134-1705860000-1705863600@www.melanchthon-hannover.de
SUMMARY:Abendgottesdienst
DESCRIPTION:3. Sonntag nach Epiphanias \n 
URL:https://www.melanchthon-hannover.de/termin/abendgottesdienst-3/
LOCATION:Melanchthon\, Menschingstr. 12\, Hannover\, 30173\, Deutschland
CATEGORIES:Abendgottesdienst
ATTACH;FMTTYPE=image/png:https://www.melanchthon-hannover.de/wp-content/uploads/2023/12/Abendgottesdienst-20240121.png
END:VEVENT
BEGIN:VEVENT
DTSTART;TZID=Europe/Berlin:20231231T170000
DTEND;TZID=Europe/Berlin:20231231T180000
DTSTAMP:20260425T165006
CREATED:20231205T173606Z
LAST-MODIFIED:20231205T181020Z
UID:10001129-1704042000-1704045600@www.melanchthon-hannover.de
SUMMARY:Altjahresabend
DESCRIPTION:
URL:https://www.melanchthon-hannover.de/termin/altjahresabend/
LOCATION:Melanchthon\, Menschingstr. 12\, Hannover\, 30173\, Deutschland
CATEGORIES:Abendgottesdienst
ATTACH;FMTTYPE=image/png:https://www.melanchthon-hannover.de/wp-content/uploads/2023/12/Altjahrsabend.png
END:VEVENT
BEGIN:VEVENT
DTSTART;TZID=Europe/Berlin:20231224T230000
DTEND;TZID=Europe/Berlin:20231224T235900
DTSTAMP:20260425T165006
CREATED:20231205T171950Z
LAST-MODIFIED:20231205T180032Z
UID:10001124-1703458800-1703462340@www.melanchthon-hannover.de
SUMMARY:Christnacht - Bugenhagen
DESCRIPTION:4. Advent – Heiligabend
URL:https://www.melanchthon-hannover.de/termin/christnacht-bugenhagen/
LOCATION:Bugenhagen\, Stresemannallee 34\, Hannover\, 30173\, Deutschland
CATEGORIES:Gottesdienst - mal woanders
ATTACH;FMTTYPE=image/png:https://www.melanchthon-hannover.de/wp-content/uploads/2023/12/Weihnachten-B.png
END:VEVENT
BEGIN:VEVENT
DTSTART;TZID=Europe/Berlin:20231224T170000
DTEND;TZID=Europe/Berlin:20231224T180000
DTSTAMP:20260425T165006
CREATED:20231205T171824Z
LAST-MODIFIED:20231209T161738Z
UID:10001123-1703437200-1703440800@www.melanchthon-hannover.de
SUMMARY:Christvesper
DESCRIPTION:4. Advent – Heiligabend
URL:https://www.melanchthon-hannover.de/termin/vesper/
LOCATION:Melanchthon\, Menschingstr. 12\, Hannover\, 30173\, Deutschland
CATEGORIES:Gottesdienst
ATTACH;FMTTYPE=image/png:https://www.melanchthon-hannover.de/wp-content/uploads/2023/12/Weihnachten-M-1.png
END:VEVENT
BEGIN:VEVENT
DTSTART;TZID=Europe/Berlin:20231224T111500
DTEND;TZID=Europe/Berlin:20231224T121500
DTSTAMP:20260425T165006
CREATED:20231205T170558Z
LAST-MODIFIED:20231209T161557Z
UID:10001121-1703416500-1703420100@www.melanchthon-hannover.de
SUMMARY:Krabbelgottesdienst
DESCRIPTION:4. Advent – Heiligabend
URL:https://www.melanchthon-hannover.de/termin/krabbelgottesdienst/
LOCATION:Melanchthon\, Menschingstr. 12\, Hannover\, 30173\, Deutschland
CATEGORIES:Kindergottesdienst
ATTACH;FMTTYPE=image/png:https://www.melanchthon-hannover.de/wp-content/uploads/2023/12/Weihnachten-M-1.png
END:VEVENT
BEGIN:VEVENT
DTSTART;TZID=Europe/Berlin:20231217T180000
DTEND;TZID=Europe/Berlin:20231217T190000
DTSTAMP:20260425T165006
CREATED:20231205T155555Z
LAST-MODIFIED:20231205T175610Z
UID:10001120-1702836000-1702839600@www.melanchthon-hannover.de
SUMMARY:Gottesdienst - Wohnzimmerkirche
DESCRIPTION:3. Advent – Wohnzimmerkirche
URL:https://www.melanchthon-hannover.de/termin/gottesdienst-wohnzimmerkirche-2/
LOCATION:Melanchthon\, Menschingstr. 12\, Hannover\, 30173\, Deutschland
CATEGORIES:Abendgottesdienst
ATTACH;FMTTYPE=image/png:https://www.melanchthon-hannover.de/wp-content/uploads/2023/12/3.-Advent.png
END:VEVENT
BEGIN:VEVENT
DTSTART;TZID=Europe/Berlin:20231210T180000
DTEND;TZID=Europe/Berlin:20231210T190000
DTSTAMP:20260425T165006
CREATED:20231205T155106Z
LAST-MODIFIED:20231207T150438Z
UID:10001118-1702231200-1702234800@www.melanchthon-hannover.de
SUMMARY:Gottesdienst - Wohnzimmerkirche
DESCRIPTION:2. Advent – Wohnzimmerkirche
URL:https://www.melanchthon-hannover.de/termin/gottesdienst-wohnzimmerkirche/
LOCATION:Melanchthon\, Menschingstr. 12\, Hannover\, 30173\, Deutschland
CATEGORIES:Abendgottesdienst
ATTACH;FMTTYPE=image/png:https://www.melanchthon-hannover.de/wp-content/uploads/2023/12/2.-Advent-1.png
END:VEVENT
BEGIN:VEVENT
DTSTART;TZID=Europe/Berlin:20231126T180000
DTEND;TZID=Europe/Berlin:20231126T193000
DTSTAMP:20260425T165006
CREATED:20230926T130133Z
LAST-MODIFIED:20230926T130838Z
UID:10001116-1701021600-1701027000@www.melanchthon-hannover.de
SUMMARY:Gottesdienst
DESCRIPTION:
URL:https://www.melanchthon-hannover.de/termin/gottesdienst-32/
LOCATION:Melanchthon\, Menschingstr. 12\, Hannover\, 30173\, Deutschland
CATEGORIES:Abendgottesdienst
ATTACH;FMTTYPE=image/png:https://www.melanchthon-hannover.de/wp-content/uploads/2023/09/Ewigkeits-GD-26.11.23.png
END:VEVENT
BEGIN:VEVENT
DTSTART;TZID=Europe/Berlin:20231126T100000
DTEND;TZID=Europe/Berlin:20231126T110000
DTSTAMP:20260425T165006
CREATED:20230926T130006Z
LAST-MODIFIED:20230926T130027Z
UID:10001115-1700992800-1700996400@www.melanchthon-hannover.de
SUMMARY:Gottesdienst
DESCRIPTION:Ewigkeitssonntag
URL:https://www.melanchthon-hannover.de/termin/gottesdienst-31/
LOCATION:Bugenhagen\, Stresemannallee 34\, Hannover\, 30173\, Deutschland
CATEGORIES:Gottesdienst - mal woanders
END:VEVENT
BEGIN:VEVENT
DTSTART;TZID=Europe/Berlin:20231122T180000
DTEND;TZID=Europe/Berlin:20231122T193000
DTSTAMP:20260425T165006
CREATED:20230926T125856Z
LAST-MODIFIED:20230926T125856Z
UID:10001114-1700676000-1700681400@www.melanchthon-hannover.de
SUMMARY:Gottesdienst
DESCRIPTION:Buß- und Bettag
URL:https://www.melanchthon-hannover.de/termin/gottesdienst-30/
LOCATION:Bugenhagen\, Stresemannallee 34\, Hannover\, 30173\, Deutschland
CATEGORIES:Gottesdienst - mal woanders
END:VEVENT
BEGIN:VEVENT
DTSTART;TZID=Europe/Berlin:20231029T100000
DTEND;TZID=Europe/Berlin:20231029T110000
DTSTAMP:20260425T165006
CREATED:20230926T124037Z
LAST-MODIFIED:20230926T124037Z
UID:10001107-1698573600-1698577200@www.melanchthon-hannover.de
SUMMARY:Gottesdienst
DESCRIPTION:
URL:https://www.melanchthon-hannover.de/termin/gottesdienst-25/
LOCATION:Bugenhagen\, Stresemannallee 34\, Hannover\, 30173\, Deutschland
CATEGORIES:Gottesdienst - mal woanders
END:VEVENT
BEGIN:VEVENT
DTSTART;TZID=Europe/Berlin:20231008T100000
DTEND;TZID=Europe/Berlin:20231008T110000
DTSTAMP:20260425T165006
CREATED:20230926T123343Z
LAST-MODIFIED:20230926T123343Z
UID:10001104-1696759200-1696762800@www.melanchthon-hannover.de
SUMMARY:Gottesdienst
DESCRIPTION:Familiengottesdienst
URL:https://www.melanchthon-hannover.de/termin/gottesdienst-22/
LOCATION:Bugenhagen\, Stresemannallee 34\, Hannover\, 30173\, Deutschland
CATEGORIES:Gottesdienst - mal woanders
END:VEVENT
BEGIN:VEVENT
DTSTART;TZID=Europe/Berlin:20231007T123000
DTEND;TZID=Europe/Berlin:20231007T133000
DTSTAMP:20260425T165006
CREATED:20230926T122635Z
LAST-MODIFIED:20230926T125036Z
UID:10001102-1696681800-1696685400@www.melanchthon-hannover.de
SUMMARY:Erntedank-Gottesdienst
DESCRIPTION:Erntedank auf dem Bauernmarkt – Anschließend Suppe für Alle.
URL:https://www.melanchthon-hannover.de/termin/erntedank-gottesdienst/
LOCATION:Melanchthon – Open Air\, Menschingstr. 12\, Hannover\, 30173\, Deutschland
CATEGORIES:Gottesdienst
ATTACH;FMTTYPE=image/png:https://www.melanchthon-hannover.de/wp-content/uploads/2023/09/Erntedank-GD-7.10.23.png
END:VEVENT
BEGIN:VEVENT
DTSTART;TZID=Europe/Berlin:20230917T200000
DTEND;TZID=Europe/Berlin:20230917T210000
DTSTAMP:20260425T165006
CREATED:20230910T085305Z
LAST-MODIFIED:20230910T085305Z
UID:10000056-1694980800-1694984400@www.melanchthon-hannover.de
SUMMARY:Stiftungsgottesdienst
DESCRIPTION:mit der Melanchthon-Bult-Stiftung
URL:https://www.melanchthon-hannover.de/termin/stiftungsgottesdienst/
LOCATION:Melanchthon\, Menschingstr. 12\, Hannover\, 30173\, Deutschland
CATEGORIES:Abendgottesdienst
ATTACH;FMTTYPE=image/png:https://www.melanchthon-hannover.de/wp-content/uploads/2023/09/Stiftungs-GD-17.9.23.png
END:VEVENT
BEGIN:VEVENT
DTSTART;TZID=Europe/Berlin:20230716T120000
DTEND;TZID=Europe/Berlin:20230716T130000
DTSTAMP:20260425T165006
CREATED:20230530T162955Z
LAST-MODIFIED:20230530T162955Z
UID:10000047-1689508800-1689512400@www.melanchthon-hannover.de
SUMMARY:Gottesdienst
DESCRIPTION:mit Abendmahl
URL:https://www.melanchthon-hannover.de/termin/gottesdienst-16/
LOCATION:Melanchthon\, Menschingstr. 12\, Hannover\, 30173\, Deutschland
CATEGORIES:Gottesdienst
END:VEVENT
BEGIN:VEVENT
DTSTART;TZID=Europe/Berlin:20230709T120000
DTEND;TZID=Europe/Berlin:20230709T130000
DTSTAMP:20260425T165006
CREATED:20230530T162827Z
LAST-MODIFIED:20230530T162827Z
UID:10000046-1688904000-1688907600@www.melanchthon-hannover.de
SUMMARY:Familiengottesdienst
DESCRIPTION:
URL:https://www.melanchthon-hannover.de/termin/familiengottesdienst/
LOCATION:Bugenhagen\, Stresemannallee 34\, Hannover\, 30173\, Deutschland
CATEGORIES:Gottesdienst - mal woanders
END:VEVENT
BEGIN:VEVENT
DTSTART;TZID=Europe/Berlin:20230702T130000
DTEND;TZID=Europe/Berlin:20230702T140000
DTSTAMP:20260425T165006
CREATED:20230530T162640Z
LAST-MODIFIED:20230530T162641Z
UID:10000045-1688302800-1688306400@www.melanchthon-hannover.de
SUMMARY:Gottesdienst zum Bultfest
DESCRIPTION:Open Air
URL:https://www.melanchthon-hannover.de/termin/gottesdienst-zum-bultfest/
LOCATION:Melanchthon – Open Air\, Menschingstr. 12\, Hannover\, 30173\, Deutschland
CATEGORIES:Gottesdienst
ATTACH;FMTTYPE=image/png:https://www.melanchthon-hannover.de/wp-content/uploads/2023/05/GD-Bultfest-2.7.23.png
END:VEVENT
BEGIN:VEVENT
DTSTART;TZID=Europe/Berlin:20230617T160000
DTEND;TZID=Europe/Berlin:20230617T170000
DTSTAMP:20260425T165006
CREATED:20230530T161020Z
LAST-MODIFIED:20230530T162716Z
UID:10000038-1687017600-1687021200@www.melanchthon-hannover.de
SUMMARY:Tauffest am Maschsee
DESCRIPTION:
URL:https://www.melanchthon-hannover.de/termin/tauffest-am-maschsee/
CATEGORIES:Gottesdienst - mal woanders
END:VEVENT
BEGIN:VEVENT
DTSTART;TZID=Europe/Berlin:20230611T200000
DTEND;TZID=Europe/Berlin:20230611T210000
DTSTAMP:20260425T165006
CREATED:20230530T160901Z
LAST-MODIFIED:20230530T161819Z
UID:10000043-1686513600-1686517200@www.melanchthon-hannover.de
SUMMARY:Abendgottesdienst
DESCRIPTION:
URL:https://www.melanchthon-hannover.de/termin/abendgottesdienst/
LOCATION:Melanchthon\, Menschingstr. 12\, Hannover\, 30173\, Deutschland
CATEGORIES:Abendgottesdienst
ATTACH;FMTTYPE=image/png:https://www.melanchthon-hannover.de/wp-content/uploads/2023/05/Abend-GD-11.6.23.png
END:VEVENT
BEGIN:VEVENT
DTSTART;TZID=Europe/Berlin:20230611T120000
DTEND;TZID=Europe/Berlin:20230611T130000
DTSTAMP:20260425T165006
CREATED:20230530T160742Z
LAST-MODIFIED:20230530T161845Z
UID:10000039-1686484800-1686488400@www.melanchthon-hannover.de
SUMMARY:Gottesdienst
DESCRIPTION:
URL:https://www.melanchthon-hannover.de/termin/gottesdienst-13/
LOCATION:Bugenhagen\, Stresemannallee 34\, Hannover\, 30173\, Deutschland
CATEGORIES:Gottesdienst - mal woanders
END:VEVENT
BEGIN:VEVENT
DTSTART;TZID=Europe/Berlin:20230507T120000
DTEND;TZID=Europe/Berlin:20230507T133000
DTSTAMP:20260425T165006
CREATED:20230401T170907Z
LAST-MODIFIED:20230405T201057Z
UID:10000022-1683460800-1683466200@www.melanchthon-hannover.de
SUMMARY:Gottesdienst
DESCRIPTION:Kantate \nKonfirmation
URL:https://www.melanchthon-hannover.de/termin/gottesdienst-9/
LOCATION:Melanchthon\, Menschingstr. 12\, Hannover\, 30173\, Deutschland
CATEGORIES:Gottesdienst
END:VEVENT
BEGIN:VEVENT
DTSTART;TZID=Europe/Berlin:20230416T120000
DTEND;TZID=Europe/Berlin:20230416T130000
DTSTAMP:20260425T165006
CREATED:20230401T170314Z
LAST-MODIFIED:20230405T200837Z
UID:10000018-1681646400-1681650000@www.melanchthon-hannover.de
SUMMARY:Gottesdienst-Bugenhagen
DESCRIPTION:Quasimodogeniti
URL:https://www.melanchthon-hannover.de/termin/gottesdienst-6/
LOCATION:Bugenhagen\, Stresemannallee 34\, Hannover\, 30173\, Deutschland
CATEGORIES:Gottesdienst - mal woanders
END:VEVENT
BEGIN:VEVENT
DTSTART;TZID=Europe/Berlin:20230407T170000
DTEND;TZID=Europe/Berlin:20230407T180000
DTSTAMP:20260425T165006
CREATED:20230401T163130Z
LAST-MODIFIED:20230405T195301Z
UID:10000014-1680886800-1680890400@www.melanchthon-hannover.de
SUMMARY:Gottesdienst
DESCRIPTION:Karfreitag \nmit Musik aus der Johannes- und Matthäuspassion von Johann Sebastian Bach
URL:https://www.melanchthon-hannover.de/termin/gottesdienst-3/
LOCATION:Melanchthon\, Menschingstr. 12\, Hannover\, 30173\, Deutschland
CATEGORIES:Gottesdienst
ATTACH;FMTTYPE=image/png:https://www.melanchthon-hannover.de/wp-content/uploads/2023/04/Karfreitag-2023.png
END:VEVENT
BEGIN:VEVENT
DTSTART;TZID=Europe/Berlin:20230406T170000
DTEND;TZID=Europe/Berlin:20230406T183000
DTSTAMP:20260425T165006
CREATED:20230401T162850Z
LAST-MODIFIED:20230405T174036Z
UID:10000015-1680800400-1680805800@www.melanchthon-hannover.de
SUMMARY:Gottesdienst-Bugenhagen
DESCRIPTION:Gründonnerstag \nGottesdienst mit Tisch-Abendmahl
URL:https://www.melanchthon-hannover.de/termin/gottesdienst-2/
LOCATION:Bugenhagen\, Stresemannallee 34\, Hannover\, 30173\, Deutschland
CATEGORIES:Gottesdienst - mal woanders
END:VEVENT
END:VCALENDAR