BEGIN:VCALENDAR
VERSION:2.0
PRODID:-//Melanchthon-Gemeinde - ECPv6.15.20//NONSGML v1.0//EN
CALSCALE:GREGORIAN
METHOD:PUBLISH
X-ORIGINAL-URL:https://www.melanchthon-hannover.de
X-WR-CALDESC:Veranstaltungen für Melanchthon-Gemeinde
REFRESH-INTERVAL;VALUE=DURATION:PT1H
X-Robots-Tag:noindex
X-PUBLISHED-TTL:PT1H
BEGIN:VTIMEZONE
TZID:Europe/Berlin
BEGIN:DAYLIGHT
TZOFFSETFROM:+0100
TZOFFSETTO:+0200
TZNAME:CEST
DTSTART:20230326T010000
END:DAYLIGHT
BEGIN:STANDARD
TZOFFSETFROM:+0200
TZOFFSETTO:+0100
TZNAME:CET
DTSTART:20231029T010000
END:STANDARD
BEGIN:DAYLIGHT
TZOFFSETFROM:+0100
TZOFFSETTO:+0200
TZNAME:CEST
DTSTART:20240331T010000
END:DAYLIGHT
BEGIN:STANDARD
TZOFFSETFROM:+0200
TZOFFSETTO:+0100
TZNAME:CET
DTSTART:20241027T010000
END:STANDARD
BEGIN:DAYLIGHT
TZOFFSETFROM:+0100
TZOFFSETTO:+0200
TZNAME:CEST
DTSTART:20250330T010000
END:DAYLIGHT
BEGIN:STANDARD
TZOFFSETFROM:+0200
TZOFFSETTO:+0100
TZNAME:CET
DTSTART:20251026T010000
END:STANDARD
BEGIN:DAYLIGHT
TZOFFSETFROM:+0100
TZOFFSETTO:+0200
TZNAME:CEST
DTSTART:20260329T010000
END:DAYLIGHT
BEGIN:STANDARD
TZOFFSETFROM:+0200
TZOFFSETTO:+0100
TZNAME:CET
DTSTART:20261025T010000
END:STANDARD
END:VTIMEZONE
BEGIN:VEVENT
DTSTART;TZID=Europe/Berlin:20250309T180000
DTEND;TZID=Europe/Berlin:20250309T190000
DTSTAMP:20260425T135557
CREATED:20250121T185432Z
LAST-MODIFIED:20250121T194530Z
UID:10006350-1741543200-1741546800@www.melanchthon-hannover.de
SUMMARY:Abendgottesdienst
DESCRIPTION:
URL:https://www.melanchthon-hannover.de/termin/abendgottesdienst-11/
LOCATION:Melanchthon\, Menschingstr. 12\, Hannover\, 30173\, Deutschland
CATEGORIES:Abendgottesdienst
ATTACH;FMTTYPE=image/png:https://www.melanchthon-hannover.de/wp-content/uploads/2025/01/9.3.-Abendgottesdienst-Claudia.png
END:VEVENT
BEGIN:VEVENT
DTSTART;TZID=Europe/Berlin:20250216T170000
DTEND;TZID=Europe/Berlin:20250216T183000
DTSTAMP:20260425T135557
CREATED:20250121T184905Z
LAST-MODIFIED:20250121T190252Z
UID:10006345-1739725200-1739730600@www.melanchthon-hannover.de
SUMMARY:Regionalgottesdienst
DESCRIPTION:Kirchentagssonntag mit Superintendenten Riedel
URL:https://www.melanchthon-hannover.de/termin/regionalgottesdienst-7/
LOCATION:Melanchthon\, Menschingstr. 12\, Hannover\, 30173\, Deutschland
CATEGORIES:Gottesdienst
ATTACH;FMTTYPE=image/png:https://www.melanchthon-hannover.de/wp-content/uploads/2025/01/Regionalgottesdienst.png
END:VEVENT
BEGIN:VEVENT
DTSTART;TZID=Europe/Berlin:20250209T180000
DTEND;TZID=Europe/Berlin:20250209T190000
DTSTAMP:20260425T135557
CREATED:20250105T171523Z
LAST-MODIFIED:20250207T104241Z
UID:10006342-1739124000-1739127600@www.melanchthon-hannover.de
SUMMARY:Abendgottesdienst
DESCRIPTION:
URL:https://www.melanchthon-hannover.de/termin/abendgottesdienst-10/
LOCATION:Melanchthon\, Menschingstr. 12\, Hannover\, 30173\, Deutschland
CATEGORIES:Abendgottesdienst
ATTACH;FMTTYPE=image/png:https://www.melanchthon-hannover.de/wp-content/uploads/2025/02/Abendgottesdienst-Claudia-2.png
END:VEVENT
BEGIN:VEVENT
DTSTART;TZID=Europe/Berlin:20250112T180000
DTEND;TZID=Europe/Berlin:20250112T190000
DTSTAMP:20260425T135557
CREATED:20241122T190115Z
LAST-MODIFIED:20241123T171354Z
UID:10005932-1736704800-1736708400@www.melanchthon-hannover.de
SUMMARY:Abendgottesdienst
DESCRIPTION:
URL:https://www.melanchthon-hannover.de/termin/abendgottesdienst-9/
LOCATION:Melanchthon\, Menschingstr. 12\, Hannover\, 30173\, Deutschland
CATEGORIES:Gottesdienst
ATTACH;FMTTYPE=image/png:https://www.melanchthon-hannover.de/wp-content/uploads/2024/11/Abendgottesdienst-Claudia.png
END:VEVENT
BEGIN:VEVENT
DTSTART;TZID=Europe/Berlin:20241231T170000
DTEND;TZID=Europe/Berlin:20241231T180000
DTSTAMP:20260425T135557
CREATED:20241122T185500Z
LAST-MODIFIED:20241123T002447Z
UID:10005929-1735664400-1735668000@www.melanchthon-hannover.de
SUMMARY:Gottesdienst
DESCRIPTION:Altjahrsabend
URL:https://www.melanchthon-hannover.de/termin/gottesdienst-60/
LOCATION:Melanchthon\, Menschingstr. 12\, Hannover\, 30173\, Deutschland
CATEGORIES:Gottesdienst
ATTACH;FMTTYPE=image/png:https://www.melanchthon-hannover.de/wp-content/uploads/2024/11/Altjahrsabend.png
END:VEVENT
BEGIN:VEVENT
DTSTART;TZID=Europe/Berlin:20241224T170000
DTEND;TZID=Europe/Berlin:20241224T180000
DTSTAMP:20260425T135557
CREATED:20241122T185233Z
LAST-MODIFIED:20241224T144251Z
UID:10005927-1735059600-1735063200@www.melanchthon-hannover.de
SUMMARY:Christvesper
DESCRIPTION:Heiligabend
URL:https://www.melanchthon-hannover.de/termin/christvesper/
LOCATION:Melanchthon\, Menschingstr. 12\, Hannover\, 30173\, Deutschland
CATEGORIES:Gottesdienst
ATTACH;FMTTYPE=image/png:https://www.melanchthon-hannover.de/wp-content/uploads/2024/12/HeiligabendM.png
END:VEVENT
BEGIN:VEVENT
DTSTART;TZID=Europe/Berlin:20241224T111500
DTEND;TZID=Europe/Berlin:20241224T120000
DTSTAMP:20260425T135557
CREATED:20241122T184959Z
LAST-MODIFIED:20241224T144326Z
UID:10005925-1735038900-1735041600@www.melanchthon-hannover.de
SUMMARY:Krabbelgottesdienst
DESCRIPTION:Heiligabend
URL:https://www.melanchthon-hannover.de/termin/krabbelgottesdienst-2/
LOCATION:Melanchthon\, Menschingstr. 12\, Hannover\, 30173\, Deutschland
CATEGORIES:Kindergottesdienst
ATTACH;FMTTYPE=image/png:https://www.melanchthon-hannover.de/wp-content/uploads/2024/12/HeiligabendM.png
END:VEVENT
BEGIN:VEVENT
DTSTART;TZID=Europe/Berlin:20241215T180000
DTEND;TZID=Europe/Berlin:20241215T193000
DTSTAMP:20260425T135557
CREATED:20241122T184622Z
LAST-MODIFIED:20241123T000320Z
UID:10005923-1734285600-1734291000@www.melanchthon-hannover.de
SUMMARY:Wohnzimmerkirche
DESCRIPTION:3. Advent
URL:https://www.melanchthon-hannover.de/termin/wohnzimmerkirche-3/
LOCATION:Melanchthon\, Menschingstr. 12\, Hannover\, 30173\, Deutschland
CATEGORIES:Gottesdienst
ATTACH;FMTTYPE=image/png:https://www.melanchthon-hannover.de/wp-content/uploads/2024/11/Wohnzimmerkirche.png
END:VEVENT
BEGIN:VEVENT
DTSTART;TZID=Europe/Berlin:20241124T180000
DTEND;TZID=Europe/Berlin:20241124T190000
DTSTAMP:20260425T135557
CREATED:20240926T153935Z
LAST-MODIFIED:20241001T191631Z
UID:10005895-1732471200-1732474800@www.melanchthon-hannover.de
SUMMARY:Gottesdienst
DESCRIPTION:Ewigkeitssonntag
URL:https://www.melanchthon-hannover.de/termin/gottesdienst-52/
LOCATION:Melanchthon\, Menschingstr. 12\, Hannover\, 30173\, Deutschland
CATEGORIES:Abendgottesdienst
ATTACH;FMTTYPE=image/png:https://www.melanchthon-hannover.de/wp-content/uploads/2024/10/Ewigkeitssonntag-in-Melanchthon-2.png
END:VEVENT
BEGIN:VEVENT
DTSTART;TZID=Europe/Berlin:20241110T170000
DTEND;TZID=Europe/Berlin:20241110T183000
DTSTAMP:20260425T135557
CREATED:20240926T152922Z
LAST-MODIFIED:20241001T191541Z
UID:10005891-1731258000-1731263400@www.melanchthon-hannover.de
SUMMARY:St. Martin als Familiengottesdienst
DESCRIPTION:mit Laternenumzug
URL:https://www.melanchthon-hannover.de/termin/st-martin-als-familiengottesdienst/
LOCATION:Melanchthon\, Menschingstr. 12\, Hannover\, 30173\, Deutschland
CATEGORIES:Gottesdienst
ATTACH;FMTTYPE=image/png:https://www.melanchthon-hannover.de/wp-content/uploads/2024/10/St.-Martin-in-Melanchthon-2.png
END:VEVENT
BEGIN:VEVENT
DTSTART;TZID=Europe/Berlin:20241013T180000
DTEND;TZID=Europe/Berlin:20241013T190000
DTSTAMP:20260425T135557
CREATED:20240926T151706Z
LAST-MODIFIED:20240926T154051Z
UID:10005885-1728842400-1728846000@www.melanchthon-hannover.de
SUMMARY:Gottesdienst
DESCRIPTION:
URL:https://www.melanchthon-hannover.de/termin/gottesdienst-51/
LOCATION:Melanchthon\, Menschingstr. 12\, Hannover\, 30173\, Deutschland
CATEGORIES:Abendgottesdienst
END:VEVENT
BEGIN:VEVENT
DTSTART;TZID=Europe/Berlin:20240929T180000
DTEND;TZID=Europe/Berlin:20240929T193000
DTSTAMP:20260425T135557
CREATED:20240724T151859Z
LAST-MODIFIED:20240724T151859Z
UID:10005883-1727632800-1727638200@www.melanchthon-hannover.de
SUMMARY:Wohnzimmerkirche
DESCRIPTION:
URL:https://www.melanchthon-hannover.de/termin/wohnzimmerkirche-2/
LOCATION:Melanchthon\, Menschingstr. 12\, Hannover\, 30173\, Deutschland
CATEGORIES:Abendgottesdienst
ATTACH;FMTTYPE=image/png:https://www.melanchthon-hannover.de/wp-content/uploads/2024/07/Wohnzimmerkirche-2.png
END:VEVENT
BEGIN:VEVENT
DTSTART;TZID=Europe/Berlin:20240915T180000
DTEND;TZID=Europe/Berlin:20240915T190000
DTSTAMP:20260425T135557
CREATED:20240724T150406Z
LAST-MODIFIED:20240724T150406Z
UID:10005882-1726423200-1726426800@www.melanchthon-hannover.de
SUMMARY:Abendgottesdienst
DESCRIPTION:
URL:https://www.melanchthon-hannover.de/termin/abendgottesdienst-8/
LOCATION:Melanchthon\, Menschingstr. 12\, Hannover\, 30173\, Deutschland
CATEGORIES:Abendgottesdienst
ATTACH;FMTTYPE=image/png:https://www.melanchthon-hannover.de/wp-content/uploads/2024/07/Abend-GD-CM.png
END:VEVENT
BEGIN:VEVENT
DTSTART;TZID=Europe/Berlin:20240818T110000
DTEND;TZID=Europe/Berlin:20240818T120000
DTSTAMP:20260425T135557
CREATED:20240724T144604Z
LAST-MODIFIED:20240724T144604Z
UID:10005879-1723978800-1723982400@www.melanchthon-hannover.de
SUMMARY:Bultfest Gottesdienst
DESCRIPTION:
URL:https://www.melanchthon-hannover.de/termin/bultfest-gottesdienst/
LOCATION:Melanchthon – Open Air\, Menschingstr. 12\, Hannover\, 30173\, Deutschland
CATEGORIES:Gottesdienst
ATTACH;FMTTYPE=image/png:https://www.melanchthon-hannover.de/wp-content/uploads/2024/07/Bultfest-GD-2024.png
END:VEVENT
BEGIN:VEVENT
DTSTART;TZID=Europe/Berlin:20240811T180000
DTEND;TZID=Europe/Berlin:20240811T190000
DTSTAMP:20260425T135557
CREATED:20240724T143913Z
LAST-MODIFIED:20240724T143914Z
UID:10005878-1723399200-1723402800@www.melanchthon-hannover.de
SUMMARY:Abendgottesdienst
DESCRIPTION:
URL:https://www.melanchthon-hannover.de/termin/abendgottesdienst-7/
LOCATION:Melanchthon\, Menschingstr. 12\, Hannover\, 30173\, Deutschland
CATEGORIES:Abendgottesdienst
ATTACH;FMTTYPE=image/png:https://www.melanchthon-hannover.de/wp-content/uploads/2024/07/Abend-GD-CM.png
END:VEVENT
BEGIN:VEVENT
DTSTART;TZID=Europe/Berlin:20240721T100000
DTEND;TZID=Europe/Berlin:20240721T113000
DTSTAMP:20260425T135557
CREATED:20240529T123033Z
LAST-MODIFIED:20240529T123033Z
UID:10004859-1721556000-1721561400@www.melanchthon-hannover.de
SUMMARY:Regionale Sommerkirche
DESCRIPTION:
URL:https://www.melanchthon-hannover.de/termin/regionale-sommerkirche-5/
LOCATION:Timotheus\, Kärtner Platz\, Hannover\, 30159\, Deutschland
CATEGORIES:Gottesdienst - mal woanders
ATTACH;FMTTYPE=image/png:https://www.melanchthon-hannover.de/wp-content/uploads/2024/05/Sommerkirche-in-Timotheus.png
END:VEVENT
BEGIN:VEVENT
DTSTART;TZID=Europe/Berlin:20240616T180000
DTEND;TZID=Europe/Berlin:20240616T190000
DTSTAMP:20260425T135557
CREATED:20240529T084947Z
LAST-MODIFIED:20240529T131003Z
UID:10004480-1718560800-1718564400@www.melanchthon-hannover.de
SUMMARY:Gottesdienst mit Verabschiedung des alten und Einführung des neuen Kirchenvorstandes
DESCRIPTION:
URL:https://www.melanchthon-hannover.de/termin/gottesdienst-mit-verabschiedung-des-alten-und-einfuehrung-des-neuen-kirchenvorstandes/
LOCATION:Melanchthon\, Menschingstr. 12\, Hannover\, 30173\, Deutschland
CATEGORIES:Gottesdienst
ATTACH;FMTTYPE=image/png:https://www.melanchthon-hannover.de/wp-content/uploads/2024/05/GD-16.6.24-KV-2.png
END:VEVENT
BEGIN:VEVENT
DTSTART;TZID=Europe/Berlin:20240526T180000
DTEND;TZID=Europe/Berlin:20240526T193000
DTSTAMP:20260425T135557
CREATED:20240329T220425Z
LAST-MODIFIED:20240329T220425Z
UID:10004446-1716746400-1716751800@www.melanchthon-hannover.de
SUMMARY:Wohnzimmerkirche
DESCRIPTION:Trinitatis
URL:https://www.melanchthon-hannover.de/termin/wohnzimmerkirche/
LOCATION:Melanchthon\, Menschingstr. 12\, Hannover\, 30173\, Deutschland
CATEGORIES:Gottesdienst
ATTACH;FMTTYPE=image/png:https://www.melanchthon-hannover.de/wp-content/uploads/2024/03/Wohnzimmerkirche.png
END:VEVENT
BEGIN:VEVENT
DTSTART;TZID=Europe/Berlin:20240526T110000
DTEND;TZID=Europe/Berlin:20240526T123000
DTSTAMP:20260425T135557
CREATED:20240330T084746Z
LAST-MODIFIED:20240330T084746Z
UID:10004454-1716721200-1716726600@www.melanchthon-hannover.de
SUMMARY:Gottesdienst zum Gemeindefest
DESCRIPTION:mit Begrüßung der neuen Konfis. \nTrinitatis \nMit Kirchenmusiker Pflume\, KIKIMU Kinderchor\, Bugenhagen-Chor & Posaunenchor.
URL:https://www.melanchthon-hannover.de/termin/gottesdienst-zum-gemeindefest/
LOCATION:Bugenhagen\, Stresemannallee 34\, Hannover\, 30173\, Deutschland
CATEGORIES:Gottesdienst - mal woanders
END:VEVENT
BEGIN:VEVENT
DTSTART;TZID=Europe/Berlin:20240519T100000
DTEND;TZID=Europe/Berlin:20240519T113000
DTSTAMP:20260425T135557
CREATED:20240329T172240Z
LAST-MODIFIED:20240329T172240Z
UID:10004444-1716112800-1716118200@www.melanchthon-hannover.de
SUMMARY:Gottesdienst
DESCRIPTION:Pfingssonntag
URL:https://www.melanchthon-hannover.de/termin/gottesdienst-45/
LOCATION:Melanchthon\, Menschingstr. 12\, Hannover\, 30173\, Deutschland
CATEGORIES:Gottesdienst
ATTACH;FMTTYPE=image/png:https://www.melanchthon-hannover.de/wp-content/uploads/2024/03/GD-Pfingssonntag-2024.png
END:VEVENT
BEGIN:VEVENT
DTSTART;TZID=Europe/Berlin:20240512T100000
DTEND;TZID=Europe/Berlin:20240512T120000
DTSTAMP:20260425T135557
CREATED:20240329T171639Z
LAST-MODIFIED:20240329T171648Z
UID:10004443-1715508000-1715515200@www.melanchthon-hannover.de
SUMMARY:Konfirmation
DESCRIPTION:Exaudi
URL:https://www.melanchthon-hannover.de/termin/konfirmation/
LOCATION:Melanchthon\, Menschingstr. 12\, Hannover\, 30173\, Deutschland
CATEGORIES:Gottesdienst
ATTACH;FMTTYPE=image/png:https://www.melanchthon-hannover.de/wp-content/uploads/2024/03/Konfirmation-2024.png
END:VEVENT
BEGIN:VEVENT
DTSTART;TZID=Europe/Berlin:20240511T180000
DTEND;TZID=Europe/Berlin:20240511T193000
DTSTAMP:20260425T135557
CREATED:20240329T171520Z
LAST-MODIFIED:20240329T171521Z
UID:10004442-1715450400-1715455800@www.melanchthon-hannover.de
SUMMARY:Abendmahlsgottesdienst vor der Konfirmation
DESCRIPTION:
URL:https://www.melanchthon-hannover.de/termin/abendmahlsgottesdienst-vor-der-konfirmation/
LOCATION:Melanchthon\, Menschingstr. 12\, Hannover\, 30173\, Deutschland
CATEGORIES:Abendgottesdienst
ATTACH;FMTTYPE=image/png:https://www.melanchthon-hannover.de/wp-content/uploads/2024/03/Konfirmation-2024.png
END:VEVENT
BEGIN:VEVENT
DTSTART;TZID=Europe/Berlin:20240509T100000
DTEND;TZID=Europe/Berlin:20240509T110000
DTSTAMP:20260425T135557
CREATED:20240329T171034Z
LAST-MODIFIED:20240329T171034Z
UID:10004441-1715248800-1715252400@www.melanchthon-hannover.de
SUMMARY:Familiengottesdienst auf der Hoppenstedtwiese
DESCRIPTION:Himmelfahrt
URL:https://www.melanchthon-hannover.de/termin/familiengottesdienst-auf-der-hoppenstedtwiese/
LOCATION:Hoppenstedtwiese\, Hoppenstedtstraße 15\,\, Hannover\, 30173\, Deutschland
CATEGORIES:Gottesdienst - mal woanders
END:VEVENT
BEGIN:VEVENT
DTSTART;TZID=Europe/Berlin:20240505T100000
DTEND;TZID=Europe/Berlin:20240505T113000
DTSTAMP:20260425T135557
CREATED:20240329T221651Z
LAST-MODIFIED:20240330T130637Z
UID:10004452-1714903200-1714908600@www.melanchthon-hannover.de
SUMMARY:Konfirmation
DESCRIPTION:Rogate\nmit Bugenhagenchor
URL:https://www.melanchthon-hannover.de/termin/konfirmation-2/
LOCATION:Bugenhagen\, Stresemannallee 34\, Hannover\, 30173\, Deutschland
CATEGORIES:Gottesdienst - mal woanders
END:VEVENT
BEGIN:VEVENT
DTSTART;TZID=Europe/Berlin:20240504T100000
DTEND;TZID=Europe/Berlin:20240504T113000
DTSTAMP:20260425T135557
CREATED:20240329T221439Z
LAST-MODIFIED:20240329T221439Z
UID:10004451-1714816800-1714822200@www.melanchthon-hannover.de
SUMMARY:Abendmahlsgottesdienst vor der Konfirmation
DESCRIPTION:
URL:https://www.melanchthon-hannover.de/termin/abendmahlsgottesdienst-vor-der-konfirmation-2/
LOCATION:Bugenhagen\, Stresemannallee 34\, Hannover\, 30173\, Deutschland
CATEGORIES:Gottesdienst - mal woanders
END:VEVENT
BEGIN:VEVENT
DTSTART;TZID=Europe/Berlin:20240414T180000
DTEND;TZID=Europe/Berlin:20240414T190000
DTSTAMP:20260425T135557
CREATED:20240329T164736Z
LAST-MODIFIED:20240329T164736Z
UID:10004437-1713117600-1713121200@www.melanchthon-hannover.de
SUMMARY:Abendgottesdienst
DESCRIPTION:Misericordias Domini
URL:https://www.melanchthon-hannover.de/termin/abendgottesdienst-5/
LOCATION:Melanchthon\, Menschingstr. 12\, Hannover\, 30173\, Deutschland
CATEGORIES:Abendgottesdienst
ATTACH;FMTTYPE=image/png:https://www.melanchthon-hannover.de/wp-content/uploads/2024/03/Abend-GD.png
END:VEVENT
BEGIN:VEVENT
DTSTART;TZID=Europe/Berlin:20240414T100000
DTEND;TZID=Europe/Berlin:20240414T113000
DTSTAMP:20260425T135557
CREATED:20240329T220813Z
LAST-MODIFIED:20240329T220813Z
UID:10004448-1713088800-1713094200@www.melanchthon-hannover.de
SUMMARY:Gottesdienst mit Abendmahl
DESCRIPTION:Misericordias Domini
URL:https://www.melanchthon-hannover.de/termin/gottesdienst-mit-abendmahl-2/
LOCATION:Bugenhagen\, Stresemannallee 34\, Hannover\, 30173\, Deutschland
CATEGORIES:Gottesdienst - mal woanders
END:VEVENT
BEGIN:VEVENT
DTSTART;TZID=Europe/Berlin:20240407T100000
DTEND;TZID=Europe/Berlin:20240407T110000
DTSTAMP:20260425T135557
CREATED:20240329T220630Z
LAST-MODIFIED:20240329T221758Z
UID:10004447-1712484000-1712487600@www.melanchthon-hannover.de
SUMMARY:Festgottesdienst zum Stiftungsjubiläum
DESCRIPTION:Quasimodogeniti \nmit Posaunenchor
URL:https://www.melanchthon-hannover.de/termin/festgottesdienst-zum-stiftungsjubilaeum/
LOCATION:Bugenhagen\, Stresemannallee 34\, Hannover\, 30173\, Deutschland
CATEGORIES:Gottesdienst - mal woanders
END:VEVENT
BEGIN:VEVENT
DTSTART;TZID=Europe/Berlin:20240329T150000
DTEND;TZID=Europe/Berlin:20240329T160000
DTSTAMP:20260425T135557
CREATED:20240125T114215Z
LAST-MODIFIED:20240125T120231Z
UID:10001688-1711724400-1711728000@www.melanchthon-hannover.de
SUMMARY:Gottesdienst am Karfreitag
DESCRIPTION:
URL:https://www.melanchthon-hannover.de/termin/karfreitag/
LOCATION:Melanchthon\, Menschingstr. 12\, Hannover\, 30173\, Deutschland
CATEGORIES:Gottesdienst
ATTACH;FMTTYPE=image/png:https://www.melanchthon-hannover.de/wp-content/uploads/2024/01/Karfreitag-2024-2.png
END:VEVENT
BEGIN:VEVENT
DTSTART;TZID=Europe/Berlin:20240211T180000
DTEND;TZID=Europe/Berlin:20240211T190000
DTSTAMP:20260425T135557
CREATED:20240123T163816Z
LAST-MODIFIED:20240123T163816Z
UID:10001310-1707674400-1707678000@www.melanchthon-hannover.de
SUMMARY:Gottesdienst
DESCRIPTION:Gottesdienst mit Vorstellung der Konfirmandinnen und Konfirmanden
URL:https://www.melanchthon-hannover.de/termin/gottesdienst-38/
LOCATION:Melanchthon\, Menschingstr. 12\, Hannover\, 30173\, Deutschland
CATEGORIES:Abendgottesdienst
ATTACH;FMTTYPE=image/png:https://www.melanchthon-hannover.de/wp-content/uploads/2024/01/GD-11.2.24.png
END:VEVENT
END:VCALENDAR