BEGIN:VCALENDAR
VERSION:2.0
PRODID:-//Melanchthon-Gemeinde - ECPv6.15.20//NONSGML v1.0//EN
CALSCALE:GREGORIAN
METHOD:PUBLISH
X-WR-CALNAME:Melanchthon-Gemeinde
X-ORIGINAL-URL:https://www.melanchthon-hannover.de
X-WR-CALDESC:Veranstaltungen für Melanchthon-Gemeinde
REFRESH-INTERVAL;VALUE=DURATION:PT1H
X-Robots-Tag:noindex
X-PUBLISHED-TTL:PT1H
BEGIN:VTIMEZONE
TZID:Europe/Berlin
BEGIN:DAYLIGHT
TZOFFSETFROM:+0100
TZOFFSETTO:+0200
TZNAME:CEST
DTSTART:20230326T010000
END:DAYLIGHT
BEGIN:STANDARD
TZOFFSETFROM:+0200
TZOFFSETTO:+0100
TZNAME:CET
DTSTART:20231029T010000
END:STANDARD
BEGIN:DAYLIGHT
TZOFFSETFROM:+0100
TZOFFSETTO:+0200
TZNAME:CEST
DTSTART:20240331T010000
END:DAYLIGHT
BEGIN:STANDARD
TZOFFSETFROM:+0200
TZOFFSETTO:+0100
TZNAME:CET
DTSTART:20241027T010000
END:STANDARD
BEGIN:DAYLIGHT
TZOFFSETFROM:+0100
TZOFFSETTO:+0200
TZNAME:CEST
DTSTART:20250330T010000
END:DAYLIGHT
BEGIN:STANDARD
TZOFFSETFROM:+0200
TZOFFSETTO:+0100
TZNAME:CET
DTSTART:20251026T010000
END:STANDARD
BEGIN:DAYLIGHT
TZOFFSETFROM:+0100
TZOFFSETTO:+0200
TZNAME:CEST
DTSTART:20260329T010000
END:DAYLIGHT
BEGIN:STANDARD
TZOFFSETFROM:+0200
TZOFFSETTO:+0100
TZNAME:CET
DTSTART:20261025T010000
END:STANDARD
BEGIN:DAYLIGHT
TZOFFSETFROM:+0100
TZOFFSETTO:+0200
TZNAME:CEST
DTSTART:20270328T010000
END:DAYLIGHT
BEGIN:STANDARD
TZOFFSETFROM:+0200
TZOFFSETTO:+0100
TZNAME:CET
DTSTART:20271031T010000
END:STANDARD
END:VTIMEZONE
BEGIN:VEVENT
DTSTART;TZID=Europe/Berlin:20260406T100000
DTEND;TZID=Europe/Berlin:20260406T110000
DTSTAMP:20260421T134921
CREATED:20260402T193507Z
LAST-MODIFIED:20260402T193507Z
UID:10007404-1775469600-1775473200@www.melanchthon-hannover.de
SUMMARY:Gottesdienst
DESCRIPTION:
URL:https://www.melanchthon-hannover.de/termin/gottesdienst-73/
LOCATION:Melanchthon\, Menschingstr. 12\, Hannover\, 30173\, Deutschland
CATEGORIES:Gottesdienst
ATTACH;FMTTYPE=image/png:https://www.melanchthon-hannover.de/wp-content/uploads/2026/04/6.4.26-regionaler-OstermontagsGD.png
END:VEVENT
BEGIN:VEVENT
DTSTART;TZID=Europe/Berlin:20260403T150000
DTEND;TZID=Europe/Berlin:20260403T160000
DTSTAMP:20260421T134921
CREATED:20260124T111402Z
LAST-MODIFIED:20260124T111402Z
UID:10007373-1775228400-1775232000@www.melanchthon-hannover.de
SUMMARY:Gottesdienst zur Todesstunde
DESCRIPTION:
URL:https://www.melanchthon-hannover.de/termin/gottesdienst-zur-todesstunde/
LOCATION:Melanchthon\, Menschingstr. 12\, Hannover\, 30173\, Deutschland
CATEGORIES:Gottesdienst
ATTACH;FMTTYPE=image/png:https://www.melanchthon-hannover.de/wp-content/uploads/2026/01/3.4.26-GD-Todesstunde.png
END:VEVENT
BEGIN:VEVENT
DTSTART;TZID=Europe/Berlin:20260315T180000
DTEND;TZID=Europe/Berlin:20260315T193000
DTSTAMP:20260421T134921
CREATED:20260124T111110Z
LAST-MODIFIED:20260124T111110Z
UID:10007371-1773597600-1773603000@www.melanchthon-hannover.de
SUMMARY:Wohnzimmerkirche
DESCRIPTION:
URL:https://www.melanchthon-hannover.de/termin/wohnzimmerkirche-8/
LOCATION:Melanchthon\, Menschingstr. 12\, Hannover\, 30173\, Deutschland
CATEGORIES:Gottesdienst
ATTACH;FMTTYPE=image/png:https://www.melanchthon-hannover.de/wp-content/uploads/2026/01/15.3.26-Wohnzimmerkirche.png
END:VEVENT
BEGIN:VEVENT
DTSTART;TZID=Europe/Berlin:20260208T180000
DTEND;TZID=Europe/Berlin:20260208T190000
DTSTAMP:20260421T134921
CREATED:20260124T105830Z
LAST-MODIFIED:20260124T105830Z
UID:10007364-1770573600-1770577200@www.melanchthon-hannover.de
SUMMARY:Gottesdienst
DESCRIPTION:
URL:https://www.melanchthon-hannover.de/termin/gottesdienst-71/
LOCATION:Melanchthon\, Menschingstr. 12\, Hannover\, 30173\, Deutschland
CATEGORIES:Abendgottesdienst
ATTACH;FMTTYPE=image/png:https://www.melanchthon-hannover.de/wp-content/uploads/2026/01/8.2.26-Abend-GD.png
END:VEVENT
BEGIN:VEVENT
DTSTART;TZID=Europe/Berlin:20260118T180000
DTEND;TZID=Europe/Berlin:20260118T190000
DTSTAMP:20260421T134921
CREATED:20260103T104413Z
LAST-MODIFIED:20260103T122722Z
UID:10007354-1768759200-1768762800@www.melanchthon-hannover.de
SUMMARY:Gottesdienst
DESCRIPTION:
URL:https://www.melanchthon-hannover.de/termin/gottesdienst-70/
LOCATION:Melanchthon\, Menschingstr. 12\, Hannover\, 30173\, Deutschland
CATEGORIES:Abendgottesdienst
ATTACH;FMTTYPE=image/png:https://www.melanchthon-hannover.de/wp-content/uploads/2026/01/18.1.26-Abend-GD.png
END:VEVENT
BEGIN:VEVENT
DTSTART;TZID=Europe/Berlin:20251231T170000
DTEND;TZID=Europe/Berlin:20251231T180000
DTSTAMP:20260421T134921
CREATED:20251029T101817Z
LAST-MODIFIED:20251029T101913Z
UID:10007311-1767200400-1767204000@www.melanchthon-hannover.de
SUMMARY:Gottesdienst
DESCRIPTION:
URL:https://www.melanchthon-hannover.de/termin/gottesdienst-66/
LOCATION:Melanchthon\, Menschingstr. 12\, Hannover\, 30173\, Deutschland
CATEGORIES:Abendgottesdienst
ATTACH;FMTTYPE=image/png:https://www.melanchthon-hannover.de/wp-content/uploads/2025/10/31.12.25-GD.png
END:VEVENT
BEGIN:VEVENT
DTSTART;TZID=Europe/Berlin:20251224T170000
DTEND;TZID=Europe/Berlin:20251224T180000
DTSTAMP:20260421T134921
CREATED:20251029T102243Z
LAST-MODIFIED:20251218T212814Z
UID:10007313-1766595600-1766599200@www.melanchthon-hannover.de
SUMMARY:Christvesper
DESCRIPTION:
URL:https://www.melanchthon-hannover.de/termin/christvesper-2/
LOCATION:Melanchthon\, Menschingstr. 12\, Hannover\, 30173\, Deutschland
CATEGORIES:Abendgottesdienst
ATTACH;FMTTYPE=image/png:https://www.melanchthon-hannover.de/wp-content/uploads/2025/12/24.12.25-Heiligabend.png
END:VEVENT
BEGIN:VEVENT
DTSTART;TZID=Europe/Berlin:20251224T111500
DTEND;TZID=Europe/Berlin:20251224T121500
DTSTAMP:20260421T134921
CREATED:20251029T102433Z
LAST-MODIFIED:20251218T212655Z
UID:10007314-1766574900-1766578500@www.melanchthon-hannover.de
SUMMARY:Krabbelgottesdienst
DESCRIPTION:
URL:https://www.melanchthon-hannover.de/termin/krabbelgottesdienst-3/
LOCATION:Melanchthon\, Menschingstr. 12\, Hannover\, 30173\, Deutschland
CATEGORIES:Kindergottesdienst
ATTACH;FMTTYPE=image/png:https://www.melanchthon-hannover.de/wp-content/uploads/2025/12/24.12.25-Heiligabend.png
END:VEVENT
BEGIN:VEVENT
DTSTART;TZID=Europe/Berlin:20251214T180000
DTEND;TZID=Europe/Berlin:20251214T193000
DTSTAMP:20260421T134921
CREATED:20251029T101055Z
LAST-MODIFIED:20251029T101055Z
UID:10007308-1765735200-1765740600@www.melanchthon-hannover.de
SUMMARY:Wohnzimmerkirche
DESCRIPTION:
URL:https://www.melanchthon-hannover.de/termin/wohnzimmerkirche-7/
LOCATION:Melanchthon\, Menschingstr. 12\, Hannover\, 30173\, Deutschland
CATEGORIES:Gottesdienst
ATTACH;FMTTYPE=image/png:https://www.melanchthon-hannover.de/wp-content/uploads/2025/10/14.12.25-Wohnzimmerkirche.png
END:VEVENT
BEGIN:VEVENT
DTSTART;TZID=Europe/Berlin:20251130T180000
DTEND;TZID=Europe/Berlin:20251130T190000
DTSTAMP:20260421T134921
CREATED:20251106T222644Z
LAST-MODIFIED:20251106T230229Z
UID:10007352-1764525600-1764529200@www.melanchthon-hannover.de
SUMMARY:Gottesdienst
DESCRIPTION:
URL:https://www.melanchthon-hannover.de/termin/gottesdienst-69/
LOCATION:Melanchthon\, Menschingstr. 12\, Hannover\, 30173\, Deutschland
CATEGORIES:Abendgottesdienst
ATTACH;FMTTYPE=image/png:https://www.melanchthon-hannover.de/wp-content/uploads/2025/11/30.11.25-Abend-GD.png
END:VEVENT
BEGIN:VEVENT
DTSTART;TZID=Europe/Berlin:20251123T180000
DTEND;TZID=Europe/Berlin:20251123T193000
DTSTAMP:20260421T134921
CREATED:20251106T222537Z
LAST-MODIFIED:20251106T225943Z
UID:10007351-1763920800-1763926200@www.melanchthon-hannover.de
SUMMARY:Gottesdienst mit Gedenken an die Verstorbenen
DESCRIPTION:
URL:https://www.melanchthon-hannover.de/termin/gottesdienst-mit-gedenken-an-die-verstorbenen/
LOCATION:Melanchthon\, Menschingstr. 12\, Hannover\, 30173\, Deutschland
CATEGORIES:Abendgottesdienst
ATTACH;FMTTYPE=image/png:https://www.melanchthon-hannover.de/wp-content/uploads/2025/11/23.11.25-Ewigkeitssonntag-GD.png
END:VEVENT
BEGIN:VEVENT
DTSTART;TZID=Europe/Berlin:20251111T160000
DTEND;TZID=Europe/Berlin:20251111T170000
DTSTAMP:20260421T134921
CREATED:20251106T221952Z
LAST-MODIFIED:20251107T090127Z
UID:10007347-1762876800-1762880400@www.melanchthon-hannover.de
SUMMARY:Kindergottesdienst
DESCRIPTION:
URL:https://www.melanchthon-hannover.de/termin/kindergottesdienst-40/
LOCATION:Melanchthon\, Menschingstr. 12\, Hannover\, 30173\, Deutschland
CATEGORIES:Kindergottesdienst
ATTACH;FMTTYPE=image/png:https://www.melanchthon-hannover.de/wp-content/uploads/2025/11/11.11.25-Kinder-GD-1.png
END:VEVENT
BEGIN:VEVENT
DTSTART;TZID=Europe/Berlin:20251109T180000
DTEND;TZID=Europe/Berlin:20251109T190000
DTSTAMP:20260421T134921
CREATED:20251106T221828Z
LAST-MODIFIED:20251106T225536Z
UID:10007346-1762711200-1762714800@www.melanchthon-hannover.de
SUMMARY:Gottesdienst
DESCRIPTION:
URL:https://www.melanchthon-hannover.de/termin/gottesdienst-68/
LOCATION:Melanchthon\, Menschingstr. 12\, Hannover\, 30173\, Deutschland
CATEGORIES:Abendgottesdienst
ATTACH;FMTTYPE=image/png:https://www.melanchthon-hannover.de/wp-content/uploads/2025/11/9.11.25-Abend-GD.png
END:VEVENT
BEGIN:VEVENT
DTSTART;TZID=Europe/Berlin:20251012T180000
DTEND;TZID=Europe/Berlin:20251012T190000
DTSTAMP:20260421T134921
CREATED:20251002T105025Z
LAST-MODIFIED:20251002T105025Z
UID:10007304-1760292000-1760295600@www.melanchthon-hannover.de
SUMMARY:Abendgottesdienst
DESCRIPTION:
URL:https://www.melanchthon-hannover.de/termin/abendgottesdienst-12/
LOCATION:Melanchthon\, Menschingstr. 12\, Hannover\, 30173\, Deutschland
CATEGORIES:Abendgottesdienst
ATTACH;FMTTYPE=image/png:https://www.melanchthon-hannover.de/wp-content/uploads/2025/10/Abendgottesdienst-12.10.25.png
END:VEVENT
BEGIN:VEVENT
DTSTART;TZID=Europe/Berlin:20250928T180000
DTEND;TZID=Europe/Berlin:20250928T183000
DTSTAMP:20260421T134921
CREATED:20250803T112600Z
LAST-MODIFIED:20250803T112600Z
UID:10007030-1759082400-1759084200@www.melanchthon-hannover.de
SUMMARY:Wohnzimmerkirche
DESCRIPTION:
URL:https://www.melanchthon-hannover.de/termin/wohnzimmerkirche-6/
LOCATION:Melanchthon\, Menschingstr. 12\, Hannover\, 30173\, Deutschland
CATEGORIES:Abendgottesdienst
ATTACH;FMTTYPE=image/png:https://www.melanchthon-hannover.de/wp-content/uploads/2025/08/28.9.25-Wohnzimmerkirche.png
END:VEVENT
BEGIN:VEVENT
DTSTART;TZID=Europe/Berlin:20250914T180000
DTEND;TZID=Europe/Berlin:20250914T190000
DTSTAMP:20260421T134921
CREATED:20250803T100504Z
LAST-MODIFIED:20250803T130258Z
UID:10007028-1757872800-1757876400@www.melanchthon-hannover.de
SUMMARY:Gottesdienst mit Hannover Chor
DESCRIPTION:
URL:https://www.melanchthon-hannover.de/termin/gottesdienst-mit-hannover-chor/
LOCATION:Melanchthon\, Menschingstr. 12\, Hannover\, 30173\, Deutschland
CATEGORIES:Abendgottesdienst
ATTACH;FMTTYPE=image/png:https://www.melanchthon-hannover.de/wp-content/uploads/2025/08/14.9.25-Hannover-Chor-3.png
END:VEVENT
BEGIN:VEVENT
DTSTART;TZID=Europe/Berlin:20250823T170000
DTEND;TZID=Europe/Berlin:20250823T190000
DTSTAMP:20260421T134921
CREATED:20250802T110712Z
LAST-MODIFIED:20250803T125707Z
UID:10007024-1755968400-1755975600@www.melanchthon-hannover.de
SUMMARY:Stiftungsgottesdienst mit Imbiss
DESCRIPTION:mit Imbiss auf dem Kirchhof
URL:https://www.melanchthon-hannover.de/termin/stiftungsgottesdienst-mit-imbiss/
LOCATION:Melanchthon\, Menschingstr. 12\, Hannover\, 30173\, Deutschland
CATEGORIES:Gemeindeveranstaltung,Gottesdienst
ATTACH;FMTTYPE=image/png:https://www.melanchthon-hannover.de/wp-content/uploads/2025/08/Stiftungsgottesdienst-1.png
END:VEVENT
BEGIN:VEVENT
DTSTART;TZID=Europe/Berlin:20250815T160000
DTEND;TZID=Europe/Berlin:20250815T170000
DTSTAMP:20260421T134921
CREATED:20250803T133902Z
LAST-MODIFIED:20250803T133902Z
UID:10007032-1755273600-1755277200@www.melanchthon-hannover.de
SUMMARY:Einschulungsgottesdienst
DESCRIPTION:
URL:https://www.melanchthon-hannover.de/termin/einschulungsgottesdienst/
LOCATION:Bugenhagen\, Stresemannallee 34\, Hannover\, 30173\, Deutschland
CATEGORIES:Gottesdienst - mal woanders
ATTACH;FMTTYPE=image/png:https://www.melanchthon-hannover.de/wp-content/uploads/2025/08/15.8.25-Einschulungsgottesdienst.png
END:VEVENT
BEGIN:VEVENT
DTSTART;TZID=Europe/Berlin:20250713T100000
DTEND;TZID=Europe/Berlin:20250713T110000
DTSTAMP:20260421T134921
CREATED:20250625T173834Z
LAST-MODIFIED:20250625T173834Z
UID:10007018-1752400800-1752404400@www.melanchthon-hannover.de
SUMMARY:Regionale Sommerkirche
DESCRIPTION:
URL:https://www.melanchthon-hannover.de/termin/regionale-sommerkirche-9/
LOCATION:Timotheus\, Kärtner Platz\, Hannover\, 30159\, Deutschland
CATEGORIES:Gottesdienst - mal woanders
ATTACH;FMTTYPE=image/png:https://www.melanchthon-hannover.de/wp-content/uploads/2025/06/Sommerkirche-13.7.25.png
END:VEVENT
BEGIN:VEVENT
DTSTART;TZID=Europe/Berlin:20250622T100000
DTEND;TZID=Europe/Berlin:20250622T110000
DTSTAMP:20260421T134921
CREATED:20250511T192136Z
LAST-MODIFIED:20250608T211643Z
UID:10007012-1750586400-1750590000@www.melanchthon-hannover.de
SUMMARY:Bultfest Gottesdienst
DESCRIPTION:
URL:https://www.melanchthon-hannover.de/termin/bultfest-gottesdienst-2/
LOCATION:Melanchthon\, Menschingstr. 12\, Hannover\, 30173\, Deutschland
CATEGORIES:Gottesdienst
ATTACH;FMTTYPE=image/png:https://www.melanchthon-hannover.de/wp-content/uploads/2025/06/Bultfest-GD-2025-3.png
END:VEVENT
BEGIN:VEVENT
DTSTART;TZID=Europe/Berlin:20250525T180000
DTEND;TZID=Europe/Berlin:20250525T200000
DTSTAMP:20260421T134921
CREATED:20250407T170801Z
LAST-MODIFIED:20250407T170801Z
UID:10007006-1748196000-1748203200@www.melanchthon-hannover.de
SUMMARY:Wohnzimmerkirche
DESCRIPTION:
URL:https://www.melanchthon-hannover.de/termin/wohnzimmerkirche-5/
LOCATION:Melanchthon\, Menschingstr. 12\, Hannover\, 30173\, Deutschland
CATEGORIES:Abendgottesdienst
ATTACH;FMTTYPE=image/png:https://www.melanchthon-hannover.de/wp-content/uploads/2025/04/16.3.-Wohnzimmerkirche-2.png
END:VEVENT
BEGIN:VEVENT
DTSTART;TZID=Europe/Berlin:20250511T093000
DTEND;TZID=Europe/Berlin:20250511T123000
DTSTAMP:20260421T134921
CREATED:20250407T170653Z
LAST-MODIFIED:20250407T170653Z
UID:10007005-1746955800-1746966600@www.melanchthon-hannover.de
SUMMARY:Konfirmationsgottesdienste
DESCRIPTION:09.30 Uhr\n11.00 Uhr
URL:https://www.melanchthon-hannover.de/termin/konfirmationsgottesdienste/
LOCATION:Melanchthon\, Menschingstr. 12\, Hannover\, 30173\, Deutschland
CATEGORIES:Gottesdienst
ATTACH;FMTTYPE=image/png:https://www.melanchthon-hannover.de/wp-content/uploads/2025/04/Konfirmation.png
END:VEVENT
BEGIN:VEVENT
DTSTART;TZID=Europe/Berlin:20250418T150000
DTEND;TZID=Europe/Berlin:20250418T170000
DTSTAMP:20260421T134921
CREATED:20250407T165928Z
LAST-MODIFIED:20250407T165928Z
UID:10007001-1744988400-1744995600@www.melanchthon-hannover.de
SUMMARY:Gottesdienst
DESCRIPTION:
URL:https://www.melanchthon-hannover.de/termin/gottesdienst-62/
LOCATION:Melanchthon\, Menschingstr. 12\, Hannover\, 30173\, Deutschland
CATEGORIES:Gottesdienst
ATTACH;FMTTYPE=image/png:https://www.melanchthon-hannover.de/wp-content/uploads/2025/04/Karfreitag-2025.png
END:VEVENT
BEGIN:VEVENT
DTSTART;TZID=Europe/Berlin:20250316T180000
DTEND;TZID=Europe/Berlin:20250316T193000
DTSTAMP:20260421T134921
CREATED:20250121T185531Z
LAST-MODIFIED:20250121T200044Z
UID:10006351-1742148000-1742153400@www.melanchthon-hannover.de
SUMMARY:Wohnzimmerkirche
DESCRIPTION:
URL:https://www.melanchthon-hannover.de/termin/wohnzimmerkirche-4/
LOCATION:Melanchthon\, Menschingstr. 12\, Hannover\, 30173\, Deutschland
CATEGORIES:Gottesdienst
ATTACH;FMTTYPE=image/png:https://www.melanchthon-hannover.de/wp-content/uploads/2025/01/16.3.-Wohnzimmerkirche.png
END:VEVENT
BEGIN:VEVENT
DTSTART;TZID=Europe/Berlin:20250309T180000
DTEND;TZID=Europe/Berlin:20250309T190000
DTSTAMP:20260421T134921
CREATED:20250121T185432Z
LAST-MODIFIED:20250121T194530Z
UID:10006350-1741543200-1741546800@www.melanchthon-hannover.de
SUMMARY:Abendgottesdienst
DESCRIPTION:
URL:https://www.melanchthon-hannover.de/termin/abendgottesdienst-11/
LOCATION:Melanchthon\, Menschingstr. 12\, Hannover\, 30173\, Deutschland
CATEGORIES:Abendgottesdienst
ATTACH;FMTTYPE=image/png:https://www.melanchthon-hannover.de/wp-content/uploads/2025/01/9.3.-Abendgottesdienst-Claudia.png
END:VEVENT
BEGIN:VEVENT
DTSTART;TZID=Europe/Berlin:20250216T170000
DTEND;TZID=Europe/Berlin:20250216T183000
DTSTAMP:20260421T134921
CREATED:20250121T184905Z
LAST-MODIFIED:20250121T190252Z
UID:10006345-1739725200-1739730600@www.melanchthon-hannover.de
SUMMARY:Regionalgottesdienst
DESCRIPTION:Kirchentagssonntag mit Superintendenten Riedel
URL:https://www.melanchthon-hannover.de/termin/regionalgottesdienst-7/
LOCATION:Melanchthon\, Menschingstr. 12\, Hannover\, 30173\, Deutschland
CATEGORIES:Gottesdienst
ATTACH;FMTTYPE=image/png:https://www.melanchthon-hannover.de/wp-content/uploads/2025/01/Regionalgottesdienst.png
END:VEVENT
BEGIN:VEVENT
DTSTART;TZID=Europe/Berlin:20250209T180000
DTEND;TZID=Europe/Berlin:20250209T190000
DTSTAMP:20260421T134921
CREATED:20250105T171523Z
LAST-MODIFIED:20250207T104241Z
UID:10006342-1739124000-1739127600@www.melanchthon-hannover.de
SUMMARY:Abendgottesdienst
DESCRIPTION:
URL:https://www.melanchthon-hannover.de/termin/abendgottesdienst-10/
LOCATION:Melanchthon\, Menschingstr. 12\, Hannover\, 30173\, Deutschland
CATEGORIES:Abendgottesdienst
ATTACH;FMTTYPE=image/png:https://www.melanchthon-hannover.de/wp-content/uploads/2025/02/Abendgottesdienst-Claudia-2.png
END:VEVENT
BEGIN:VEVENT
DTSTART;TZID=Europe/Berlin:20250112T180000
DTEND;TZID=Europe/Berlin:20250112T190000
DTSTAMP:20260421T134921
CREATED:20241122T190115Z
LAST-MODIFIED:20241123T171354Z
UID:10005932-1736704800-1736708400@www.melanchthon-hannover.de
SUMMARY:Abendgottesdienst
DESCRIPTION:
URL:https://www.melanchthon-hannover.de/termin/abendgottesdienst-9/
LOCATION:Melanchthon\, Menschingstr. 12\, Hannover\, 30173\, Deutschland
CATEGORIES:Gottesdienst
ATTACH;FMTTYPE=image/png:https://www.melanchthon-hannover.de/wp-content/uploads/2024/11/Abendgottesdienst-Claudia.png
END:VEVENT
BEGIN:VEVENT
DTSTART;TZID=Europe/Berlin:20241231T170000
DTEND;TZID=Europe/Berlin:20241231T180000
DTSTAMP:20260421T134921
CREATED:20241122T185500Z
LAST-MODIFIED:20241123T002447Z
UID:10005929-1735664400-1735668000@www.melanchthon-hannover.de
SUMMARY:Gottesdienst
DESCRIPTION:Altjahrsabend
URL:https://www.melanchthon-hannover.de/termin/gottesdienst-60/
LOCATION:Melanchthon\, Menschingstr. 12\, Hannover\, 30173\, Deutschland
CATEGORIES:Gottesdienst
ATTACH;FMTTYPE=image/png:https://www.melanchthon-hannover.de/wp-content/uploads/2024/11/Altjahrsabend.png
END:VEVENT
BEGIN:VEVENT
DTSTART;TZID=Europe/Berlin:20241224T170000
DTEND;TZID=Europe/Berlin:20241224T180000
DTSTAMP:20260421T134921
CREATED:20241122T185233Z
LAST-MODIFIED:20241224T144251Z
UID:10005927-1735059600-1735063200@www.melanchthon-hannover.de
SUMMARY:Christvesper
DESCRIPTION:Heiligabend
URL:https://www.melanchthon-hannover.de/termin/christvesper/
LOCATION:Melanchthon\, Menschingstr. 12\, Hannover\, 30173\, Deutschland
CATEGORIES:Gottesdienst
ATTACH;FMTTYPE=image/png:https://www.melanchthon-hannover.de/wp-content/uploads/2024/12/HeiligabendM.png
END:VEVENT
END:VCALENDAR