BEGIN:VCALENDAR
VERSION:2.0
PRODID:-//Melanchthon-Gemeinde - ECPv6.15.20//NONSGML v1.0//EN
CALSCALE:GREGORIAN
METHOD:PUBLISH
X-ORIGINAL-URL:https://www.melanchthon-hannover.de
X-WR-CALDESC:Veranstaltungen für Melanchthon-Gemeinde
REFRESH-INTERVAL;VALUE=DURATION:PT1H
X-Robots-Tag:noindex
X-PUBLISHED-TTL:PT1H
BEGIN:VTIMEZONE
TZID:Europe/Berlin
BEGIN:DAYLIGHT
TZOFFSETFROM:+0100
TZOFFSETTO:+0200
TZNAME:CEST
DTSTART:20220327T010000
END:DAYLIGHT
BEGIN:STANDARD
TZOFFSETFROM:+0200
TZOFFSETTO:+0100
TZNAME:CET
DTSTART:20221030T010000
END:STANDARD
BEGIN:DAYLIGHT
TZOFFSETFROM:+0100
TZOFFSETTO:+0200
TZNAME:CEST
DTSTART:20230326T010000
END:DAYLIGHT
BEGIN:STANDARD
TZOFFSETFROM:+0200
TZOFFSETTO:+0100
TZNAME:CET
DTSTART:20231029T010000
END:STANDARD
BEGIN:DAYLIGHT
TZOFFSETFROM:+0100
TZOFFSETTO:+0200
TZNAME:CEST
DTSTART:20240331T010000
END:DAYLIGHT
BEGIN:STANDARD
TZOFFSETFROM:+0200
TZOFFSETTO:+0100
TZNAME:CET
DTSTART:20241027T010000
END:STANDARD
BEGIN:DAYLIGHT
TZOFFSETFROM:+0100
TZOFFSETTO:+0200
TZNAME:CEST
DTSTART:20250330T010000
END:DAYLIGHT
BEGIN:STANDARD
TZOFFSETFROM:+0200
TZOFFSETTO:+0100
TZNAME:CET
DTSTART:20251026T010000
END:STANDARD
BEGIN:DAYLIGHT
TZOFFSETFROM:+0100
TZOFFSETTO:+0200
TZNAME:CEST
DTSTART:20260329T010000
END:DAYLIGHT
BEGIN:STANDARD
TZOFFSETFROM:+0200
TZOFFSETTO:+0100
TZNAME:CET
DTSTART:20261025T010000
END:STANDARD
END:VTIMEZONE
BEGIN:VEVENT
DTSTART;TZID=Europe/Berlin:20250706T100000
DTEND;TZID=Europe/Berlin:20250706T110000
DTSTAMP:20260425T201730
CREATED:20250511T192331Z
LAST-MODIFIED:20250625T173659Z
UID:10007013-1751796000-1751799600@www.melanchthon-hannover.de
SUMMARY:Regionale Sommerkirche
DESCRIPTION:
URL:https://www.melanchthon-hannover.de/termin/regionale-sommerkirche-6/
LOCATION:Melanchthon\, Menschingstr. 12\, Hannover\, 30173\, Deutschland
CATEGORIES:Gottesdienst
ATTACH;FMTTYPE=image/png:https://www.melanchthon-hannover.de/wp-content/uploads/2025/06/Sommerkirche_6.7.25.png
END:VEVENT
BEGIN:VEVENT
DTSTART;TZID=Europe/Berlin:20240707T100000
DTEND;TZID=Europe/Berlin:20240707T113000
DTSTAMP:20260425T201730
CREATED:20240529T085124Z
LAST-MODIFIED:20240529T121343Z
UID:10004481-1720346400-1720351800@www.melanchthon-hannover.de
SUMMARY:Regionale Sommerkirche in Melanchthon
DESCRIPTION:
URL:https://www.melanchthon-hannover.de/termin/regionale-sommerkirche-in-melanchthon/
LOCATION:Melanchthon\, Menschingstr. 12\, Hannover\, 30173\, Deutschland
CATEGORIES:Gottesdienst
ATTACH;FMTTYPE=image/png:https://www.melanchthon-hannover.de/wp-content/uploads/2024/05/Sommerkirche-in-Melanchthon.png
END:VEVENT
BEGIN:VEVENT
DTSTART;TZID=Europe/Berlin:20230430T120000
DTEND;TZID=Europe/Berlin:20230430T130000
DTSTAMP:20260425T201730
CREATED:20230401T170847Z
LAST-MODIFIED:20230405T201019Z
UID:10000021-1682856000-1682859600@www.melanchthon-hannover.de
SUMMARY:Gottesdienst-Bugenhagen
DESCRIPTION:Jubilate
URL:https://www.melanchthon-hannover.de/termin/gottesdienst-8/
LOCATION:Bugenhagen\, Stresemannallee 34\, Hannover\, 30173\, Deutschland
CATEGORIES:Gottesdienst - mal woanders
END:VEVENT
END:VCALENDAR