BEGIN:VCALENDAR
VERSION:2.0
PRODID:-//Melanchthon-Gemeinde - ECPv6.15.20//NONSGML v1.0//EN
CALSCALE:GREGORIAN
METHOD:PUBLISH
X-WR-CALNAME:Melanchthon-Gemeinde
X-ORIGINAL-URL:https://www.melanchthon-hannover.de
X-WR-CALDESC:Veranstaltungen für Melanchthon-Gemeinde
REFRESH-INTERVAL;VALUE=DURATION:PT1H
X-Robots-Tag:noindex
X-PUBLISHED-TTL:PT1H
BEGIN:VTIMEZONE
TZID:Europe/Berlin
BEGIN:DAYLIGHT
TZOFFSETFROM:+0100
TZOFFSETTO:+0200
TZNAME:CEST
DTSTART:20220327T010000
END:DAYLIGHT
BEGIN:STANDARD
TZOFFSETFROM:+0200
TZOFFSETTO:+0100
TZNAME:CET
DTSTART:20221030T010000
END:STANDARD
BEGIN:DAYLIGHT
TZOFFSETFROM:+0100
TZOFFSETTO:+0200
TZNAME:CEST
DTSTART:20230326T010000
END:DAYLIGHT
BEGIN:STANDARD
TZOFFSETFROM:+0200
TZOFFSETTO:+0100
TZNAME:CET
DTSTART:20231029T010000
END:STANDARD
BEGIN:DAYLIGHT
TZOFFSETFROM:+0100
TZOFFSETTO:+0200
TZNAME:CEST
DTSTART:20240331T010000
END:DAYLIGHT
BEGIN:STANDARD
TZOFFSETFROM:+0200
TZOFFSETTO:+0100
TZNAME:CET
DTSTART:20241027T010000
END:STANDARD
BEGIN:DAYLIGHT
TZOFFSETFROM:+0100
TZOFFSETTO:+0200
TZNAME:CEST
DTSTART:20250330T010000
END:DAYLIGHT
BEGIN:STANDARD
TZOFFSETFROM:+0200
TZOFFSETTO:+0100
TZNAME:CET
DTSTART:20251026T010000
END:STANDARD
BEGIN:DAYLIGHT
TZOFFSETFROM:+0100
TZOFFSETTO:+0200
TZNAME:CEST
DTSTART:20260329T010000
END:DAYLIGHT
BEGIN:STANDARD
TZOFFSETFROM:+0200
TZOFFSETTO:+0100
TZNAME:CET
DTSTART:20261025T010000
END:STANDARD
END:VTIMEZONE
BEGIN:VEVENT
DTSTART;TZID=Europe/Berlin:20250502T153000
DTEND;TZID=Europe/Berlin:20250502T170000
DTSTAMP:20260421T215753
CREATED:20250511T184823Z
LAST-MODIFIED:20250511T184824Z
UID:10000355-1746199800-1746205200@www.melanchthon-hannover.de
SUMMARY:Erzählcafé
DESCRIPTION:Veranstaltungen mit wechselndem Programm
URL:https://www.melanchthon-hannover.de/termin/erzaehlcafe-2/2025-05-02/
LOCATION:Diakonie-Seniorenbüro Bult\, Freundallee 16 (2. Stock)\, Hannover\, 30173\, Deutschland
CATEGORIES:Seniorenbüro
END:VEVENT
BEGIN:VEVENT
DTSTART;TZID=Europe/Berlin:20250404T153000
DTEND;TZID=Europe/Berlin:20250404T170000
DTSTAMP:20260421T215753
CREATED:20230926T112357Z
LAST-MODIFIED:20240307T153330Z
UID:10000354-1743780600-1743786000@www.melanchthon-hannover.de
SUMMARY:Erzählcafé
DESCRIPTION:Veranstaltungen mit wechselndem Programm
URL:https://www.melanchthon-hannover.de/termin/erzaehlcafe/2025-04-04/
LOCATION:Diakonie-Seniorenbüro Bult\, Freundallee 16 (2. Stock)\, Hannover\, 30173\, Deutschland
CATEGORIES:Seniorenbüro
END:VEVENT
BEGIN:VEVENT
DTSTART;TZID=Europe/Berlin:20250307T153000
DTEND;TZID=Europe/Berlin:20250307T170000
DTSTAMP:20260421T215753
CREATED:20230926T112357Z
LAST-MODIFIED:20240307T153330Z
UID:10000353-1741361400-1741366800@www.melanchthon-hannover.de
SUMMARY:Erzählcafé
DESCRIPTION:Veranstaltungen mit wechselndem Programm
URL:https://www.melanchthon-hannover.de/termin/erzaehlcafe/2025-03-07/
LOCATION:Diakonie-Seniorenbüro Bult\, Freundallee 16 (2. Stock)\, Hannover\, 30173\, Deutschland
CATEGORIES:Seniorenbüro
END:VEVENT
BEGIN:VEVENT
DTSTART;TZID=Europe/Berlin:20250207T153000
DTEND;TZID=Europe/Berlin:20250207T170000
DTSTAMP:20260421T215753
CREATED:20230926T112357Z
LAST-MODIFIED:20240307T153330Z
UID:10000352-1738942200-1738947600@www.melanchthon-hannover.de
SUMMARY:Erzählcafé
DESCRIPTION:Veranstaltungen mit wechselndem Programm
URL:https://www.melanchthon-hannover.de/termin/erzaehlcafe/2025-02-07/
LOCATION:Diakonie-Seniorenbüro Bult\, Freundallee 16 (2. Stock)\, Hannover\, 30173\, Deutschland
CATEGORIES:Seniorenbüro
END:VEVENT
BEGIN:VEVENT
DTSTART;TZID=Europe/Berlin:20250103T153000
DTEND;TZID=Europe/Berlin:20250103T170000
DTSTAMP:20260421T215753
CREATED:20230926T112357Z
LAST-MODIFIED:20240307T153330Z
UID:10000351-1735918200-1735923600@www.melanchthon-hannover.de
SUMMARY:Erzählcafé
DESCRIPTION:Veranstaltungen mit wechselndem Programm
URL:https://www.melanchthon-hannover.de/termin/erzaehlcafe/2025-01-03/
LOCATION:Diakonie-Seniorenbüro Bult\, Freundallee 16 (2. Stock)\, Hannover\, 30173\, Deutschland
CATEGORIES:Seniorenbüro
END:VEVENT
BEGIN:VEVENT
DTSTART;TZID=Europe/Berlin:20241206T153000
DTEND;TZID=Europe/Berlin:20241206T170000
DTSTAMP:20260421T215753
CREATED:20230926T112357Z
LAST-MODIFIED:20240307T153330Z
UID:10000350-1733499000-1733504400@www.melanchthon-hannover.de
SUMMARY:Erzählcafé
DESCRIPTION:Veranstaltungen mit wechselndem Programm
URL:https://www.melanchthon-hannover.de/termin/erzaehlcafe/2024-12-06/
LOCATION:Diakonie-Seniorenbüro Bult\, Freundallee 16 (2. Stock)\, Hannover\, 30173\, Deutschland
CATEGORIES:Seniorenbüro
END:VEVENT
BEGIN:VEVENT
DTSTART;TZID=Europe/Berlin:20241101T153000
DTEND;TZID=Europe/Berlin:20241101T170000
DTSTAMP:20260421T215753
CREATED:20230926T112357Z
LAST-MODIFIED:20240307T153330Z
UID:10000349-1730475000-1730480400@www.melanchthon-hannover.de
SUMMARY:Erzählcafé
DESCRIPTION:Veranstaltungen mit wechselndem Programm
URL:https://www.melanchthon-hannover.de/termin/erzaehlcafe/2024-11-01/
LOCATION:Diakonie-Seniorenbüro Bult\, Freundallee 16 (2. Stock)\, Hannover\, 30173\, Deutschland
CATEGORIES:Seniorenbüro
END:VEVENT
BEGIN:VEVENT
DTSTART;TZID=Europe/Berlin:20241004T153000
DTEND;TZID=Europe/Berlin:20241004T170000
DTSTAMP:20260421T215753
CREATED:20230926T112357Z
LAST-MODIFIED:20240307T153330Z
UID:10000348-1728055800-1728061200@www.melanchthon-hannover.de
SUMMARY:Erzählcafé
DESCRIPTION:Veranstaltungen mit wechselndem Programm
URL:https://www.melanchthon-hannover.de/termin/erzaehlcafe/2024-10-04/
LOCATION:Diakonie-Seniorenbüro Bult\, Freundallee 16 (2. Stock)\, Hannover\, 30173\, Deutschland
CATEGORIES:Seniorenbüro
END:VEVENT
BEGIN:VEVENT
DTSTART;TZID=Europe/Berlin:20240906T153000
DTEND;TZID=Europe/Berlin:20240906T170000
DTSTAMP:20260421T215753
CREATED:20230926T112357Z
LAST-MODIFIED:20240307T153330Z
UID:10000347-1725636600-1725642000@www.melanchthon-hannover.de
SUMMARY:Erzählcafé
DESCRIPTION:Veranstaltungen mit wechselndem Programm
URL:https://www.melanchthon-hannover.de/termin/erzaehlcafe/2024-09-06/
LOCATION:Diakonie-Seniorenbüro Bult\, Freundallee 16 (2. Stock)\, Hannover\, 30173\, Deutschland
CATEGORIES:Seniorenbüro
END:VEVENT
BEGIN:VEVENT
DTSTART;TZID=Europe/Berlin:20240802T153000
DTEND;TZID=Europe/Berlin:20240802T170000
DTSTAMP:20260421T215753
CREATED:20230926T112357Z
LAST-MODIFIED:20240307T153330Z
UID:10000346-1722612600-1722618000@www.melanchthon-hannover.de
SUMMARY:Erzählcafé
DESCRIPTION:Veranstaltungen mit wechselndem Programm
URL:https://www.melanchthon-hannover.de/termin/erzaehlcafe/2024-08-02/
LOCATION:Diakonie-Seniorenbüro Bult\, Freundallee 16 (2. Stock)\, Hannover\, 30173\, Deutschland
CATEGORIES:Seniorenbüro
END:VEVENT
BEGIN:VEVENT
DTSTART;TZID=Europe/Berlin:20240705T153000
DTEND;TZID=Europe/Berlin:20240705T170000
DTSTAMP:20260421T215753
CREATED:20230926T112357Z
LAST-MODIFIED:20240307T153330Z
UID:10000345-1720193400-1720198800@www.melanchthon-hannover.de
SUMMARY:Erzählcafé
DESCRIPTION:Veranstaltungen mit wechselndem Programm
URL:https://www.melanchthon-hannover.de/termin/erzaehlcafe/2024-07-05/
LOCATION:Diakonie-Seniorenbüro Bult\, Freundallee 16 (2. Stock)\, Hannover\, 30173\, Deutschland
CATEGORIES:Seniorenbüro
END:VEVENT
BEGIN:VEVENT
DTSTART;TZID=Europe/Berlin:20240607T153000
DTEND;TZID=Europe/Berlin:20240607T170000
DTSTAMP:20260421T215753
CREATED:20230926T112357Z
LAST-MODIFIED:20240307T153330Z
UID:10000344-1717774200-1717779600@www.melanchthon-hannover.de
SUMMARY:Erzählcafé
DESCRIPTION:Veranstaltungen mit wechselndem Programm
URL:https://www.melanchthon-hannover.de/termin/erzaehlcafe/2024-06-07/
LOCATION:Diakonie-Seniorenbüro Bult\, Freundallee 16 (2. Stock)\, Hannover\, 30173\, Deutschland
CATEGORIES:Seniorenbüro
END:VEVENT
BEGIN:VEVENT
DTSTART;TZID=Europe/Berlin:20240503T153000
DTEND;TZID=Europe/Berlin:20240503T170000
DTSTAMP:20260421T215753
CREATED:20230926T112357Z
LAST-MODIFIED:20240307T153330Z
UID:10000343-1714750200-1714755600@www.melanchthon-hannover.de
SUMMARY:Erzählcafé
DESCRIPTION:Veranstaltungen mit wechselndem Programm
URL:https://www.melanchthon-hannover.de/termin/erzaehlcafe/2024-05-03/
LOCATION:Diakonie-Seniorenbüro Bult\, Freundallee 16 (2. Stock)\, Hannover\, 30173\, Deutschland
CATEGORIES:Seniorenbüro
END:VEVENT
BEGIN:VEVENT
DTSTART;TZID=Europe/Berlin:20240405T153000
DTEND;TZID=Europe/Berlin:20240405T170000
DTSTAMP:20260421T215753
CREATED:20230926T112357Z
LAST-MODIFIED:20240307T153330Z
UID:10000342-1712331000-1712336400@www.melanchthon-hannover.de
SUMMARY:Erzählcafé
DESCRIPTION:Veranstaltungen mit wechselndem Programm
URL:https://www.melanchthon-hannover.de/termin/erzaehlcafe/2024-04-05/
LOCATION:Diakonie-Seniorenbüro Bult\, Freundallee 16 (2. Stock)\, Hannover\, 30173\, Deutschland
CATEGORIES:Seniorenbüro
END:VEVENT
BEGIN:VEVENT
DTSTART;TZID=Europe/Berlin:20240301T153000
DTEND;TZID=Europe/Berlin:20240301T170000
DTSTAMP:20260421T215753
CREATED:20230926T112357Z
LAST-MODIFIED:20240307T153330Z
UID:10000341-1709307000-1709312400@www.melanchthon-hannover.de
SUMMARY:Erzählcafé
DESCRIPTION:Veranstaltungen mit wechselndem Programm
URL:https://www.melanchthon-hannover.de/termin/erzaehlcafe/2024-03-01/
LOCATION:Diakonie-Seniorenbüro Bult\, Freundallee 16 (2. Stock)\, Hannover\, 30173\, Deutschland
CATEGORIES:Seniorenbüro
END:VEVENT
BEGIN:VEVENT
DTSTART;TZID=Europe/Berlin:20240202T153000
DTEND;TZID=Europe/Berlin:20240202T170000
DTSTAMP:20260421T215753
CREATED:20230926T112357Z
LAST-MODIFIED:20240307T153330Z
UID:10000340-1706887800-1706893200@www.melanchthon-hannover.de
SUMMARY:Erzählcafé
DESCRIPTION:Veranstaltungen mit wechselndem Programm
URL:https://www.melanchthon-hannover.de/termin/erzaehlcafe/2024-02-02/
LOCATION:Diakonie-Seniorenbüro Bult\, Freundallee 16 (2. Stock)\, Hannover\, 30173\, Deutschland
CATEGORIES:Seniorenbüro
END:VEVENT
BEGIN:VEVENT
DTSTART;TZID=Europe/Berlin:20240105T153000
DTEND;TZID=Europe/Berlin:20240105T170000
DTSTAMP:20260421T215753
CREATED:20230926T112357Z
LAST-MODIFIED:20240307T153330Z
UID:10000339-1704468600-1704474000@www.melanchthon-hannover.de
SUMMARY:Erzählcafé
DESCRIPTION:Veranstaltungen mit wechselndem Programm
URL:https://www.melanchthon-hannover.de/termin/erzaehlcafe/2024-01-05/
LOCATION:Diakonie-Seniorenbüro Bult\, Freundallee 16 (2. Stock)\, Hannover\, 30173\, Deutschland
CATEGORIES:Seniorenbüro
END:VEVENT
BEGIN:VEVENT
DTSTART;TZID=Europe/Berlin:20231201T153000
DTEND;TZID=Europe/Berlin:20231201T170000
DTSTAMP:20260421T215753
CREATED:20230926T112357Z
LAST-MODIFIED:20240307T153330Z
UID:10000338-1701444600-1701450000@www.melanchthon-hannover.de
SUMMARY:Erzählcafé
DESCRIPTION:Veranstaltungen mit wechselndem Programm
URL:https://www.melanchthon-hannover.de/termin/erzaehlcafe/2023-12-01/
LOCATION:Diakonie-Seniorenbüro Bult\, Freundallee 16 (2. Stock)\, Hannover\, 30173\, Deutschland
CATEGORIES:Seniorenbüro
END:VEVENT
BEGIN:VEVENT
DTSTART;TZID=Europe/Berlin:20231103T153000
DTEND;TZID=Europe/Berlin:20231103T170000
DTSTAMP:20260421T215753
CREATED:20230926T112357Z
LAST-MODIFIED:20240307T153330Z
UID:10000337-1699025400-1699030800@www.melanchthon-hannover.de
SUMMARY:Erzählcafé
DESCRIPTION:Veranstaltungen mit wechselndem Programm
URL:https://www.melanchthon-hannover.de/termin/erzaehlcafe/2023-11-03/
LOCATION:Diakonie-Seniorenbüro Bult\, Freundallee 16 (2. Stock)\, Hannover\, 30173\, Deutschland
CATEGORIES:Seniorenbüro
END:VEVENT
BEGIN:VEVENT
DTSTART;TZID=Europe/Berlin:20231006T153000
DTEND;TZID=Europe/Berlin:20231006T170000
DTSTAMP:20260421T215753
CREATED:20230926T112357Z
LAST-MODIFIED:20240307T153330Z
UID:10000336-1696606200-1696611600@www.melanchthon-hannover.de
SUMMARY:Erzählcafé
DESCRIPTION:Veranstaltungen mit wechselndem Programm
URL:https://www.melanchthon-hannover.de/termin/erzaehlcafe/2023-10-06/
LOCATION:Diakonie-Seniorenbüro Bult\, Freundallee 16 (2. Stock)\, Hannover\, 30173\, Deutschland
CATEGORIES:Seniorenbüro
END:VEVENT
BEGIN:VEVENT
DTSTART;TZID=Europe/Berlin:20230402T120000
DTEND;TZID=Europe/Berlin:20230405T202729
DTSTAMP:20260421T215753
CREATED:20230401T162729Z
LAST-MODIFIED:20230405T162926Z
UID:10000013-1680436800-1680726449@www.melanchthon-hannover.de
SUMMARY:Gottesdienst
DESCRIPTION:Gottesdienst mit Abendmahl und Orgelmusik zur Passion von Max Reger
URL:https://www.melanchthon-hannover.de/termin/gottesdienst/
LOCATION:Melanchthon\, Menschingstr. 12\, Hannover\, 30173\, Deutschland
CATEGORIES:Gottesdienst
END:VEVENT
END:VCALENDAR