BEGIN:VCALENDAR
VERSION:2.0
PRODID:-//Melanchthon-Gemeinde - ECPv6.15.20//NONSGML v1.0//EN
CALSCALE:GREGORIAN
METHOD:PUBLISH
X-WR-CALNAME:Melanchthon-Gemeinde
X-ORIGINAL-URL:https://www.melanchthon-hannover.de
X-WR-CALDESC:Veranstaltungen für Melanchthon-Gemeinde
REFRESH-INTERVAL;VALUE=DURATION:PT1H
X-Robots-Tag:noindex
X-PUBLISHED-TTL:PT1H
BEGIN:VTIMEZONE
TZID:Europe/Berlin
BEGIN:DAYLIGHT
TZOFFSETFROM:+0100
TZOFFSETTO:+0200
TZNAME:CEST
DTSTART:20220327T010000
END:DAYLIGHT
BEGIN:STANDARD
TZOFFSETFROM:+0200
TZOFFSETTO:+0100
TZNAME:CET
DTSTART:20221030T010000
END:STANDARD
BEGIN:DAYLIGHT
TZOFFSETFROM:+0100
TZOFFSETTO:+0200
TZNAME:CEST
DTSTART:20230326T010000
END:DAYLIGHT
BEGIN:STANDARD
TZOFFSETFROM:+0200
TZOFFSETTO:+0100
TZNAME:CET
DTSTART:20231029T010000
END:STANDARD
BEGIN:DAYLIGHT
TZOFFSETFROM:+0100
TZOFFSETTO:+0200
TZNAME:CEST
DTSTART:20240331T010000
END:DAYLIGHT
BEGIN:STANDARD
TZOFFSETFROM:+0200
TZOFFSETTO:+0100
TZNAME:CET
DTSTART:20241027T010000
END:STANDARD
BEGIN:DAYLIGHT
TZOFFSETFROM:+0100
TZOFFSETTO:+0200
TZNAME:CEST
DTSTART:20250330T010000
END:DAYLIGHT
BEGIN:STANDARD
TZOFFSETFROM:+0200
TZOFFSETTO:+0100
TZNAME:CET
DTSTART:20251026T010000
END:STANDARD
END:VTIMEZONE
BEGIN:VEVENT
DTSTART;TZID=Europe/Berlin:20240919T193000
DTEND;TZID=Europe/Berlin:20240919T210000
DTSTAMP:20260421T152342
CREATED:20240724T140744Z
LAST-MODIFIED:20240724T140744Z
UID:10005608-1726774200-1726779600@www.melanchthon-hannover.de
SUMMARY:Sitzung des Kirchenvorstandes
DESCRIPTION:
URL:https://www.melanchthon-hannover.de/termin/sitzung-des-kirchenvorstandes-5/
LOCATION:Melanchthon – Glasraum\, Menschingstr. 12\, Hannover\, 30173\, Deutschland
CATEGORIES:Kirchenvorstand
END:VEVENT
BEGIN:VEVENT
DTSTART;TZID=Europe/Berlin:20240815T193000
DTEND;TZID=Europe/Berlin:20240815T210000
DTSTAMP:20260421T152342
CREATED:20240724T140605Z
LAST-MODIFIED:20240724T140605Z
UID:10005607-1723750200-1723755600@www.melanchthon-hannover.de
SUMMARY:Sitzung des Kirchenvorstandes
DESCRIPTION:
URL:https://www.melanchthon-hannover.de/termin/sitzung-des-kirchenvorstandes-4/
LOCATION:Melanchthon – Glasraum\, Menschingstr. 12\, Hannover\, 30173\, Deutschland
CATEGORIES:Kirchenvorstand
END:VEVENT
BEGIN:VEVENT
DTSTART;TZID=Europe/Berlin:20240516T193000
DTEND;TZID=Europe/Berlin:20240516T213000
DTSTAMP:20260421T152342
CREATED:20240307T144239Z
LAST-MODIFIED:20240307T144425Z
UID:10001692-1715887800-1715895000@www.melanchthon-hannover.de
SUMMARY:Sitzung des Kirchenvorstandes
DESCRIPTION:Sitzungen des Kirchenvorstands sind öffentlich (Ausnahme: Tagesordnungspunkt Personalia).
URL:https://www.melanchthon-hannover.de/termin/sitzung-des-kirchenvorstandes-3/
LOCATION:Melanchthon – Glasraum\, Menschingstr. 12\, Hannover\, 30173\, Deutschland
CATEGORIES:Kirchenvorstand
END:VEVENT
BEGIN:VEVENT
DTSTART;TZID=Europe/Berlin:20240418T193000
DTEND;TZID=Europe/Berlin:20240418T213000
DTSTAMP:20260421T152342
CREATED:20240307T144056Z
LAST-MODIFIED:20240307T144350Z
UID:10001691-1713468600-1713475800@www.melanchthon-hannover.de
SUMMARY:Sitzung des Kirchenvorstandes
DESCRIPTION:Sitzungen des Kirchenvorstands sind öffentlich (Ausnahme: Tagesordnungspunkt Personalia).
URL:https://www.melanchthon-hannover.de/termin/sitzung-des-kirchenvorstandes-2/
LOCATION:Melanchthon – Glasraum\, Menschingstr. 12\, Hannover\, 30173\, Deutschland
CATEGORIES:Kirchenvorstand
END:VEVENT
BEGIN:VEVENT
DTSTART;TZID=Europe/Berlin:20240314T193000
DTEND;TZID=Europe/Berlin:20240314T213000
DTSTAMP:20260421T152342
CREATED:20240307T143816Z
LAST-MODIFIED:20240307T143816Z
UID:10001690-1710444600-1710451800@www.melanchthon-hannover.de
SUMMARY:Sitzung des Kirchenvorstandes
DESCRIPTION:Sitzungen des Kirchenvorstands sind öffentlich (Ausnahme: Tagesordnungspunkt Personalia).
URL:https://www.melanchthon-hannover.de/termin/sitzung-des-kirchenvorstandes/
LOCATION:Melanchthon – Glasraum\, Menschingstr. 12\, Hannover\, 30173\, Deutschland
CATEGORIES:Kirchenvorstand
END:VEVENT
BEGIN:VEVENT
DTSTART;TZID=Europe/Berlin:20240301T180000
DTEND;TZID=Europe/Berlin:20240301T180000
DTSTAMP:20260421T152342
CREATED:20240125T095349Z
LAST-MODIFIED:20240125T100035Z
UID:10001314-1709316000-1709316000@www.melanchthon-hannover.de
SUMMARY:Gottesdienst zum Weltgebetstag
DESCRIPTION:Sie sind herzlich eingeladen zum Gottes­dienst (Friedensgebet) mit anschließendem Essen landestypischer Speisen. \nNähere Informationen zu dieser Veranstaltung finden Sie hier.
URL:https://www.melanchthon-hannover.de/termin/gottesdienst-zum-weltgebetstag/
LOCATION:Melanchthon\, Menschingstr. 12\, Hannover\, 30173\, Deutschland
CATEGORIES:Abendgottesdienst
ATTACH;FMTTYPE=image/jpeg:https://www.melanchthon-hannover.de/wp-content/uploads/2024/01/webseite_downloads_2024_Banner_Palaestina_web1_1600x600.jpg
END:VEVENT
BEGIN:VEVENT
DTSTART;TZID=Europe/Berlin:20240222T193000
DTEND;TZID=Europe/Berlin:20240222T213000
DTSTAMP:20260421T152342
CREATED:20240123T160958Z
LAST-MODIFIED:20240123T160958Z
UID:10001240-1708630200-1708637400@www.melanchthon-hannover.de
SUMMARY:KV-Sitzung
DESCRIPTION:Gemeinsame Sitzung mit von KV Bugenhagen und KV Melanchthon
URL:https://www.melanchthon-hannover.de/termin/kv-sitzung/
LOCATION:Melanchthon – Glasraum\, Menschingstr. 12\, Hannover\, 30173\, Deutschland
CATEGORIES:Gemeindeveranstaltung
END:VEVENT
BEGIN:VEVENT
DTSTART;TZID=Europe/Berlin:20240218T184500
DTEND;TZID=Europe/Berlin:20240218T210000
DTSTAMP:20260421T152342
CREATED:20240121T160212Z
LAST-MODIFIED:20240123T165220Z
UID:10001237-1708281900-1708290000@www.melanchthon-hannover.de
SUMMARY:Gemeindeversammlung
DESCRIPTION:nach dem Abendgottesdienst
URL:https://www.melanchthon-hannover.de/termin/gemeindeversammlung/
LOCATION:Melanchthon\, Menschingstr. 12\, Hannover\, 30173\, Deutschland
CATEGORIES:Gemeindeveranstaltung
ATTACH;FMTTYPE=image/png:https://www.melanchthon-hannover.de/wp-content/uploads/2024/01/GD-und-Versammlung-20240218.png
END:VEVENT
BEGIN:VEVENT
DTSTART;VALUE=DATE:20231002
DTEND;VALUE=DATE:20231126
DTSTAMP:20260421T152342
CREATED:20230918T075227Z
LAST-MODIFIED:20230926T100948Z
UID:10000071-1696212000-1700873999@www.melanchthon-hannover.de
SUMMARY:"Faszination Imagination 2.0" - Kunstausstellung  in der Melanchthon Kirche
DESCRIPTION:
URL:https://www.melanchthon-hannover.de/termin/faszination-imagination-2-0-kunstausstellung-in-der-melanchthon-kirche-2/
LOCATION:Melanchthon\, Menschingstr. 12\, Hannover\, 30173\, Deutschland
CATEGORIES:Gemeindeveranstaltung
ATTACH;FMTTYPE=image/png:https://www.melanchthon-hannover.de/wp-content/uploads/2023/09/Faszination-Imagination.png
END:VEVENT
BEGIN:VEVENT
DTSTART;TZID=Europe/Berlin:20230926T193000
DTEND;TZID=Europe/Berlin:20230926T210000
DTSTAMP:20260421T152342
CREATED:20230910T090123Z
LAST-MODIFIED:20230926T091928Z
UID:10000058-1695756600-1695762000@www.melanchthon-hannover.de
SUMMARY:Kirchenvorstand
DESCRIPTION:Gemeinsame KV-Sitzungen mit der Bugenhagengemeinde
URL:https://www.melanchthon-hannover.de/termin/kirchenvorstand-4/
LOCATION:Bugenhagen\, Stresemannallee 34\, Hannover\, 30173\, Deutschland
CATEGORIES:Gemeindeveranstaltung
END:VEVENT
BEGIN:VEVENT
DTSTART;TZID=Europe/Berlin:20230516T210000
DTEND;TZID=Europe/Berlin:20230516T210000
DTSTAMP:20260421T152342
CREATED:20230405T174408Z
LAST-MODIFIED:20230405T201239Z
UID:10000029-1684270800-1684270800@www.melanchthon-hannover.de
SUMMARY:Kirchenvorstand
DESCRIPTION:Gemeinsame KV-Sitzung mit der Bugenhagengemeinde
URL:https://www.melanchthon-hannover.de/termin/kirchenvorstand-3/
LOCATION:Bugenhagen\, Stresemannallee 34\, Hannover\, 30173\, Deutschland
CATEGORIES:Gemeindeveranstaltung
END:VEVENT
BEGIN:VEVENT
DTSTART;TZID=Europe/Berlin:20230420T210000
DTEND;TZID=Europe/Berlin:20230420T210000
DTSTAMP:20260421T152342
CREATED:20230401T174122Z
LAST-MODIFIED:20230405T200918Z
UID:10000028-1682024400-1682024400@www.melanchthon-hannover.de
SUMMARY:Kirchenvorstand
DESCRIPTION:Gemeinsame KV-Sitzung mit der Bugenhagengemeinde
URL:https://www.melanchthon-hannover.de/termin/kirchenvorstand-2/
LOCATION:Melanchthon\, Menschingstr. 12\, Hannover\, 30173\, Deutschland
CATEGORIES:Gemeindeveranstaltung
END:VEVENT
BEGIN:VEVENT
DTSTART;TZID=Europe/Berlin:20230321T193000
DTEND;TZID=Europe/Berlin:20230321T210000
DTSTAMP:20260421T152342
CREATED:20230303T125739Z
LAST-MODIFIED:20230910T091203Z
UID:10000003-1679427000-1679432400@www.melanchthon-hannover.de
SUMMARY:Kirchenvorstand
DESCRIPTION:
URL:https://www.melanchthon-hannover.de/termin/kirchenvorstand/
LOCATION:Bugenhagen\, Stresemannallee 34\, Hannover\, 30173\, Deutschland
CATEGORIES:Gemeindeveranstaltung
END:VEVENT
END:VCALENDAR