BEGIN:VCALENDAR
VERSION:2.0
PRODID:-//Melanchthon-Gemeinde - ECPv6.15.20//NONSGML v1.0//EN
CALSCALE:GREGORIAN
METHOD:PUBLISH
X-ORIGINAL-URL:https://www.melanchthon-hannover.de
X-WR-CALDESC:Veranstaltungen für Melanchthon-Gemeinde
REFRESH-INTERVAL;VALUE=DURATION:PT1H
X-Robots-Tag:noindex
X-PUBLISHED-TTL:PT1H
BEGIN:VTIMEZONE
TZID:Europe/Berlin
BEGIN:DAYLIGHT
TZOFFSETFROM:+0100
TZOFFSETTO:+0200
TZNAME:CEST
DTSTART:20250330T010000
END:DAYLIGHT
BEGIN:STANDARD
TZOFFSETFROM:+0200
TZOFFSETTO:+0100
TZNAME:CET
DTSTART:20251026T010000
END:STANDARD
BEGIN:DAYLIGHT
TZOFFSETFROM:+0100
TZOFFSETTO:+0200
TZNAME:CEST
DTSTART:20260329T010000
END:DAYLIGHT
BEGIN:STANDARD
TZOFFSETFROM:+0200
TZOFFSETTO:+0100
TZNAME:CET
DTSTART:20261025T010000
END:STANDARD
BEGIN:DAYLIGHT
TZOFFSETFROM:+0100
TZOFFSETTO:+0200
TZNAME:CEST
DTSTART:20270328T010000
END:DAYLIGHT
BEGIN:STANDARD
TZOFFSETFROM:+0200
TZOFFSETTO:+0100
TZNAME:CET
DTSTART:20271031T010000
END:STANDARD
BEGIN:DAYLIGHT
TZOFFSETFROM:+0100
TZOFFSETTO:+0200
TZNAME:CEST
DTSTART:20280326T010000
END:DAYLIGHT
BEGIN:STANDARD
TZOFFSETFROM:+0200
TZOFFSETTO:+0100
TZNAME:CET
DTSTART:20281029T010000
END:STANDARD
END:VTIMEZONE
BEGIN:VEVENT
DTSTART;TZID=Europe/Berlin:20261214T183000
DTEND;TZID=Europe/Berlin:20261214T183000
DTSTAMP:20260425T170928
CREATED:20240724T141125Z
LAST-MODIFIED:20240724T141125Z
UID:10005733-1797273000-1797273000@www.melanchthon-hannover.de
SUMMARY:Meditationsgruppe
DESCRIPTION:
URL:https://www.melanchthon-hannover.de/termin/meditationsgruppe-5/2026-12-14/
LOCATION:Melanchthon – Unterkirche\, Menschingstr. 12\, Hannover\, 30173\, Deutschland
CATEGORIES:Gemeindeveranstaltung
END:VEVENT
BEGIN:VEVENT
DTSTART;TZID=Europe/Berlin:20261221T183000
DTEND;TZID=Europe/Berlin:20261221T183000
DTSTAMP:20260425T170928
CREATED:20240724T141125Z
LAST-MODIFIED:20240724T141125Z
UID:10005734-1797877800-1797877800@www.melanchthon-hannover.de
SUMMARY:Meditationsgruppe
DESCRIPTION:
URL:https://www.melanchthon-hannover.de/termin/meditationsgruppe-5/2026-12-21/
LOCATION:Melanchthon – Unterkirche\, Menschingstr. 12\, Hannover\, 30173\, Deutschland
CATEGORIES:Gemeindeveranstaltung
END:VEVENT
BEGIN:VEVENT
DTSTART;TZID=Europe/Berlin:20261224T193000
DTEND;TZID=Europe/Berlin:20261224T210000
DTSTAMP:20260425T170928
CREATED:20230926T115242Z
LAST-MODIFIED:20230926T115242Z
UID:10000820-1798140600-1798146000@www.melanchthon-hannover.de
SUMMARY:Männergruppe
DESCRIPTION:
URL:https://www.melanchthon-hannover.de/termin/maennergruppe-4/2026-12-24/
LOCATION:Melanchthon – Unterkirche\, Menschingstr. 12\, Hannover\, 30173\, Deutschland
CATEGORIES:Gemeindeveranstaltung
END:VEVENT
BEGIN:VEVENT
DTSTART;TZID=Europe/Berlin:20261228T183000
DTEND;TZID=Europe/Berlin:20261228T183000
DTSTAMP:20260425T170928
CREATED:20240724T141125Z
LAST-MODIFIED:20240724T141125Z
UID:10005735-1798482600-1798482600@www.melanchthon-hannover.de
SUMMARY:Meditationsgruppe
DESCRIPTION:
URL:https://www.melanchthon-hannover.de/termin/meditationsgruppe-5/2026-12-28/
LOCATION:Melanchthon – Unterkirche\, Menschingstr. 12\, Hannover\, 30173\, Deutschland
CATEGORIES:Gemeindeveranstaltung
END:VEVENT
BEGIN:VEVENT
DTSTART;TZID=Europe/Berlin:20270104T183000
DTEND;TZID=Europe/Berlin:20270104T183000
DTSTAMP:20260425T170928
CREATED:20240724T141125Z
LAST-MODIFIED:20240724T141125Z
UID:10005736-1799087400-1799087400@www.melanchthon-hannover.de
SUMMARY:Meditationsgruppe
DESCRIPTION:
URL:https://www.melanchthon-hannover.de/termin/meditationsgruppe-5/2027-01-04/
LOCATION:Melanchthon – Unterkirche\, Menschingstr. 12\, Hannover\, 30173\, Deutschland
CATEGORIES:Gemeindeveranstaltung
END:VEVENT
BEGIN:VEVENT
DTSTART;TZID=Europe/Berlin:20270111T183000
DTEND;TZID=Europe/Berlin:20270111T183000
DTSTAMP:20260425T170928
CREATED:20240724T141125Z
LAST-MODIFIED:20240724T141125Z
UID:10005737-1799692200-1799692200@www.melanchthon-hannover.de
SUMMARY:Meditationsgruppe
DESCRIPTION:
URL:https://www.melanchthon-hannover.de/termin/meditationsgruppe-5/2027-01-11/
LOCATION:Melanchthon – Unterkirche\, Menschingstr. 12\, Hannover\, 30173\, Deutschland
CATEGORIES:Gemeindeveranstaltung
END:VEVENT
BEGIN:VEVENT
DTSTART;TZID=Europe/Berlin:20270114T193000
DTEND;TZID=Europe/Berlin:20270114T213000
DTSTAMP:20260425T170928
CREATED:20240329T122045Z
LAST-MODIFIED:20240329T122045Z
UID:10004346-1799955000-1799962200@www.melanchthon-hannover.de
SUMMARY:Männergruppe
DESCRIPTION:
URL:https://www.melanchthon-hannover.de/termin/maennergruppe-5/2027-01-14/
LOCATION:Melanchthon – Unterkirche\, Menschingstr. 12\, Hannover\, 30173\, Deutschland
CATEGORIES:Gemeindeveranstaltung
END:VEVENT
BEGIN:VEVENT
DTSTART;TZID=Europe/Berlin:20270118T183000
DTEND;TZID=Europe/Berlin:20270118T183000
DTSTAMP:20260425T170928
CREATED:20240724T141125Z
LAST-MODIFIED:20240724T141125Z
UID:10005738-1800297000-1800297000@www.melanchthon-hannover.de
SUMMARY:Meditationsgruppe
DESCRIPTION:
URL:https://www.melanchthon-hannover.de/termin/meditationsgruppe-5/2027-01-18/
LOCATION:Melanchthon – Unterkirche\, Menschingstr. 12\, Hannover\, 30173\, Deutschland
CATEGORIES:Gemeindeveranstaltung
END:VEVENT
BEGIN:VEVENT
DTSTART;TZID=Europe/Berlin:20270125T183000
DTEND;TZID=Europe/Berlin:20270125T183000
DTSTAMP:20260425T170928
CREATED:20240724T141125Z
LAST-MODIFIED:20240724T141125Z
UID:10005739-1800901800-1800901800@www.melanchthon-hannover.de
SUMMARY:Meditationsgruppe
DESCRIPTION:
URL:https://www.melanchthon-hannover.de/termin/meditationsgruppe-5/2027-01-25/
LOCATION:Melanchthon – Unterkirche\, Menschingstr. 12\, Hannover\, 30173\, Deutschland
CATEGORIES:Gemeindeveranstaltung
END:VEVENT
BEGIN:VEVENT
DTSTART;TZID=Europe/Berlin:20270128T193000
DTEND;TZID=Europe/Berlin:20270128T210000
DTSTAMP:20260425T170928
CREATED:20230926T115242Z
LAST-MODIFIED:20230926T115242Z
UID:10000821-1801164600-1801170000@www.melanchthon-hannover.de
SUMMARY:Männergruppe
DESCRIPTION:
URL:https://www.melanchthon-hannover.de/termin/maennergruppe-4/2027-01-28/
LOCATION:Melanchthon – Unterkirche\, Menschingstr. 12\, Hannover\, 30173\, Deutschland
CATEGORIES:Gemeindeveranstaltung
END:VEVENT
BEGIN:VEVENT
DTSTART;TZID=Europe/Berlin:20270201T183000
DTEND;TZID=Europe/Berlin:20270201T183000
DTSTAMP:20260425T170928
CREATED:20240724T141125Z
LAST-MODIFIED:20240724T141125Z
UID:10005740-1801506600-1801506600@www.melanchthon-hannover.de
SUMMARY:Meditationsgruppe
DESCRIPTION:
URL:https://www.melanchthon-hannover.de/termin/meditationsgruppe-5/2027-02-01/
LOCATION:Melanchthon – Unterkirche\, Menschingstr. 12\, Hannover\, 30173\, Deutschland
CATEGORIES:Gemeindeveranstaltung
END:VEVENT
BEGIN:VEVENT
DTSTART;TZID=Europe/Berlin:20270208T183000
DTEND;TZID=Europe/Berlin:20270208T183000
DTSTAMP:20260425T170928
CREATED:20240724T141125Z
LAST-MODIFIED:20240724T141125Z
UID:10005741-1802111400-1802111400@www.melanchthon-hannover.de
SUMMARY:Meditationsgruppe
DESCRIPTION:
URL:https://www.melanchthon-hannover.de/termin/meditationsgruppe-5/2027-02-08/
LOCATION:Melanchthon – Unterkirche\, Menschingstr. 12\, Hannover\, 30173\, Deutschland
CATEGORIES:Gemeindeveranstaltung
END:VEVENT
BEGIN:VEVENT
DTSTART;TZID=Europe/Berlin:20270211T193000
DTEND;TZID=Europe/Berlin:20270211T213000
DTSTAMP:20260425T170928
CREATED:20240329T122045Z
LAST-MODIFIED:20240329T122045Z
UID:10004347-1802374200-1802381400@www.melanchthon-hannover.de
SUMMARY:Männergruppe
DESCRIPTION:
URL:https://www.melanchthon-hannover.de/termin/maennergruppe-5/2027-02-11/
LOCATION:Melanchthon – Unterkirche\, Menschingstr. 12\, Hannover\, 30173\, Deutschland
CATEGORIES:Gemeindeveranstaltung
END:VEVENT
BEGIN:VEVENT
DTSTART;TZID=Europe/Berlin:20270215T183000
DTEND;TZID=Europe/Berlin:20270215T183000
DTSTAMP:20260425T170928
CREATED:20240724T141125Z
LAST-MODIFIED:20240724T141125Z
UID:10005742-1802716200-1802716200@www.melanchthon-hannover.de
SUMMARY:Meditationsgruppe
DESCRIPTION:
URL:https://www.melanchthon-hannover.de/termin/meditationsgruppe-5/2027-02-15/
LOCATION:Melanchthon – Unterkirche\, Menschingstr. 12\, Hannover\, 30173\, Deutschland
CATEGORIES:Gemeindeveranstaltung
END:VEVENT
BEGIN:VEVENT
DTSTART;TZID=Europe/Berlin:20270222T183000
DTEND;TZID=Europe/Berlin:20270222T183000
DTSTAMP:20260425T170928
CREATED:20240724T141125Z
LAST-MODIFIED:20240724T141125Z
UID:10005743-1803321000-1803321000@www.melanchthon-hannover.de
SUMMARY:Meditationsgruppe
DESCRIPTION:
URL:https://www.melanchthon-hannover.de/termin/meditationsgruppe-5/2027-02-22/
LOCATION:Melanchthon – Unterkirche\, Menschingstr. 12\, Hannover\, 30173\, Deutschland
CATEGORIES:Gemeindeveranstaltung
END:VEVENT
BEGIN:VEVENT
DTSTART;TZID=Europe/Berlin:20270225T193000
DTEND;TZID=Europe/Berlin:20270225T210000
DTSTAMP:20260425T170928
CREATED:20230926T115242Z
LAST-MODIFIED:20230926T115242Z
UID:10000822-1803583800-1803589200@www.melanchthon-hannover.de
SUMMARY:Männergruppe
DESCRIPTION:
URL:https://www.melanchthon-hannover.de/termin/maennergruppe-4/2027-02-25/
LOCATION:Melanchthon – Unterkirche\, Menschingstr. 12\, Hannover\, 30173\, Deutschland
CATEGORIES:Gemeindeveranstaltung
END:VEVENT
BEGIN:VEVENT
DTSTART;TZID=Europe/Berlin:20270301T183000
DTEND;TZID=Europe/Berlin:20270301T183000
DTSTAMP:20260425T170928
CREATED:20240724T141125Z
LAST-MODIFIED:20240724T141125Z
UID:10005744-1803925800-1803925800@www.melanchthon-hannover.de
SUMMARY:Meditationsgruppe
DESCRIPTION:
URL:https://www.melanchthon-hannover.de/termin/meditationsgruppe-5/2027-03-01/
LOCATION:Melanchthon – Unterkirche\, Menschingstr. 12\, Hannover\, 30173\, Deutschland
CATEGORIES:Gemeindeveranstaltung
END:VEVENT
BEGIN:VEVENT
DTSTART;TZID=Europe/Berlin:20270308T183000
DTEND;TZID=Europe/Berlin:20270308T183000
DTSTAMP:20260425T170928
CREATED:20240724T141125Z
LAST-MODIFIED:20240724T141125Z
UID:10005745-1804530600-1804530600@www.melanchthon-hannover.de
SUMMARY:Meditationsgruppe
DESCRIPTION:
URL:https://www.melanchthon-hannover.de/termin/meditationsgruppe-5/2027-03-08/
LOCATION:Melanchthon – Unterkirche\, Menschingstr. 12\, Hannover\, 30173\, Deutschland
CATEGORIES:Gemeindeveranstaltung
END:VEVENT
BEGIN:VEVENT
DTSTART;TZID=Europe/Berlin:20270311T193000
DTEND;TZID=Europe/Berlin:20270311T213000
DTSTAMP:20260425T170928
CREATED:20240329T122045Z
LAST-MODIFIED:20240329T122045Z
UID:10004348-1804793400-1804800600@www.melanchthon-hannover.de
SUMMARY:Männergruppe
DESCRIPTION:
URL:https://www.melanchthon-hannover.de/termin/maennergruppe-5/2027-03-11/
LOCATION:Melanchthon – Unterkirche\, Menschingstr. 12\, Hannover\, 30173\, Deutschland
CATEGORIES:Gemeindeveranstaltung
END:VEVENT
BEGIN:VEVENT
DTSTART;TZID=Europe/Berlin:20270315T183000
DTEND;TZID=Europe/Berlin:20270315T183000
DTSTAMP:20260425T170928
CREATED:20240724T141125Z
LAST-MODIFIED:20240724T141125Z
UID:10005746-1805135400-1805135400@www.melanchthon-hannover.de
SUMMARY:Meditationsgruppe
DESCRIPTION:
URL:https://www.melanchthon-hannover.de/termin/meditationsgruppe-5/2027-03-15/
LOCATION:Melanchthon – Unterkirche\, Menschingstr. 12\, Hannover\, 30173\, Deutschland
CATEGORIES:Gemeindeveranstaltung
END:VEVENT
BEGIN:VEVENT
DTSTART;TZID=Europe/Berlin:20270322T183000
DTEND;TZID=Europe/Berlin:20270322T183000
DTSTAMP:20260425T170928
CREATED:20240724T141125Z
LAST-MODIFIED:20240724T141125Z
UID:10005747-1805740200-1805740200@www.melanchthon-hannover.de
SUMMARY:Meditationsgruppe
DESCRIPTION:
URL:https://www.melanchthon-hannover.de/termin/meditationsgruppe-5/2027-03-22/
LOCATION:Melanchthon – Unterkirche\, Menschingstr. 12\, Hannover\, 30173\, Deutschland
CATEGORIES:Gemeindeveranstaltung
END:VEVENT
BEGIN:VEVENT
DTSTART;TZID=Europe/Berlin:20270325T193000
DTEND;TZID=Europe/Berlin:20270325T210000
DTSTAMP:20260425T170928
CREATED:20230926T115242Z
LAST-MODIFIED:20230926T115242Z
UID:10000823-1806003000-1806008400@www.melanchthon-hannover.de
SUMMARY:Männergruppe
DESCRIPTION:
URL:https://www.melanchthon-hannover.de/termin/maennergruppe-4/2027-03-25/
LOCATION:Melanchthon – Unterkirche\, Menschingstr. 12\, Hannover\, 30173\, Deutschland
CATEGORIES:Gemeindeveranstaltung
END:VEVENT
BEGIN:VEVENT
DTSTART;TZID=Europe/Berlin:20270329T183000
DTEND;TZID=Europe/Berlin:20270329T183000
DTSTAMP:20260425T170928
CREATED:20240724T141125Z
LAST-MODIFIED:20240724T141125Z
UID:10005748-1806345000-1806345000@www.melanchthon-hannover.de
SUMMARY:Meditationsgruppe
DESCRIPTION:
URL:https://www.melanchthon-hannover.de/termin/meditationsgruppe-5/2027-03-29/
LOCATION:Melanchthon – Unterkirche\, Menschingstr. 12\, Hannover\, 30173\, Deutschland
CATEGORIES:Gemeindeveranstaltung
END:VEVENT
BEGIN:VEVENT
DTSTART;TZID=Europe/Berlin:20270405T183000
DTEND;TZID=Europe/Berlin:20270405T183000
DTSTAMP:20260425T170928
CREATED:20240724T141125Z
LAST-MODIFIED:20240724T141125Z
UID:10005749-1806949800-1806949800@www.melanchthon-hannover.de
SUMMARY:Meditationsgruppe
DESCRIPTION:
URL:https://www.melanchthon-hannover.de/termin/meditationsgruppe-5/2027-04-05/
LOCATION:Melanchthon – Unterkirche\, Menschingstr. 12\, Hannover\, 30173\, Deutschland
CATEGORIES:Gemeindeveranstaltung
END:VEVENT
BEGIN:VEVENT
DTSTART;TZID=Europe/Berlin:20270408T193000
DTEND;TZID=Europe/Berlin:20270408T213000
DTSTAMP:20260425T170928
CREATED:20240329T122045Z
LAST-MODIFIED:20240329T122045Z
UID:10004349-1807212600-1807219800@www.melanchthon-hannover.de
SUMMARY:Männergruppe
DESCRIPTION:
URL:https://www.melanchthon-hannover.de/termin/maennergruppe-5/2027-04-08/
LOCATION:Melanchthon – Unterkirche\, Menschingstr. 12\, Hannover\, 30173\, Deutschland
CATEGORIES:Gemeindeveranstaltung
END:VEVENT
BEGIN:VEVENT
DTSTART;TZID=Europe/Berlin:20270412T183000
DTEND;TZID=Europe/Berlin:20270412T183000
DTSTAMP:20260425T170928
CREATED:20240724T141125Z
LAST-MODIFIED:20240724T141125Z
UID:10005750-1807554600-1807554600@www.melanchthon-hannover.de
SUMMARY:Meditationsgruppe
DESCRIPTION:
URL:https://www.melanchthon-hannover.de/termin/meditationsgruppe-5/2027-04-12/
LOCATION:Melanchthon – Unterkirche\, Menschingstr. 12\, Hannover\, 30173\, Deutschland
CATEGORIES:Gemeindeveranstaltung
END:VEVENT
BEGIN:VEVENT
DTSTART;TZID=Europe/Berlin:20270419T183000
DTEND;TZID=Europe/Berlin:20270419T183000
DTSTAMP:20260425T170928
CREATED:20240724T141125Z
LAST-MODIFIED:20240724T141125Z
UID:10005751-1808159400-1808159400@www.melanchthon-hannover.de
SUMMARY:Meditationsgruppe
DESCRIPTION:
URL:https://www.melanchthon-hannover.de/termin/meditationsgruppe-5/2027-04-19/
LOCATION:Melanchthon – Unterkirche\, Menschingstr. 12\, Hannover\, 30173\, Deutschland
CATEGORIES:Gemeindeveranstaltung
END:VEVENT
BEGIN:VEVENT
DTSTART;TZID=Europe/Berlin:20270422T193000
DTEND;TZID=Europe/Berlin:20270422T210000
DTSTAMP:20260425T170928
CREATED:20230926T115242Z
LAST-MODIFIED:20230926T115242Z
UID:10000824-1808422200-1808427600@www.melanchthon-hannover.de
SUMMARY:Männergruppe
DESCRIPTION:
URL:https://www.melanchthon-hannover.de/termin/maennergruppe-4/2027-04-22/
LOCATION:Melanchthon – Unterkirche\, Menschingstr. 12\, Hannover\, 30173\, Deutschland
CATEGORIES:Gemeindeveranstaltung
END:VEVENT
BEGIN:VEVENT
DTSTART;TZID=Europe/Berlin:20270426T183000
DTEND;TZID=Europe/Berlin:20270426T183000
DTSTAMP:20260425T170928
CREATED:20240724T141125Z
LAST-MODIFIED:20240724T141125Z
UID:10005752-1808764200-1808764200@www.melanchthon-hannover.de
SUMMARY:Meditationsgruppe
DESCRIPTION:
URL:https://www.melanchthon-hannover.de/termin/meditationsgruppe-5/2027-04-26/
LOCATION:Melanchthon – Unterkirche\, Menschingstr. 12\, Hannover\, 30173\, Deutschland
CATEGORIES:Gemeindeveranstaltung
END:VEVENT
BEGIN:VEVENT
DTSTART;TZID=Europe/Berlin:20270503T183000
DTEND;TZID=Europe/Berlin:20270503T183000
DTSTAMP:20260425T170928
CREATED:20240724T141125Z
LAST-MODIFIED:20240724T141125Z
UID:10005753-1809369000-1809369000@www.melanchthon-hannover.de
SUMMARY:Meditationsgruppe
DESCRIPTION:
URL:https://www.melanchthon-hannover.de/termin/meditationsgruppe-5/2027-05-03/
LOCATION:Melanchthon – Unterkirche\, Menschingstr. 12\, Hannover\, 30173\, Deutschland
CATEGORIES:Gemeindeveranstaltung
END:VEVENT
END:VCALENDAR