BEGIN:VCALENDAR
VERSION:2.0
PRODID:-//Melanchthon-Gemeinde - ECPv6.15.20//NONSGML v1.0//EN
CALSCALE:GREGORIAN
METHOD:PUBLISH
X-ORIGINAL-URL:https://www.melanchthon-hannover.de
X-WR-CALDESC:Veranstaltungen für Melanchthon-Gemeinde
REFRESH-INTERVAL;VALUE=DURATION:PT1H
X-Robots-Tag:noindex
X-PUBLISHED-TTL:PT1H
BEGIN:VTIMEZONE
TZID:Europe/Berlin
BEGIN:DAYLIGHT
TZOFFSETFROM:+0100
TZOFFSETTO:+0200
TZNAME:CEST
DTSTART:20250330T010000
END:DAYLIGHT
BEGIN:STANDARD
TZOFFSETFROM:+0200
TZOFFSETTO:+0100
TZNAME:CET
DTSTART:20251026T010000
END:STANDARD
BEGIN:DAYLIGHT
TZOFFSETFROM:+0100
TZOFFSETTO:+0200
TZNAME:CEST
DTSTART:20260329T010000
END:DAYLIGHT
BEGIN:STANDARD
TZOFFSETFROM:+0200
TZOFFSETTO:+0100
TZNAME:CET
DTSTART:20261025T010000
END:STANDARD
BEGIN:DAYLIGHT
TZOFFSETFROM:+0100
TZOFFSETTO:+0200
TZNAME:CEST
DTSTART:20270328T010000
END:DAYLIGHT
BEGIN:STANDARD
TZOFFSETFROM:+0200
TZOFFSETTO:+0100
TZNAME:CET
DTSTART:20271031T010000
END:STANDARD
BEGIN:DAYLIGHT
TZOFFSETFROM:+0100
TZOFFSETTO:+0200
TZNAME:CEST
DTSTART:20280326T010000
END:DAYLIGHT
BEGIN:STANDARD
TZOFFSETFROM:+0200
TZOFFSETTO:+0100
TZNAME:CET
DTSTART:20281029T010000
END:STANDARD
END:VTIMEZONE
BEGIN:VEVENT
DTSTART;TZID=Europe/Berlin:20261203T160000
DTEND;TZID=Europe/Berlin:20261203T173000
DTSTAMP:20260419T154429
CREATED:20230910T092059Z
LAST-MODIFIED:20230926T115533Z
UID:10001006-1796313600-1796319000@www.melanchthon-hannover.de
SUMMARY:Eltern-Kind-Spielkreis
DESCRIPTION:
URL:https://www.melanchthon-hannover.de/termin/eltern-kind-spielkreis-3/2026-12-03/
LOCATION:Melanchthon – Glasraum\, Menschingstr. 12\, Hannover\, 30173\, Deutschland
CATEGORIES:Gemeindeveranstaltung
END:VEVENT
BEGIN:VEVENT
DTSTART;TZID=Europe/Berlin:20261210T160000
DTEND;TZID=Europe/Berlin:20261210T173000
DTSTAMP:20260419T154429
CREATED:20230910T092059Z
LAST-MODIFIED:20230926T115533Z
UID:10001007-1796918400-1796923800@www.melanchthon-hannover.de
SUMMARY:Eltern-Kind-Spielkreis
DESCRIPTION:
URL:https://www.melanchthon-hannover.de/termin/eltern-kind-spielkreis-3/2026-12-10/
LOCATION:Melanchthon – Glasraum\, Menschingstr. 12\, Hannover\, 30173\, Deutschland
CATEGORIES:Gemeindeveranstaltung
END:VEVENT
BEGIN:VEVENT
DTSTART;TZID=Europe/Berlin:20261217T160000
DTEND;TZID=Europe/Berlin:20261217T173000
DTSTAMP:20260419T154429
CREATED:20230910T092059Z
LAST-MODIFIED:20230926T115533Z
UID:10001008-1797523200-1797528600@www.melanchthon-hannover.de
SUMMARY:Eltern-Kind-Spielkreis
DESCRIPTION:
URL:https://www.melanchthon-hannover.de/termin/eltern-kind-spielkreis-3/2026-12-17/
LOCATION:Melanchthon – Glasraum\, Menschingstr. 12\, Hannover\, 30173\, Deutschland
CATEGORIES:Gemeindeveranstaltung
END:VEVENT
BEGIN:VEVENT
DTSTART;TZID=Europe/Berlin:20261224T160000
DTEND;TZID=Europe/Berlin:20261224T173000
DTSTAMP:20260419T154429
CREATED:20230910T092059Z
LAST-MODIFIED:20230926T115533Z
UID:10001009-1798128000-1798133400@www.melanchthon-hannover.de
SUMMARY:Eltern-Kind-Spielkreis
DESCRIPTION:
URL:https://www.melanchthon-hannover.de/termin/eltern-kind-spielkreis-3/2026-12-24/
LOCATION:Melanchthon – Glasraum\, Menschingstr. 12\, Hannover\, 30173\, Deutschland
CATEGORIES:Gemeindeveranstaltung
END:VEVENT
BEGIN:VEVENT
DTSTART;TZID=Europe/Berlin:20261231T160000
DTEND;TZID=Europe/Berlin:20261231T173000
DTSTAMP:20260419T154429
CREATED:20230910T092059Z
LAST-MODIFIED:20230926T115533Z
UID:10001010-1798732800-1798738200@www.melanchthon-hannover.de
SUMMARY:Eltern-Kind-Spielkreis
DESCRIPTION:
URL:https://www.melanchthon-hannover.de/termin/eltern-kind-spielkreis-3/2026-12-31/
LOCATION:Melanchthon – Glasraum\, Menschingstr. 12\, Hannover\, 30173\, Deutschland
CATEGORIES:Gemeindeveranstaltung
END:VEVENT
BEGIN:VEVENT
DTSTART;TZID=Europe/Berlin:20270107T160000
DTEND;TZID=Europe/Berlin:20270107T173000
DTSTAMP:20260419T154429
CREATED:20230910T092059Z
LAST-MODIFIED:20230926T115533Z
UID:10001011-1799337600-1799343000@www.melanchthon-hannover.de
SUMMARY:Eltern-Kind-Spielkreis
DESCRIPTION:
URL:https://www.melanchthon-hannover.de/termin/eltern-kind-spielkreis-3/2027-01-07/
LOCATION:Melanchthon – Glasraum\, Menschingstr. 12\, Hannover\, 30173\, Deutschland
CATEGORIES:Gemeindeveranstaltung
END:VEVENT
BEGIN:VEVENT
DTSTART;TZID=Europe/Berlin:20270114T160000
DTEND;TZID=Europe/Berlin:20270114T173000
DTSTAMP:20260419T154429
CREATED:20230910T092059Z
LAST-MODIFIED:20230926T115533Z
UID:10001012-1799942400-1799947800@www.melanchthon-hannover.de
SUMMARY:Eltern-Kind-Spielkreis
DESCRIPTION:
URL:https://www.melanchthon-hannover.de/termin/eltern-kind-spielkreis-3/2027-01-14/
LOCATION:Melanchthon – Glasraum\, Menschingstr. 12\, Hannover\, 30173\, Deutschland
CATEGORIES:Gemeindeveranstaltung
END:VEVENT
BEGIN:VEVENT
DTSTART;TZID=Europe/Berlin:20270121T160000
DTEND;TZID=Europe/Berlin:20270121T173000
DTSTAMP:20260419T154429
CREATED:20230910T092059Z
LAST-MODIFIED:20230926T115533Z
UID:10001013-1800547200-1800552600@www.melanchthon-hannover.de
SUMMARY:Eltern-Kind-Spielkreis
DESCRIPTION:
URL:https://www.melanchthon-hannover.de/termin/eltern-kind-spielkreis-3/2027-01-21/
LOCATION:Melanchthon – Glasraum\, Menschingstr. 12\, Hannover\, 30173\, Deutschland
CATEGORIES:Gemeindeveranstaltung
END:VEVENT
BEGIN:VEVENT
DTSTART;TZID=Europe/Berlin:20270128T160000
DTEND;TZID=Europe/Berlin:20270128T173000
DTSTAMP:20260419T154429
CREATED:20230910T092059Z
LAST-MODIFIED:20230926T115533Z
UID:10001014-1801152000-1801157400@www.melanchthon-hannover.de
SUMMARY:Eltern-Kind-Spielkreis
DESCRIPTION:
URL:https://www.melanchthon-hannover.de/termin/eltern-kind-spielkreis-3/2027-01-28/
LOCATION:Melanchthon – Glasraum\, Menschingstr. 12\, Hannover\, 30173\, Deutschland
CATEGORIES:Gemeindeveranstaltung
END:VEVENT
BEGIN:VEVENT
DTSTART;TZID=Europe/Berlin:20270204T160000
DTEND;TZID=Europe/Berlin:20270204T173000
DTSTAMP:20260419T154429
CREATED:20230910T092059Z
LAST-MODIFIED:20230926T115533Z
UID:10001015-1801756800-1801762200@www.melanchthon-hannover.de
SUMMARY:Eltern-Kind-Spielkreis
DESCRIPTION:
URL:https://www.melanchthon-hannover.de/termin/eltern-kind-spielkreis-3/2027-02-04/
LOCATION:Melanchthon – Glasraum\, Menschingstr. 12\, Hannover\, 30173\, Deutschland
CATEGORIES:Gemeindeveranstaltung
END:VEVENT
BEGIN:VEVENT
DTSTART;TZID=Europe/Berlin:20270211T160000
DTEND;TZID=Europe/Berlin:20270211T173000
DTSTAMP:20260419T154429
CREATED:20230910T092059Z
LAST-MODIFIED:20230926T115533Z
UID:10001016-1802361600-1802367000@www.melanchthon-hannover.de
SUMMARY:Eltern-Kind-Spielkreis
DESCRIPTION:
URL:https://www.melanchthon-hannover.de/termin/eltern-kind-spielkreis-3/2027-02-11/
LOCATION:Melanchthon – Glasraum\, Menschingstr. 12\, Hannover\, 30173\, Deutschland
CATEGORIES:Gemeindeveranstaltung
END:VEVENT
BEGIN:VEVENT
DTSTART;TZID=Europe/Berlin:20270218T160000
DTEND;TZID=Europe/Berlin:20270218T173000
DTSTAMP:20260419T154429
CREATED:20230910T092059Z
LAST-MODIFIED:20230926T115533Z
UID:10001017-1802966400-1802971800@www.melanchthon-hannover.de
SUMMARY:Eltern-Kind-Spielkreis
DESCRIPTION:
URL:https://www.melanchthon-hannover.de/termin/eltern-kind-spielkreis-3/2027-02-18/
LOCATION:Melanchthon – Glasraum\, Menschingstr. 12\, Hannover\, 30173\, Deutschland
CATEGORIES:Gemeindeveranstaltung
END:VEVENT
BEGIN:VEVENT
DTSTART;TZID=Europe/Berlin:20270225T160000
DTEND;TZID=Europe/Berlin:20270225T173000
DTSTAMP:20260419T154429
CREATED:20230910T092059Z
LAST-MODIFIED:20230926T115533Z
UID:10001018-1803571200-1803576600@www.melanchthon-hannover.de
SUMMARY:Eltern-Kind-Spielkreis
DESCRIPTION:
URL:https://www.melanchthon-hannover.de/termin/eltern-kind-spielkreis-3/2027-02-25/
LOCATION:Melanchthon – Glasraum\, Menschingstr. 12\, Hannover\, 30173\, Deutschland
CATEGORIES:Gemeindeveranstaltung
END:VEVENT
BEGIN:VEVENT
DTSTART;TZID=Europe/Berlin:20270304T160000
DTEND;TZID=Europe/Berlin:20270304T173000
DTSTAMP:20260419T154429
CREATED:20230910T092059Z
LAST-MODIFIED:20230926T115533Z
UID:10001019-1804176000-1804181400@www.melanchthon-hannover.de
SUMMARY:Eltern-Kind-Spielkreis
DESCRIPTION:
URL:https://www.melanchthon-hannover.de/termin/eltern-kind-spielkreis-3/2027-03-04/
LOCATION:Melanchthon – Glasraum\, Menschingstr. 12\, Hannover\, 30173\, Deutschland
CATEGORIES:Gemeindeveranstaltung
END:VEVENT
BEGIN:VEVENT
DTSTART;TZID=Europe/Berlin:20270311T160000
DTEND;TZID=Europe/Berlin:20270311T173000
DTSTAMP:20260419T154429
CREATED:20230910T092059Z
LAST-MODIFIED:20230926T115533Z
UID:10001020-1804780800-1804786200@www.melanchthon-hannover.de
SUMMARY:Eltern-Kind-Spielkreis
DESCRIPTION:
URL:https://www.melanchthon-hannover.de/termin/eltern-kind-spielkreis-3/2027-03-11/
LOCATION:Melanchthon – Glasraum\, Menschingstr. 12\, Hannover\, 30173\, Deutschland
CATEGORIES:Gemeindeveranstaltung
END:VEVENT
BEGIN:VEVENT
DTSTART;TZID=Europe/Berlin:20270318T160000
DTEND;TZID=Europe/Berlin:20270318T173000
DTSTAMP:20260419T154429
CREATED:20230910T092059Z
LAST-MODIFIED:20230926T115533Z
UID:10001021-1805385600-1805391000@www.melanchthon-hannover.de
SUMMARY:Eltern-Kind-Spielkreis
DESCRIPTION:
URL:https://www.melanchthon-hannover.de/termin/eltern-kind-spielkreis-3/2027-03-18/
LOCATION:Melanchthon – Glasraum\, Menschingstr. 12\, Hannover\, 30173\, Deutschland
CATEGORIES:Gemeindeveranstaltung
END:VEVENT
BEGIN:VEVENT
DTSTART;TZID=Europe/Berlin:20270325T160000
DTEND;TZID=Europe/Berlin:20270325T173000
DTSTAMP:20260419T154429
CREATED:20230910T092059Z
LAST-MODIFIED:20230926T115533Z
UID:10001022-1805990400-1805995800@www.melanchthon-hannover.de
SUMMARY:Eltern-Kind-Spielkreis
DESCRIPTION:
URL:https://www.melanchthon-hannover.de/termin/eltern-kind-spielkreis-3/2027-03-25/
LOCATION:Melanchthon – Glasraum\, Menschingstr. 12\, Hannover\, 30173\, Deutschland
CATEGORIES:Gemeindeveranstaltung
END:VEVENT
BEGIN:VEVENT
DTSTART;TZID=Europe/Berlin:20270401T160000
DTEND;TZID=Europe/Berlin:20270401T173000
DTSTAMP:20260419T154429
CREATED:20230910T092059Z
LAST-MODIFIED:20230926T115533Z
UID:10001023-1806595200-1806600600@www.melanchthon-hannover.de
SUMMARY:Eltern-Kind-Spielkreis
DESCRIPTION:
URL:https://www.melanchthon-hannover.de/termin/eltern-kind-spielkreis-3/2027-04-01/
LOCATION:Melanchthon – Glasraum\, Menschingstr. 12\, Hannover\, 30173\, Deutschland
CATEGORIES:Gemeindeveranstaltung
END:VEVENT
BEGIN:VEVENT
DTSTART;TZID=Europe/Berlin:20270408T160000
DTEND;TZID=Europe/Berlin:20270408T173000
DTSTAMP:20260419T154429
CREATED:20230910T092059Z
LAST-MODIFIED:20230926T115533Z
UID:10001024-1807200000-1807205400@www.melanchthon-hannover.de
SUMMARY:Eltern-Kind-Spielkreis
DESCRIPTION:
URL:https://www.melanchthon-hannover.de/termin/eltern-kind-spielkreis-3/2027-04-08/
LOCATION:Melanchthon – Glasraum\, Menschingstr. 12\, Hannover\, 30173\, Deutschland
CATEGORIES:Gemeindeveranstaltung
END:VEVENT
BEGIN:VEVENT
DTSTART;TZID=Europe/Berlin:20270415T160000
DTEND;TZID=Europe/Berlin:20270415T173000
DTSTAMP:20260419T154429
CREATED:20230910T092059Z
LAST-MODIFIED:20230926T115533Z
UID:10001025-1807804800-1807810200@www.melanchthon-hannover.de
SUMMARY:Eltern-Kind-Spielkreis
DESCRIPTION:
URL:https://www.melanchthon-hannover.de/termin/eltern-kind-spielkreis-3/2027-04-15/
LOCATION:Melanchthon – Glasraum\, Menschingstr. 12\, Hannover\, 30173\, Deutschland
CATEGORIES:Gemeindeveranstaltung
END:VEVENT
BEGIN:VEVENT
DTSTART;TZID=Europe/Berlin:20270422T160000
DTEND;TZID=Europe/Berlin:20270422T173000
DTSTAMP:20260419T154429
CREATED:20230910T092059Z
LAST-MODIFIED:20230926T115533Z
UID:10001026-1808409600-1808415000@www.melanchthon-hannover.de
SUMMARY:Eltern-Kind-Spielkreis
DESCRIPTION:
URL:https://www.melanchthon-hannover.de/termin/eltern-kind-spielkreis-3/2027-04-22/
LOCATION:Melanchthon – Glasraum\, Menschingstr. 12\, Hannover\, 30173\, Deutschland
CATEGORIES:Gemeindeveranstaltung
END:VEVENT
BEGIN:VEVENT
DTSTART;TZID=Europe/Berlin:20270429T160000
DTEND;TZID=Europe/Berlin:20270429T173000
DTSTAMP:20260419T154429
CREATED:20230910T092059Z
LAST-MODIFIED:20230926T115533Z
UID:10001027-1809014400-1809019800@www.melanchthon-hannover.de
SUMMARY:Eltern-Kind-Spielkreis
DESCRIPTION:
URL:https://www.melanchthon-hannover.de/termin/eltern-kind-spielkreis-3/2027-04-29/
LOCATION:Melanchthon – Glasraum\, Menschingstr. 12\, Hannover\, 30173\, Deutschland
CATEGORIES:Gemeindeveranstaltung
END:VEVENT
BEGIN:VEVENT
DTSTART;TZID=Europe/Berlin:20270506T160000
DTEND;TZID=Europe/Berlin:20270506T173000
DTSTAMP:20260419T154429
CREATED:20230910T092059Z
LAST-MODIFIED:20230926T115533Z
UID:10001028-1809619200-1809624600@www.melanchthon-hannover.de
SUMMARY:Eltern-Kind-Spielkreis
DESCRIPTION:
URL:https://www.melanchthon-hannover.de/termin/eltern-kind-spielkreis-3/2027-05-06/
LOCATION:Melanchthon – Glasraum\, Menschingstr. 12\, Hannover\, 30173\, Deutschland
CATEGORIES:Gemeindeveranstaltung
END:VEVENT
BEGIN:VEVENT
DTSTART;TZID=Europe/Berlin:20270513T160000
DTEND;TZID=Europe/Berlin:20270513T173000
DTSTAMP:20260419T154429
CREATED:20230910T092059Z
LAST-MODIFIED:20230926T115533Z
UID:10001029-1810224000-1810229400@www.melanchthon-hannover.de
SUMMARY:Eltern-Kind-Spielkreis
DESCRIPTION:
URL:https://www.melanchthon-hannover.de/termin/eltern-kind-spielkreis-3/2027-05-13/
LOCATION:Melanchthon – Glasraum\, Menschingstr. 12\, Hannover\, 30173\, Deutschland
CATEGORIES:Gemeindeveranstaltung
END:VEVENT
BEGIN:VEVENT
DTSTART;TZID=Europe/Berlin:20270520T160000
DTEND;TZID=Europe/Berlin:20270520T173000
DTSTAMP:20260419T154429
CREATED:20230910T092059Z
LAST-MODIFIED:20230926T115533Z
UID:10001030-1810828800-1810834200@www.melanchthon-hannover.de
SUMMARY:Eltern-Kind-Spielkreis
DESCRIPTION:
URL:https://www.melanchthon-hannover.de/termin/eltern-kind-spielkreis-3/2027-05-20/
LOCATION:Melanchthon – Glasraum\, Menschingstr. 12\, Hannover\, 30173\, Deutschland
CATEGORIES:Gemeindeveranstaltung
END:VEVENT
BEGIN:VEVENT
DTSTART;TZID=Europe/Berlin:20270527T160000
DTEND;TZID=Europe/Berlin:20270527T173000
DTSTAMP:20260419T154429
CREATED:20230910T092059Z
LAST-MODIFIED:20230926T115533Z
UID:10001031-1811433600-1811439000@www.melanchthon-hannover.de
SUMMARY:Eltern-Kind-Spielkreis
DESCRIPTION:
URL:https://www.melanchthon-hannover.de/termin/eltern-kind-spielkreis-3/2027-05-27/
LOCATION:Melanchthon – Glasraum\, Menschingstr. 12\, Hannover\, 30173\, Deutschland
CATEGORIES:Gemeindeveranstaltung
END:VEVENT
BEGIN:VEVENT
DTSTART;TZID=Europe/Berlin:20270603T160000
DTEND;TZID=Europe/Berlin:20270603T173000
DTSTAMP:20260419T154429
CREATED:20230910T092059Z
LAST-MODIFIED:20230926T115533Z
UID:10001032-1812038400-1812043800@www.melanchthon-hannover.de
SUMMARY:Eltern-Kind-Spielkreis
DESCRIPTION:
URL:https://www.melanchthon-hannover.de/termin/eltern-kind-spielkreis-3/2027-06-03/
LOCATION:Melanchthon – Glasraum\, Menschingstr. 12\, Hannover\, 30173\, Deutschland
CATEGORIES:Gemeindeveranstaltung
END:VEVENT
BEGIN:VEVENT
DTSTART;TZID=Europe/Berlin:20270610T160000
DTEND;TZID=Europe/Berlin:20270610T173000
DTSTAMP:20260419T154429
CREATED:20230910T092059Z
LAST-MODIFIED:20230926T115533Z
UID:10001033-1812643200-1812648600@www.melanchthon-hannover.de
SUMMARY:Eltern-Kind-Spielkreis
DESCRIPTION:
URL:https://www.melanchthon-hannover.de/termin/eltern-kind-spielkreis-3/2027-06-10/
LOCATION:Melanchthon – Glasraum\, Menschingstr. 12\, Hannover\, 30173\, Deutschland
CATEGORIES:Gemeindeveranstaltung
END:VEVENT
BEGIN:VEVENT
DTSTART;TZID=Europe/Berlin:20270617T160000
DTEND;TZID=Europe/Berlin:20270617T173000
DTSTAMP:20260419T154429
CREATED:20230910T092059Z
LAST-MODIFIED:20230926T115533Z
UID:10001034-1813248000-1813253400@www.melanchthon-hannover.de
SUMMARY:Eltern-Kind-Spielkreis
DESCRIPTION:
URL:https://www.melanchthon-hannover.de/termin/eltern-kind-spielkreis-3/2027-06-17/
LOCATION:Melanchthon – Glasraum\, Menschingstr. 12\, Hannover\, 30173\, Deutschland
CATEGORIES:Gemeindeveranstaltung
END:VEVENT
BEGIN:VEVENT
DTSTART;TZID=Europe/Berlin:20270624T160000
DTEND;TZID=Europe/Berlin:20270624T173000
DTSTAMP:20260419T154429
CREATED:20230910T092059Z
LAST-MODIFIED:20230926T115533Z
UID:10001035-1813852800-1813858200@www.melanchthon-hannover.de
SUMMARY:Eltern-Kind-Spielkreis
DESCRIPTION:
URL:https://www.melanchthon-hannover.de/termin/eltern-kind-spielkreis-3/2027-06-24/
LOCATION:Melanchthon – Glasraum\, Menschingstr. 12\, Hannover\, 30173\, Deutschland
CATEGORIES:Gemeindeveranstaltung
END:VEVENT
END:VCALENDAR