BEGIN:VCALENDAR
VERSION:2.0
PRODID:-//Melanchthon-Gemeinde - ECPv6.15.20//NONSGML v1.0//EN
CALSCALE:GREGORIAN
METHOD:PUBLISH
X-WR-CALNAME:Melanchthon-Gemeinde
X-ORIGINAL-URL:https://www.melanchthon-hannover.de
X-WR-CALDESC:Veranstaltungen für Melanchthon-Gemeinde
REFRESH-INTERVAL;VALUE=DURATION:PT1H
X-Robots-Tag:noindex
X-PUBLISHED-TTL:PT1H
BEGIN:VTIMEZONE
TZID:Europe/Berlin
BEGIN:DAYLIGHT
TZOFFSETFROM:+0100
TZOFFSETTO:+0200
TZNAME:CEST
DTSTART:20240331T010000
END:DAYLIGHT
BEGIN:STANDARD
TZOFFSETFROM:+0200
TZOFFSETTO:+0100
TZNAME:CET
DTSTART:20241027T010000
END:STANDARD
BEGIN:DAYLIGHT
TZOFFSETFROM:+0100
TZOFFSETTO:+0200
TZNAME:CEST
DTSTART:20250330T010000
END:DAYLIGHT
BEGIN:STANDARD
TZOFFSETFROM:+0200
TZOFFSETTO:+0100
TZNAME:CET
DTSTART:20251026T010000
END:STANDARD
BEGIN:DAYLIGHT
TZOFFSETFROM:+0100
TZOFFSETTO:+0200
TZNAME:CEST
DTSTART:20260329T010000
END:DAYLIGHT
BEGIN:STANDARD
TZOFFSETFROM:+0200
TZOFFSETTO:+0100
TZNAME:CET
DTSTART:20261025T010000
END:STANDARD
BEGIN:DAYLIGHT
TZOFFSETFROM:+0100
TZOFFSETTO:+0200
TZNAME:CEST
DTSTART:20270328T010000
END:DAYLIGHT
BEGIN:STANDARD
TZOFFSETFROM:+0200
TZOFFSETTO:+0100
TZNAME:CET
DTSTART:20271031T010000
END:STANDARD
END:VTIMEZONE
BEGIN:VEVENT
DTSTART;TZID=Europe/Berlin:20260212T160000
DTEND;TZID=Europe/Berlin:20260212T173000
DTSTAMP:20260425T153126
CREATED:20230910T092059Z
LAST-MODIFIED:20230926T115533Z
UID:10000964-1770912000-1770917400@www.melanchthon-hannover.de
SUMMARY:Eltern-Kind-Spielkreis
DESCRIPTION:
URL:https://www.melanchthon-hannover.de/termin/eltern-kind-spielkreis-3/2026-02-12/
LOCATION:Melanchthon – Glasraum\, Menschingstr. 12\, Hannover\, 30173\, Deutschland
CATEGORIES:Gemeindeveranstaltung
END:VEVENT
BEGIN:VEVENT
DTSTART;TZID=Europe/Berlin:20260208T100000
DTEND;TZID=Europe/Berlin:20260208T110000
DTSTAMP:20260425T153126
CREATED:20260124T110005Z
LAST-MODIFIED:20260124T110006Z
UID:10007365-1770544800-1770548400@www.melanchthon-hannover.de
SUMMARY:Kindergottesdienst
DESCRIPTION:
URL:https://www.melanchthon-hannover.de/termin/kindergottesdienst-44/2026-02-08/
LOCATION:Melanchthon\, Menschingstr. 12\, Hannover\, 30173\, Deutschland
CATEGORIES:Kindergottesdienst
ATTACH;FMTTYPE=image/png:https://www.melanchthon-hannover.de/wp-content/uploads/2026/01/8.2.26-22.2.26-Kinder-GD.png
END:VEVENT
BEGIN:VEVENT
DTSTART;TZID=Europe/Berlin:20260205T160000
DTEND;TZID=Europe/Berlin:20260205T173000
DTSTAMP:20260425T153126
CREATED:20230910T092059Z
LAST-MODIFIED:20230926T115533Z
UID:10000963-1770307200-1770312600@www.melanchthon-hannover.de
SUMMARY:Eltern-Kind-Spielkreis
DESCRIPTION:
URL:https://www.melanchthon-hannover.de/termin/eltern-kind-spielkreis-3/2026-02-05/
LOCATION:Melanchthon – Glasraum\, Menschingstr. 12\, Hannover\, 30173\, Deutschland
CATEGORIES:Gemeindeveranstaltung
END:VEVENT
BEGIN:VEVENT
DTSTART;TZID=Europe/Berlin:20260129T160000
DTEND;TZID=Europe/Berlin:20260129T173000
DTSTAMP:20260425T153126
CREATED:20230910T092059Z
LAST-MODIFIED:20230926T115533Z
UID:10000962-1769702400-1769707800@www.melanchthon-hannover.de
SUMMARY:Eltern-Kind-Spielkreis
DESCRIPTION:
URL:https://www.melanchthon-hannover.de/termin/eltern-kind-spielkreis-3/2026-01-29/
LOCATION:Melanchthon – Glasraum\, Menschingstr. 12\, Hannover\, 30173\, Deutschland
CATEGORIES:Gemeindeveranstaltung
END:VEVENT
BEGIN:VEVENT
DTSTART;TZID=Europe/Berlin:20260125T100000
DTEND;TZID=Europe/Berlin:20260125T110000
DTSTAMP:20260425T153126
CREATED:20260103T104657Z
LAST-MODIFIED:20260103T122843Z
UID:10007355-1769335200-1769338800@www.melanchthon-hannover.de
SUMMARY:Kindergottesdienst
DESCRIPTION:
URL:https://www.melanchthon-hannover.de/termin/kindergottesdienst-43/
LOCATION:Melanchthon\, Menschingstr. 12\, Hannover\, 30173\, Deutschland
CATEGORIES:Kindergottesdienst
ATTACH;FMTTYPE=image/png:https://www.melanchthon-hannover.de/wp-content/uploads/2026/01/01.2026-Kinder-GD.png
END:VEVENT
BEGIN:VEVENT
DTSTART;TZID=Europe/Berlin:20260122T160000
DTEND;TZID=Europe/Berlin:20260122T173000
DTSTAMP:20260425T153126
CREATED:20230910T092059Z
LAST-MODIFIED:20230926T115533Z
UID:10000961-1769097600-1769103000@www.melanchthon-hannover.de
SUMMARY:Eltern-Kind-Spielkreis
DESCRIPTION:
URL:https://www.melanchthon-hannover.de/termin/eltern-kind-spielkreis-3/2026-01-22/
LOCATION:Melanchthon – Glasraum\, Menschingstr. 12\, Hannover\, 30173\, Deutschland
CATEGORIES:Gemeindeveranstaltung
END:VEVENT
BEGIN:VEVENT
DTSTART;TZID=Europe/Berlin:20260115T160000
DTEND;TZID=Europe/Berlin:20260115T173000
DTSTAMP:20260425T153126
CREATED:20230910T092059Z
LAST-MODIFIED:20230926T115533Z
UID:10000960-1768492800-1768498200@www.melanchthon-hannover.de
SUMMARY:Eltern-Kind-Spielkreis
DESCRIPTION:
URL:https://www.melanchthon-hannover.de/termin/eltern-kind-spielkreis-3/2026-01-15/
LOCATION:Melanchthon – Glasraum\, Menschingstr. 12\, Hannover\, 30173\, Deutschland
CATEGORIES:Gemeindeveranstaltung
END:VEVENT
BEGIN:VEVENT
DTSTART;TZID=Europe/Berlin:20260111T100000
DTEND;TZID=Europe/Berlin:20260111T110000
DTSTAMP:20260425T153126
CREATED:20260103T104203Z
LAST-MODIFIED:20260103T122754Z
UID:10007353-1768125600-1768129200@www.melanchthon-hannover.de
SUMMARY:Kindergottesdienst
DESCRIPTION:
URL:https://www.melanchthon-hannover.de/termin/kindergottesdienst-42/
LOCATION:Melanchthon\, Menschingstr. 12\, Hannover\, 30173\, Deutschland
CATEGORIES:Kindergottesdienst
ATTACH;FMTTYPE=image/png:https://www.melanchthon-hannover.de/wp-content/uploads/2026/01/01.2026-Kinder-GD.png
END:VEVENT
BEGIN:VEVENT
DTSTART;TZID=Europe/Berlin:20260108T160000
DTEND;TZID=Europe/Berlin:20260108T173000
DTSTAMP:20260425T153126
CREATED:20230910T092059Z
LAST-MODIFIED:20230926T115533Z
UID:10000959-1767888000-1767893400@www.melanchthon-hannover.de
SUMMARY:Eltern-Kind-Spielkreis
DESCRIPTION:
URL:https://www.melanchthon-hannover.de/termin/eltern-kind-spielkreis-3/2026-01-08/
LOCATION:Melanchthon – Glasraum\, Menschingstr. 12\, Hannover\, 30173\, Deutschland
CATEGORIES:Gemeindeveranstaltung
END:VEVENT
BEGIN:VEVENT
DTSTART;TZID=Europe/Berlin:20260101T160000
DTEND;TZID=Europe/Berlin:20260101T173000
DTSTAMP:20260425T153126
CREATED:20230910T092059Z
LAST-MODIFIED:20230926T115533Z
UID:10000958-1767283200-1767288600@www.melanchthon-hannover.de
SUMMARY:Eltern-Kind-Spielkreis
DESCRIPTION:
URL:https://www.melanchthon-hannover.de/termin/eltern-kind-spielkreis-3/2026-01-01/
LOCATION:Melanchthon – Glasraum\, Menschingstr. 12\, Hannover\, 30173\, Deutschland
CATEGORIES:Gemeindeveranstaltung
END:VEVENT
BEGIN:VEVENT
DTSTART;TZID=Europe/Berlin:20251225T160000
DTEND;TZID=Europe/Berlin:20251225T173000
DTSTAMP:20260425T153126
CREATED:20230910T092059Z
LAST-MODIFIED:20230926T115533Z
UID:10000957-1766678400-1766683800@www.melanchthon-hannover.de
SUMMARY:Eltern-Kind-Spielkreis
DESCRIPTION:
URL:https://www.melanchthon-hannover.de/termin/eltern-kind-spielkreis-3/2025-12-25/
LOCATION:Melanchthon – Glasraum\, Menschingstr. 12\, Hannover\, 30173\, Deutschland
CATEGORIES:Gemeindeveranstaltung
END:VEVENT
BEGIN:VEVENT
DTSTART;TZID=Europe/Berlin:20251224T153000
DTEND;TZID=Europe/Berlin:20251224T163000
DTSTAMP:20260425T153126
CREATED:20251029T102603Z
LAST-MODIFIED:20251218T212744Z
UID:10007315-1766590200-1766593800@www.melanchthon-hannover.de
SUMMARY:Krippenspiel
DESCRIPTION:
URL:https://www.melanchthon-hannover.de/termin/krippenspiel-2/
LOCATION:Melanchthon\, Menschingstr. 12\, Hannover\, 30173\, Deutschland
CATEGORIES:Kindergottesdienst
ATTACH;FMTTYPE=image/png:https://www.melanchthon-hannover.de/wp-content/uploads/2025/12/24.12.25-Heiligabend.png
END:VEVENT
BEGIN:VEVENT
DTSTART;TZID=Europe/Berlin:20251218T160000
DTEND;TZID=Europe/Berlin:20251218T173000
DTSTAMP:20260425T153126
CREATED:20230910T092059Z
LAST-MODIFIED:20230926T115533Z
UID:10000956-1766073600-1766079000@www.melanchthon-hannover.de
SUMMARY:Eltern-Kind-Spielkreis
DESCRIPTION:
URL:https://www.melanchthon-hannover.de/termin/eltern-kind-spielkreis-3/2025-12-18/
LOCATION:Melanchthon – Glasraum\, Menschingstr. 12\, Hannover\, 30173\, Deutschland
CATEGORIES:Gemeindeveranstaltung
END:VEVENT
BEGIN:VEVENT
DTSTART;TZID=Europe/Berlin:20251211T160000
DTEND;TZID=Europe/Berlin:20251211T173000
DTSTAMP:20260425T153126
CREATED:20230910T092059Z
LAST-MODIFIED:20230926T115533Z
UID:10000955-1765468800-1765474200@www.melanchthon-hannover.de
SUMMARY:Eltern-Kind-Spielkreis
DESCRIPTION:
URL:https://www.melanchthon-hannover.de/termin/eltern-kind-spielkreis-3/2025-12-11/
LOCATION:Melanchthon – Glasraum\, Menschingstr. 12\, Hannover\, 30173\, Deutschland
CATEGORIES:Gemeindeveranstaltung
END:VEVENT
BEGIN:VEVENT
DTSTART;TZID=Europe/Berlin:20251204T160000
DTEND;TZID=Europe/Berlin:20251204T173000
DTSTAMP:20260425T153126
CREATED:20230910T092059Z
LAST-MODIFIED:20230926T115533Z
UID:10000954-1764864000-1764869400@www.melanchthon-hannover.de
SUMMARY:Eltern-Kind-Spielkreis
DESCRIPTION:
URL:https://www.melanchthon-hannover.de/termin/eltern-kind-spielkreis-3/2025-12-04/
LOCATION:Melanchthon – Glasraum\, Menschingstr. 12\, Hannover\, 30173\, Deutschland
CATEGORIES:Gemeindeveranstaltung
END:VEVENT
BEGIN:VEVENT
DTSTART;TZID=Europe/Berlin:20251127T160000
DTEND;TZID=Europe/Berlin:20251127T173000
DTSTAMP:20260425T153126
CREATED:20230910T092059Z
LAST-MODIFIED:20230926T115533Z
UID:10000953-1764259200-1764264600@www.melanchthon-hannover.de
SUMMARY:Eltern-Kind-Spielkreis
DESCRIPTION:
URL:https://www.melanchthon-hannover.de/termin/eltern-kind-spielkreis-3/2025-11-27/
LOCATION:Melanchthon – Glasraum\, Menschingstr. 12\, Hannover\, 30173\, Deutschland
CATEGORIES:Gemeindeveranstaltung
END:VEVENT
BEGIN:VEVENT
DTSTART;TZID=Europe/Berlin:20251123T100000
DTEND;TZID=Europe/Berlin:20251123T110000
DTSTAMP:20260425T153126
CREATED:20251106T222420Z
LAST-MODIFIED:20251106T222420Z
UID:10007350-1763892000-1763895600@www.melanchthon-hannover.de
SUMMARY:Kindergottesdienst
DESCRIPTION:
URL:https://www.melanchthon-hannover.de/termin/kindergottesdienst-41/
LOCATION:Melanchthon\, Menschingstr. 12\, Hannover\, 30173\, Deutschland
CATEGORIES:Kindergottesdienst
END:VEVENT
BEGIN:VEVENT
DTSTART;TZID=Europe/Berlin:20251120T160000
DTEND;TZID=Europe/Berlin:20251120T173000
DTSTAMP:20260425T153126
CREATED:20230910T092059Z
LAST-MODIFIED:20230926T115533Z
UID:10000952-1763654400-1763659800@www.melanchthon-hannover.de
SUMMARY:Eltern-Kind-Spielkreis
DESCRIPTION:
URL:https://www.melanchthon-hannover.de/termin/eltern-kind-spielkreis-3/2025-11-20/
LOCATION:Melanchthon – Glasraum\, Menschingstr. 12\, Hannover\, 30173\, Deutschland
CATEGORIES:Gemeindeveranstaltung
END:VEVENT
BEGIN:VEVENT
DTSTART;TZID=Europe/Berlin:20251113T160000
DTEND;TZID=Europe/Berlin:20251113T173000
DTSTAMP:20260425T153126
CREATED:20230910T092059Z
LAST-MODIFIED:20230926T115533Z
UID:10000951-1763049600-1763055000@www.melanchthon-hannover.de
SUMMARY:Eltern-Kind-Spielkreis
DESCRIPTION:
URL:https://www.melanchthon-hannover.de/termin/eltern-kind-spielkreis-3/2025-11-13/
LOCATION:Melanchthon – Glasraum\, Menschingstr. 12\, Hannover\, 30173\, Deutschland
CATEGORIES:Gemeindeveranstaltung
END:VEVENT
BEGIN:VEVENT
DTSTART;TZID=Europe/Berlin:20251109T100000
DTEND;TZID=Europe/Berlin:20251109T110000
DTSTAMP:20260425T153126
CREATED:20251106T221716Z
LAST-MODIFIED:20251106T221716Z
UID:10007345-1762682400-1762686000@www.melanchthon-hannover.de
SUMMARY:Kindergottesdienst
DESCRIPTION:
URL:https://www.melanchthon-hannover.de/termin/kindergottesdienst-39/
LOCATION:Melanchthon\, Menschingstr. 12\, Hannover\, 30173\, Deutschland
CATEGORIES:Kindergottesdienst
END:VEVENT
BEGIN:VEVENT
DTSTART;TZID=Europe/Berlin:20251106T160000
DTEND;TZID=Europe/Berlin:20251106T173000
DTSTAMP:20260425T153126
CREATED:20230910T092059Z
LAST-MODIFIED:20230926T115533Z
UID:10000950-1762444800-1762450200@www.melanchthon-hannover.de
SUMMARY:Eltern-Kind-Spielkreis
DESCRIPTION:
URL:https://www.melanchthon-hannover.de/termin/eltern-kind-spielkreis-3/2025-11-06/
LOCATION:Melanchthon – Glasraum\, Menschingstr. 12\, Hannover\, 30173\, Deutschland
CATEGORIES:Gemeindeveranstaltung
END:VEVENT
BEGIN:VEVENT
DTSTART;TZID=Europe/Berlin:20251030T160000
DTEND;TZID=Europe/Berlin:20251030T173000
DTSTAMP:20260425T153126
CREATED:20230910T092059Z
LAST-MODIFIED:20230926T115533Z
UID:10000949-1761840000-1761845400@www.melanchthon-hannover.de
SUMMARY:Eltern-Kind-Spielkreis
DESCRIPTION:
URL:https://www.melanchthon-hannover.de/termin/eltern-kind-spielkreis-3/2025-10-30/
LOCATION:Melanchthon – Glasraum\, Menschingstr. 12\, Hannover\, 30173\, Deutschland
CATEGORIES:Gemeindeveranstaltung
END:VEVENT
BEGIN:VEVENT
DTSTART;TZID=Europe/Berlin:20251023T160000
DTEND;TZID=Europe/Berlin:20251023T173000
DTSTAMP:20260425T153126
CREATED:20230910T092059Z
LAST-MODIFIED:20230926T115533Z
UID:10000948-1761235200-1761240600@www.melanchthon-hannover.de
SUMMARY:Eltern-Kind-Spielkreis
DESCRIPTION:
URL:https://www.melanchthon-hannover.de/termin/eltern-kind-spielkreis-3/2025-10-23/
LOCATION:Melanchthon – Glasraum\, Menschingstr. 12\, Hannover\, 30173\, Deutschland
CATEGORIES:Gemeindeveranstaltung
END:VEVENT
BEGIN:VEVENT
DTSTART;TZID=Europe/Berlin:20251016T160000
DTEND;TZID=Europe/Berlin:20251016T173000
DTSTAMP:20260425T153126
CREATED:20230910T092059Z
LAST-MODIFIED:20230926T115533Z
UID:10000947-1760630400-1760635800@www.melanchthon-hannover.de
SUMMARY:Eltern-Kind-Spielkreis
DESCRIPTION:
URL:https://www.melanchthon-hannover.de/termin/eltern-kind-spielkreis-3/2025-10-16/
LOCATION:Melanchthon – Glasraum\, Menschingstr. 12\, Hannover\, 30173\, Deutschland
CATEGORIES:Gemeindeveranstaltung
END:VEVENT
BEGIN:VEVENT
DTSTART;TZID=Europe/Berlin:20251012T100000
DTEND;TZID=Europe/Berlin:20251012T113000
DTSTAMP:20260425T153126
CREATED:20251002T104203Z
LAST-MODIFIED:20251002T104203Z
UID:10007303-1760263200-1760268600@www.melanchthon-hannover.de
SUMMARY:Kindergottesdienst
DESCRIPTION:
URL:https://www.melanchthon-hannover.de/termin/kindergottesdienst-38/
LOCATION:Melanchthon – Unterkirche\, Menschingstr. 12\, Hannover\, 30173\, Deutschland
CATEGORIES:Kindergottesdienst
END:VEVENT
BEGIN:VEVENT
DTSTART;TZID=Europe/Berlin:20251009T160000
DTEND;TZID=Europe/Berlin:20251009T173000
DTSTAMP:20260425T153126
CREATED:20230910T092059Z
LAST-MODIFIED:20230926T115533Z
UID:10000946-1760025600-1760031000@www.melanchthon-hannover.de
SUMMARY:Eltern-Kind-Spielkreis
DESCRIPTION:
URL:https://www.melanchthon-hannover.de/termin/eltern-kind-spielkreis-3/2025-10-09/
LOCATION:Melanchthon – Glasraum\, Menschingstr. 12\, Hannover\, 30173\, Deutschland
CATEGORIES:Gemeindeveranstaltung
END:VEVENT
BEGIN:VEVENT
DTSTART;TZID=Europe/Berlin:20251002T160000
DTEND;TZID=Europe/Berlin:20251002T173000
DTSTAMP:20260425T153126
CREATED:20230910T092059Z
LAST-MODIFIED:20230926T115533Z
UID:10000945-1759420800-1759426200@www.melanchthon-hannover.de
SUMMARY:Eltern-Kind-Spielkreis
DESCRIPTION:
URL:https://www.melanchthon-hannover.de/termin/eltern-kind-spielkreis-3/2025-10-02/
LOCATION:Melanchthon – Glasraum\, Menschingstr. 12\, Hannover\, 30173\, Deutschland
CATEGORIES:Gemeindeveranstaltung
END:VEVENT
BEGIN:VEVENT
DTSTART;TZID=Europe/Berlin:20250928T100000
DTEND;TZID=Europe/Berlin:20250928T113000
DTSTAMP:20260425T153126
CREATED:20250803T101658Z
LAST-MODIFIED:20250803T101751Z
UID:10007029-1759053600-1759059000@www.melanchthon-hannover.de
SUMMARY:Kindergottesdienst
DESCRIPTION:
URL:https://www.melanchthon-hannover.de/termin/kindergottesdienst-37/
LOCATION:Melanchthon\, Menschingstr. 12\, Hannover\, 30173\, Deutschland
CATEGORIES:Kindergottesdienst
END:VEVENT
BEGIN:VEVENT
DTSTART;TZID=Europe/Berlin:20250925T160000
DTEND;TZID=Europe/Berlin:20250925T173000
DTSTAMP:20260425T153126
CREATED:20230910T092059Z
LAST-MODIFIED:20230926T115533Z
UID:10000944-1758816000-1758821400@www.melanchthon-hannover.de
SUMMARY:Eltern-Kind-Spielkreis
DESCRIPTION:
URL:https://www.melanchthon-hannover.de/termin/eltern-kind-spielkreis-3/2025-09-25/
LOCATION:Melanchthon – Glasraum\, Menschingstr. 12\, Hannover\, 30173\, Deutschland
CATEGORIES:Gemeindeveranstaltung
END:VEVENT
BEGIN:VEVENT
DTSTART;TZID=Europe/Berlin:20250918T160000
DTEND;TZID=Europe/Berlin:20250918T173000
DTSTAMP:20260425T153126
CREATED:20230910T092059Z
LAST-MODIFIED:20230926T115533Z
UID:10000943-1758211200-1758216600@www.melanchthon-hannover.de
SUMMARY:Eltern-Kind-Spielkreis
DESCRIPTION:
URL:https://www.melanchthon-hannover.de/termin/eltern-kind-spielkreis-3/2025-09-18/
LOCATION:Melanchthon – Glasraum\, Menschingstr. 12\, Hannover\, 30173\, Deutschland
CATEGORIES:Gemeindeveranstaltung
END:VEVENT
END:VCALENDAR