BEGIN:VCALENDAR
VERSION:2.0
PRODID:-//Melanchthon-Gemeinde - ECPv6.15.20//NONSGML v1.0//EN
CALSCALE:GREGORIAN
METHOD:PUBLISH
X-WR-CALNAME:Melanchthon-Gemeinde
X-ORIGINAL-URL:https://www.melanchthon-hannover.de
X-WR-CALDESC:Veranstaltungen für Melanchthon-Gemeinde
REFRESH-INTERVAL;VALUE=DURATION:PT1H
X-Robots-Tag:noindex
X-PUBLISHED-TTL:PT1H
BEGIN:VTIMEZONE
TZID:Europe/Berlin
BEGIN:DAYLIGHT
TZOFFSETFROM:+0100
TZOFFSETTO:+0200
TZNAME:CEST
DTSTART:20230326T010000
END:DAYLIGHT
BEGIN:STANDARD
TZOFFSETFROM:+0200
TZOFFSETTO:+0100
TZNAME:CET
DTSTART:20231029T010000
END:STANDARD
BEGIN:DAYLIGHT
TZOFFSETFROM:+0100
TZOFFSETTO:+0200
TZNAME:CEST
DTSTART:20240331T010000
END:DAYLIGHT
BEGIN:STANDARD
TZOFFSETFROM:+0200
TZOFFSETTO:+0100
TZNAME:CET
DTSTART:20241027T010000
END:STANDARD
BEGIN:DAYLIGHT
TZOFFSETFROM:+0100
TZOFFSETTO:+0200
TZNAME:CEST
DTSTART:20250330T010000
END:DAYLIGHT
BEGIN:STANDARD
TZOFFSETFROM:+0200
TZOFFSETTO:+0100
TZNAME:CET
DTSTART:20251026T010000
END:STANDARD
BEGIN:DAYLIGHT
TZOFFSETFROM:+0100
TZOFFSETTO:+0200
TZNAME:CEST
DTSTART:20260329T010000
END:DAYLIGHT
BEGIN:STANDARD
TZOFFSETFROM:+0200
TZOFFSETTO:+0100
TZNAME:CET
DTSTART:20261025T010000
END:STANDARD
END:VTIMEZONE
BEGIN:VEVENT
DTSTART;TZID=Europe/Berlin:20250203T150000
DTEND;TZID=Europe/Berlin:20250203T170000
DTSTAMP:20260419T171740
CREATED:20240724T120712Z
LAST-MODIFIED:20240724T120712Z
UID:10004959-1738594800-1738602000@www.melanchthon-hannover.de
SUMMARY:Seniorenbüro-Sprechstunde
DESCRIPTION:
URL:https://www.melanchthon-hannover.de/termin/seniorenbuero-sprechstunde/2025-02-03/
LOCATION:Diakonie-Seniorenbüro Bult\, Freundallee 16 (2. Stock)\, Hannover\, 30173\, Deutschland
CATEGORIES:Seniorenbüro
END:VEVENT
BEGIN:VEVENT
DTSTART;TZID=Europe/Berlin:20250127T150000
DTEND;TZID=Europe/Berlin:20250127T170000
DTSTAMP:20260419T171740
CREATED:20240724T120712Z
LAST-MODIFIED:20240724T120712Z
UID:10004958-1737990000-1737997200@www.melanchthon-hannover.de
SUMMARY:Seniorenbüro-Sprechstunde
DESCRIPTION:
URL:https://www.melanchthon-hannover.de/termin/seniorenbuero-sprechstunde/2025-01-27/
LOCATION:Diakonie-Seniorenbüro Bult\, Freundallee 16 (2. Stock)\, Hannover\, 30173\, Deutschland
CATEGORIES:Seniorenbüro
END:VEVENT
BEGIN:VEVENT
DTSTART;TZID=Europe/Berlin:20250120T150000
DTEND;TZID=Europe/Berlin:20250120T170000
DTSTAMP:20260419T171740
CREATED:20240724T120712Z
LAST-MODIFIED:20240724T120712Z
UID:10004957-1737385200-1737392400@www.melanchthon-hannover.de
SUMMARY:Seniorenbüro-Sprechstunde
DESCRIPTION:
URL:https://www.melanchthon-hannover.de/termin/seniorenbuero-sprechstunde/2025-01-20/
LOCATION:Diakonie-Seniorenbüro Bult\, Freundallee 16 (2. Stock)\, Hannover\, 30173\, Deutschland
CATEGORIES:Seniorenbüro
END:VEVENT
BEGIN:VEVENT
DTSTART;TZID=Europe/Berlin:20250113T150000
DTEND;TZID=Europe/Berlin:20250113T170000
DTSTAMP:20260419T171740
CREATED:20240724T120712Z
LAST-MODIFIED:20240724T120712Z
UID:10004956-1736780400-1736787600@www.melanchthon-hannover.de
SUMMARY:Seniorenbüro-Sprechstunde
DESCRIPTION:
URL:https://www.melanchthon-hannover.de/termin/seniorenbuero-sprechstunde/2025-01-13/
LOCATION:Diakonie-Seniorenbüro Bult\, Freundallee 16 (2. Stock)\, Hannover\, 30173\, Deutschland
CATEGORIES:Seniorenbüro
END:VEVENT
BEGIN:VEVENT
DTSTART;TZID=Europe/Berlin:20250106T150000
DTEND;TZID=Europe/Berlin:20250106T170000
DTSTAMP:20260419T171740
CREATED:20240724T120712Z
LAST-MODIFIED:20240724T120712Z
UID:10004955-1736175600-1736182800@www.melanchthon-hannover.de
SUMMARY:Seniorenbüro-Sprechstunde
DESCRIPTION:
URL:https://www.melanchthon-hannover.de/termin/seniorenbuero-sprechstunde/2025-01-06/
LOCATION:Diakonie-Seniorenbüro Bult\, Freundallee 16 (2. Stock)\, Hannover\, 30173\, Deutschland
CATEGORIES:Seniorenbüro
END:VEVENT
BEGIN:VEVENT
DTSTART;TZID=Europe/Berlin:20241230T150000
DTEND;TZID=Europe/Berlin:20241230T170000
DTSTAMP:20260419T171740
CREATED:20240724T120712Z
LAST-MODIFIED:20240724T120712Z
UID:10004954-1735570800-1735578000@www.melanchthon-hannover.de
SUMMARY:Seniorenbüro-Sprechstunde
DESCRIPTION:
URL:https://www.melanchthon-hannover.de/termin/seniorenbuero-sprechstunde/2024-12-30/
LOCATION:Diakonie-Seniorenbüro Bult\, Freundallee 16 (2. Stock)\, Hannover\, 30173\, Deutschland
CATEGORIES:Seniorenbüro
END:VEVENT
BEGIN:VEVENT
DTSTART;TZID=Europe/Berlin:20241223T150000
DTEND;TZID=Europe/Berlin:20241223T170000
DTSTAMP:20260419T171740
CREATED:20240724T120712Z
LAST-MODIFIED:20240724T120712Z
UID:10004953-1734966000-1734973200@www.melanchthon-hannover.de
SUMMARY:Seniorenbüro-Sprechstunde
DESCRIPTION:
URL:https://www.melanchthon-hannover.de/termin/seniorenbuero-sprechstunde/2024-12-23/
LOCATION:Diakonie-Seniorenbüro Bult\, Freundallee 16 (2. Stock)\, Hannover\, 30173\, Deutschland
CATEGORIES:Seniorenbüro
END:VEVENT
BEGIN:VEVENT
DTSTART;TZID=Europe/Berlin:20241216T150000
DTEND;TZID=Europe/Berlin:20241216T170000
DTSTAMP:20260419T171740
CREATED:20240724T120712Z
LAST-MODIFIED:20240724T120712Z
UID:10004952-1734361200-1734368400@www.melanchthon-hannover.de
SUMMARY:Seniorenbüro-Sprechstunde
DESCRIPTION:
URL:https://www.melanchthon-hannover.de/termin/seniorenbuero-sprechstunde/2024-12-16/
LOCATION:Diakonie-Seniorenbüro Bult\, Freundallee 16 (2. Stock)\, Hannover\, 30173\, Deutschland
CATEGORIES:Seniorenbüro
END:VEVENT
BEGIN:VEVENT
DTSTART;TZID=Europe/Berlin:20241209T150000
DTEND;TZID=Europe/Berlin:20241209T170000
DTSTAMP:20260419T171740
CREATED:20240724T120712Z
LAST-MODIFIED:20240724T120712Z
UID:10004951-1733756400-1733763600@www.melanchthon-hannover.de
SUMMARY:Seniorenbüro-Sprechstunde
DESCRIPTION:
URL:https://www.melanchthon-hannover.de/termin/seniorenbuero-sprechstunde/2024-12-09/
LOCATION:Diakonie-Seniorenbüro Bult\, Freundallee 16 (2. Stock)\, Hannover\, 30173\, Deutschland
CATEGORIES:Seniorenbüro
END:VEVENT
BEGIN:VEVENT
DTSTART;TZID=Europe/Berlin:20241202T150000
DTEND;TZID=Europe/Berlin:20241202T170000
DTSTAMP:20260419T171740
CREATED:20240724T120712Z
LAST-MODIFIED:20240724T120712Z
UID:10004950-1733151600-1733158800@www.melanchthon-hannover.de
SUMMARY:Seniorenbüro-Sprechstunde
DESCRIPTION:
URL:https://www.melanchthon-hannover.de/termin/seniorenbuero-sprechstunde/2024-12-02/
LOCATION:Diakonie-Seniorenbüro Bult\, Freundallee 16 (2. Stock)\, Hannover\, 30173\, Deutschland
CATEGORIES:Seniorenbüro
END:VEVENT
BEGIN:VEVENT
DTSTART;TZID=Europe/Berlin:20241125T150000
DTEND;TZID=Europe/Berlin:20241125T170000
DTSTAMP:20260419T171740
CREATED:20240724T120712Z
LAST-MODIFIED:20240724T120712Z
UID:10004949-1732546800-1732554000@www.melanchthon-hannover.de
SUMMARY:Seniorenbüro-Sprechstunde
DESCRIPTION:
URL:https://www.melanchthon-hannover.de/termin/seniorenbuero-sprechstunde/2024-11-25/
LOCATION:Diakonie-Seniorenbüro Bult\, Freundallee 16 (2. Stock)\, Hannover\, 30173\, Deutschland
CATEGORIES:Seniorenbüro
END:VEVENT
BEGIN:VEVENT
DTSTART;TZID=Europe/Berlin:20241118T150000
DTEND;TZID=Europe/Berlin:20241118T170000
DTSTAMP:20260419T171740
CREATED:20240724T120712Z
LAST-MODIFIED:20240724T120712Z
UID:10004948-1731942000-1731949200@www.melanchthon-hannover.de
SUMMARY:Seniorenbüro-Sprechstunde
DESCRIPTION:
URL:https://www.melanchthon-hannover.de/termin/seniorenbuero-sprechstunde/2024-11-18/
LOCATION:Diakonie-Seniorenbüro Bult\, Freundallee 16 (2. Stock)\, Hannover\, 30173\, Deutschland
CATEGORIES:Seniorenbüro
END:VEVENT
BEGIN:VEVENT
DTSTART;TZID=Europe/Berlin:20241111T150000
DTEND;TZID=Europe/Berlin:20241111T170000
DTSTAMP:20260419T171740
CREATED:20240724T120712Z
LAST-MODIFIED:20240724T120712Z
UID:10004947-1731337200-1731344400@www.melanchthon-hannover.de
SUMMARY:Seniorenbüro-Sprechstunde
DESCRIPTION:
URL:https://www.melanchthon-hannover.de/termin/seniorenbuero-sprechstunde/2024-11-11/
LOCATION:Diakonie-Seniorenbüro Bult\, Freundallee 16 (2. Stock)\, Hannover\, 30173\, Deutschland
CATEGORIES:Seniorenbüro
END:VEVENT
BEGIN:VEVENT
DTSTART;TZID=Europe/Berlin:20241104T150000
DTEND;TZID=Europe/Berlin:20241104T170000
DTSTAMP:20260419T171740
CREATED:20240724T120712Z
LAST-MODIFIED:20240724T120712Z
UID:10004946-1730732400-1730739600@www.melanchthon-hannover.de
SUMMARY:Seniorenbüro-Sprechstunde
DESCRIPTION:
URL:https://www.melanchthon-hannover.de/termin/seniorenbuero-sprechstunde/2024-11-04/
LOCATION:Diakonie-Seniorenbüro Bult\, Freundallee 16 (2. Stock)\, Hannover\, 30173\, Deutschland
CATEGORIES:Seniorenbüro
END:VEVENT
BEGIN:VEVENT
DTSTART;TZID=Europe/Berlin:20241028T150000
DTEND;TZID=Europe/Berlin:20241028T170000
DTSTAMP:20260419T171740
CREATED:20240724T120712Z
LAST-MODIFIED:20240724T120712Z
UID:10004945-1730127600-1730134800@www.melanchthon-hannover.de
SUMMARY:Seniorenbüro-Sprechstunde
DESCRIPTION:
URL:https://www.melanchthon-hannover.de/termin/seniorenbuero-sprechstunde/2024-10-28/
LOCATION:Diakonie-Seniorenbüro Bult\, Freundallee 16 (2. Stock)\, Hannover\, 30173\, Deutschland
CATEGORIES:Seniorenbüro
END:VEVENT
BEGIN:VEVENT
DTSTART;TZID=Europe/Berlin:20241021T150000
DTEND;TZID=Europe/Berlin:20241021T170000
DTSTAMP:20260419T171740
CREATED:20240724T120712Z
LAST-MODIFIED:20240724T120712Z
UID:10004944-1729522800-1729530000@www.melanchthon-hannover.de
SUMMARY:Seniorenbüro-Sprechstunde
DESCRIPTION:
URL:https://www.melanchthon-hannover.de/termin/seniorenbuero-sprechstunde/2024-10-21/
LOCATION:Diakonie-Seniorenbüro Bult\, Freundallee 16 (2. Stock)\, Hannover\, 30173\, Deutschland
CATEGORIES:Seniorenbüro
END:VEVENT
BEGIN:VEVENT
DTSTART;TZID=Europe/Berlin:20241014T150000
DTEND;TZID=Europe/Berlin:20241014T170000
DTSTAMP:20260419T171740
CREATED:20240724T120712Z
LAST-MODIFIED:20240724T120712Z
UID:10004943-1728918000-1728925200@www.melanchthon-hannover.de
SUMMARY:Seniorenbüro-Sprechstunde
DESCRIPTION:
URL:https://www.melanchthon-hannover.de/termin/seniorenbuero-sprechstunde/2024-10-14/
LOCATION:Diakonie-Seniorenbüro Bult\, Freundallee 16 (2. Stock)\, Hannover\, 30173\, Deutschland
CATEGORIES:Seniorenbüro
END:VEVENT
BEGIN:VEVENT
DTSTART;TZID=Europe/Berlin:20241007T150000
DTEND;TZID=Europe/Berlin:20241007T170000
DTSTAMP:20260419T171740
CREATED:20240724T120712Z
LAST-MODIFIED:20240724T120712Z
UID:10004942-1728313200-1728320400@www.melanchthon-hannover.de
SUMMARY:Seniorenbüro-Sprechstunde
DESCRIPTION:
URL:https://www.melanchthon-hannover.de/termin/seniorenbuero-sprechstunde/2024-10-07/
LOCATION:Diakonie-Seniorenbüro Bult\, Freundallee 16 (2. Stock)\, Hannover\, 30173\, Deutschland
CATEGORIES:Seniorenbüro
END:VEVENT
BEGIN:VEVENT
DTSTART;TZID=Europe/Berlin:20240930T150000
DTEND;TZID=Europe/Berlin:20240930T170000
DTSTAMP:20260419T171740
CREATED:20240724T120712Z
LAST-MODIFIED:20240724T120712Z
UID:10004941-1727708400-1727715600@www.melanchthon-hannover.de
SUMMARY:Seniorenbüro-Sprechstunde
DESCRIPTION:
URL:https://www.melanchthon-hannover.de/termin/seniorenbuero-sprechstunde/2024-09-30/
LOCATION:Diakonie-Seniorenbüro Bult\, Freundallee 16 (2. Stock)\, Hannover\, 30173\, Deutschland
CATEGORIES:Seniorenbüro
END:VEVENT
BEGIN:VEVENT
DTSTART;TZID=Europe/Berlin:20240923T150000
DTEND;TZID=Europe/Berlin:20240923T170000
DTSTAMP:20260419T171740
CREATED:20240724T120712Z
LAST-MODIFIED:20240724T120712Z
UID:10004940-1727103600-1727110800@www.melanchthon-hannover.de
SUMMARY:Seniorenbüro-Sprechstunde
DESCRIPTION:
URL:https://www.melanchthon-hannover.de/termin/seniorenbuero-sprechstunde/2024-09-23/
LOCATION:Diakonie-Seniorenbüro Bult\, Freundallee 16 (2. Stock)\, Hannover\, 30173\, Deutschland
CATEGORIES:Seniorenbüro
END:VEVENT
BEGIN:VEVENT
DTSTART;TZID=Europe/Berlin:20240916T150000
DTEND;TZID=Europe/Berlin:20240916T170000
DTSTAMP:20260419T171740
CREATED:20240724T120712Z
LAST-MODIFIED:20240724T120712Z
UID:10004939-1726498800-1726506000@www.melanchthon-hannover.de
SUMMARY:Seniorenbüro-Sprechstunde
DESCRIPTION:
URL:https://www.melanchthon-hannover.de/termin/seniorenbuero-sprechstunde/2024-09-16/
LOCATION:Diakonie-Seniorenbüro Bult\, Freundallee 16 (2. Stock)\, Hannover\, 30173\, Deutschland
CATEGORIES:Seniorenbüro
END:VEVENT
BEGIN:VEVENT
DTSTART;TZID=Europe/Berlin:20240909T150000
DTEND;TZID=Europe/Berlin:20240909T170000
DTSTAMP:20260419T171740
CREATED:20240724T120712Z
LAST-MODIFIED:20240724T120712Z
UID:10004938-1725894000-1725901200@www.melanchthon-hannover.de
SUMMARY:Seniorenbüro-Sprechstunde
DESCRIPTION:
URL:https://www.melanchthon-hannover.de/termin/seniorenbuero-sprechstunde/2024-09-09/
LOCATION:Diakonie-Seniorenbüro Bult\, Freundallee 16 (2. Stock)\, Hannover\, 30173\, Deutschland
CATEGORIES:Seniorenbüro
END:VEVENT
BEGIN:VEVENT
DTSTART;TZID=Europe/Berlin:20240902T150000
DTEND;TZID=Europe/Berlin:20240902T170000
DTSTAMP:20260419T171740
CREATED:20240724T120712Z
LAST-MODIFIED:20240724T120712Z
UID:10004937-1725289200-1725296400@www.melanchthon-hannover.de
SUMMARY:Seniorenbüro-Sprechstunde
DESCRIPTION:
URL:https://www.melanchthon-hannover.de/termin/seniorenbuero-sprechstunde/2024-09-02/
LOCATION:Diakonie-Seniorenbüro Bult\, Freundallee 16 (2. Stock)\, Hannover\, 30173\, Deutschland
CATEGORIES:Seniorenbüro
END:VEVENT
BEGIN:VEVENT
DTSTART;TZID=Europe/Berlin:20240826T150000
DTEND;TZID=Europe/Berlin:20240826T170000
DTSTAMP:20260419T171740
CREATED:20240724T120712Z
LAST-MODIFIED:20240724T120712Z
UID:10004936-1724684400-1724691600@www.melanchthon-hannover.de
SUMMARY:Seniorenbüro-Sprechstunde
DESCRIPTION:
URL:https://www.melanchthon-hannover.de/termin/seniorenbuero-sprechstunde/2024-08-26/
LOCATION:Diakonie-Seniorenbüro Bult\, Freundallee 16 (2. Stock)\, Hannover\, 30173\, Deutschland
CATEGORIES:Seniorenbüro
END:VEVENT
BEGIN:VEVENT
DTSTART;TZID=Europe/Berlin:20240819T150000
DTEND;TZID=Europe/Berlin:20240819T170000
DTSTAMP:20260419T171740
CREATED:20240724T120712Z
LAST-MODIFIED:20240724T120712Z
UID:10004935-1724079600-1724086800@www.melanchthon-hannover.de
SUMMARY:Seniorenbüro-Sprechstunde
DESCRIPTION:
URL:https://www.melanchthon-hannover.de/termin/seniorenbuero-sprechstunde/2024-08-19/
LOCATION:Diakonie-Seniorenbüro Bult\, Freundallee 16 (2. Stock)\, Hannover\, 30173\, Deutschland
CATEGORIES:Seniorenbüro
END:VEVENT
BEGIN:VEVENT
DTSTART;TZID=Europe/Berlin:20240812T150000
DTEND;TZID=Europe/Berlin:20240812T170000
DTSTAMP:20260419T171740
CREATED:20240724T120712Z
LAST-MODIFIED:20240724T120712Z
UID:10004934-1723474800-1723482000@www.melanchthon-hannover.de
SUMMARY:Seniorenbüro-Sprechstunde
DESCRIPTION:
URL:https://www.melanchthon-hannover.de/termin/seniorenbuero-sprechstunde/2024-08-12/
LOCATION:Diakonie-Seniorenbüro Bult\, Freundallee 16 (2. Stock)\, Hannover\, 30173\, Deutschland
CATEGORIES:Seniorenbüro
END:VEVENT
BEGIN:VEVENT
DTSTART;TZID=Europe/Berlin:20240805T150000
DTEND;TZID=Europe/Berlin:20240805T170000
DTSTAMP:20260419T171740
CREATED:20240724T120712Z
LAST-MODIFIED:20240724T120712Z
UID:10004933-1722870000-1722877200@www.melanchthon-hannover.de
SUMMARY:Seniorenbüro-Sprechstunde
DESCRIPTION:
URL:https://www.melanchthon-hannover.de/termin/seniorenbuero-sprechstunde/2024-08-05/
LOCATION:Diakonie-Seniorenbüro Bult\, Freundallee 16 (2. Stock)\, Hannover\, 30173\, Deutschland
CATEGORIES:Seniorenbüro
END:VEVENT
BEGIN:VEVENT
DTSTART;TZID=Europe/Berlin:20240729T150000
DTEND;TZID=Europe/Berlin:20240729T170000
DTSTAMP:20260419T171740
CREATED:20240724T120712Z
LAST-MODIFIED:20240724T120712Z
UID:10004932-1722265200-1722272400@www.melanchthon-hannover.de
SUMMARY:Seniorenbüro-Sprechstunde
DESCRIPTION:
URL:https://www.melanchthon-hannover.de/termin/seniorenbuero-sprechstunde/2024-07-29/
LOCATION:Diakonie-Seniorenbüro Bult\, Freundallee 16 (2. Stock)\, Hannover\, 30173\, Deutschland
CATEGORIES:Seniorenbüro
END:VEVENT
END:VCALENDAR