BEGIN:VCALENDAR
VERSION:2.0
PRODID:-//Melanchthon-Gemeinde - ECPv6.15.20//NONSGML v1.0//EN
CALSCALE:GREGORIAN
METHOD:PUBLISH
X-ORIGINAL-URL:https://www.melanchthon-hannover.de
X-WR-CALDESC:Veranstaltungen für Melanchthon-Gemeinde
REFRESH-INTERVAL;VALUE=DURATION:PT1H
X-Robots-Tag:noindex
X-PUBLISHED-TTL:PT1H
BEGIN:VTIMEZONE
TZID:Europe/Berlin
BEGIN:DAYLIGHT
TZOFFSETFROM:+0100
TZOFFSETTO:+0200
TZNAME:CEST
DTSTART:20240331T010000
END:DAYLIGHT
BEGIN:STANDARD
TZOFFSETFROM:+0200
TZOFFSETTO:+0100
TZNAME:CET
DTSTART:20241027T010000
END:STANDARD
BEGIN:DAYLIGHT
TZOFFSETFROM:+0100
TZOFFSETTO:+0200
TZNAME:CEST
DTSTART:20250330T010000
END:DAYLIGHT
BEGIN:STANDARD
TZOFFSETFROM:+0200
TZOFFSETTO:+0100
TZNAME:CET
DTSTART:20251026T010000
END:STANDARD
BEGIN:DAYLIGHT
TZOFFSETFROM:+0100
TZOFFSETTO:+0200
TZNAME:CEST
DTSTART:20260329T010000
END:DAYLIGHT
BEGIN:STANDARD
TZOFFSETFROM:+0200
TZOFFSETTO:+0100
TZNAME:CET
DTSTART:20261025T010000
END:STANDARD
END:VTIMEZONE
BEGIN:VEVENT
DTSTART;TZID=Europe/Berlin:20250321T163000
DTEND;TZID=Europe/Berlin:20250321T173000
DTSTAMP:20260421T122036
CREATED:20240307T152857Z
LAST-MODIFIED:20240724T120020Z
UID:10003837-1742574600-1742578200@www.melanchthon-hannover.de
SUMMARY:Spanisch (Anfänger)
DESCRIPTION:Anfänger
URL:https://www.melanchthon-hannover.de/termin/spanisch-3/2025-03-21/
LOCATION:Diakonie-Seniorenbüro Bult\, Freundallee 16 (2. Stock)\, Hannover\, 30173\, Deutschland
CATEGORIES:Seniorenbüro
END:VEVENT
BEGIN:VEVENT
DTSTART;TZID=Europe/Berlin:20250320T173000
DTEND;TZID=Europe/Berlin:20250320T183000
DTSTAMP:20260421T122036
CREATED:20240307T152751Z
LAST-MODIFIED:20240724T115945Z
UID:10003576-1742491800-1742495400@www.melanchthon-hannover.de
SUMMARY:Spanisch (fortgeschr. Anfänger)
DESCRIPTION:Fortgeschrittene Anfänger
URL:https://www.melanchthon-hannover.de/termin/spanisch-2/2025-03-20/
LOCATION:Diakonie-Seniorenbüro Bult\, Freundallee 16 (2. Stock)\, Hannover\, 30173\, Deutschland
CATEGORIES:Seniorenbüro
END:VEVENT
BEGIN:VEVENT
DTSTART;TZID=Europe/Berlin:20250320T160000
DTEND;TZID=Europe/Berlin:20250320T173000
DTSTAMP:20260421T122036
CREATED:20240307T152607Z
LAST-MODIFIED:20250511T184453Z
UID:10003315-1742486400-1742491800@www.melanchthon-hannover.de
SUMMARY:Spanisch (Fortgeschrittene)
DESCRIPTION:Fortgeschrittene
URL:https://www.melanchthon-hannover.de/termin/spanisch/2025-03-20/
LOCATION:Diakonie-Seniorenbüro Bult\, Freundallee 16 (2. Stock)\, Hannover\, 30173\, Deutschland
CATEGORIES:Seniorenbüro
END:VEVENT
BEGIN:VEVENT
DTSTART;TZID=Europe/Berlin:20250319T173000
DTEND;TZID=Europe/Berlin:20250319T193000
DTSTAMP:20260421T122036
CREATED:20240307T151126Z
LAST-MODIFIED:20240307T151126Z
UID:10002532-1742405400-1742412600@www.melanchthon-hannover.de
SUMMARY:Englisch\, leichte Konversation
DESCRIPTION:
URL:https://www.melanchthon-hannover.de/termin/englisch-leichte-konversation-3/2025-03-19/
LOCATION:Diakonie-Seniorenbüro Bult\, Freundallee 16 (2. Stock)\, Hannover\, 30173\, Deutschland
CATEGORIES:Seniorenbüro
END:VEVENT
BEGIN:VEVENT
DTSTART;TZID=Europe/Berlin:20250319T160000
DTEND;TZID=Europe/Berlin:20250319T171500
DTSTAMP:20260421T122036
CREATED:20240307T150749Z
LAST-MODIFIED:20240307T150958Z
UID:10002271-1742400000-1742404500@www.melanchthon-hannover.de
SUMMARY:Englisch\, leichte Konversation
DESCRIPTION:
URL:https://www.melanchthon-hannover.de/termin/englisch-leichte-konversation-2/2025-03-19/
LOCATION:Diakonie-Seniorenbüro Bult\, Freundallee 16 (2. Stock)\, Hannover\, 30173\, Deutschland
CATEGORIES:Seniorenbüro
END:VEVENT
BEGIN:VEVENT
DTSTART;TZID=Europe/Berlin:20250318T100000
DTEND;TZID=Europe/Berlin:20250318T113000
DTSTAMP:20260421T122036
CREATED:20240307T150350Z
LAST-MODIFIED:20240307T150526Z
UID:10002009-1742292000-1742297400@www.melanchthon-hannover.de
SUMMARY:Englisch\, leichte Konversation
DESCRIPTION:
URL:https://www.melanchthon-hannover.de/termin/englisch-leichte-konversation/2025-03-18/
LOCATION:Diakonie-Seniorenbüro Bult\, Freundallee 16 (2. Stock)\, Hannover\, 30173\, Deutschland
CATEGORIES:Seniorenbüro
END:VEVENT
BEGIN:VEVENT
DTSTART;TZID=Europe/Berlin:20250314T163000
DTEND;TZID=Europe/Berlin:20250314T173000
DTSTAMP:20260421T122036
CREATED:20240307T152857Z
LAST-MODIFIED:20240724T120020Z
UID:10003836-1741969800-1741973400@www.melanchthon-hannover.de
SUMMARY:Spanisch (Anfänger)
DESCRIPTION:Anfänger
URL:https://www.melanchthon-hannover.de/termin/spanisch-3/2025-03-14/
LOCATION:Diakonie-Seniorenbüro Bult\, Freundallee 16 (2. Stock)\, Hannover\, 30173\, Deutschland
CATEGORIES:Seniorenbüro
END:VEVENT
BEGIN:VEVENT
DTSTART;TZID=Europe/Berlin:20250313T173000
DTEND;TZID=Europe/Berlin:20250313T183000
DTSTAMP:20260421T122036
CREATED:20240307T152751Z
LAST-MODIFIED:20240724T115945Z
UID:10003575-1741887000-1741890600@www.melanchthon-hannover.de
SUMMARY:Spanisch (fortgeschr. Anfänger)
DESCRIPTION:Fortgeschrittene Anfänger
URL:https://www.melanchthon-hannover.de/termin/spanisch-2/2025-03-13/
LOCATION:Diakonie-Seniorenbüro Bult\, Freundallee 16 (2. Stock)\, Hannover\, 30173\, Deutschland
CATEGORIES:Seniorenbüro
END:VEVENT
BEGIN:VEVENT
DTSTART;TZID=Europe/Berlin:20250313T160000
DTEND;TZID=Europe/Berlin:20250313T173000
DTSTAMP:20260421T122036
CREATED:20240307T152607Z
LAST-MODIFIED:20250511T184453Z
UID:10003314-1741881600-1741887000@www.melanchthon-hannover.de
SUMMARY:Spanisch (Fortgeschrittene)
DESCRIPTION:Fortgeschrittene
URL:https://www.melanchthon-hannover.de/termin/spanisch/2025-03-13/
LOCATION:Diakonie-Seniorenbüro Bult\, Freundallee 16 (2. Stock)\, Hannover\, 30173\, Deutschland
CATEGORIES:Seniorenbüro
END:VEVENT
BEGIN:VEVENT
DTSTART;TZID=Europe/Berlin:20250312T173000
DTEND;TZID=Europe/Berlin:20250312T193000
DTSTAMP:20260421T122036
CREATED:20240307T151126Z
LAST-MODIFIED:20240307T151126Z
UID:10002531-1741800600-1741807800@www.melanchthon-hannover.de
SUMMARY:Englisch\, leichte Konversation
DESCRIPTION:
URL:https://www.melanchthon-hannover.de/termin/englisch-leichte-konversation-3/2025-03-12/
LOCATION:Diakonie-Seniorenbüro Bult\, Freundallee 16 (2. Stock)\, Hannover\, 30173\, Deutschland
CATEGORIES:Seniorenbüro
END:VEVENT
BEGIN:VEVENT
DTSTART;TZID=Europe/Berlin:20250312T160000
DTEND;TZID=Europe/Berlin:20250312T171500
DTSTAMP:20260421T122036
CREATED:20240307T150749Z
LAST-MODIFIED:20240307T150958Z
UID:10002270-1741795200-1741799700@www.melanchthon-hannover.de
SUMMARY:Englisch\, leichte Konversation
DESCRIPTION:
URL:https://www.melanchthon-hannover.de/termin/englisch-leichte-konversation-2/2025-03-12/
LOCATION:Diakonie-Seniorenbüro Bult\, Freundallee 16 (2. Stock)\, Hannover\, 30173\, Deutschland
CATEGORIES:Seniorenbüro
END:VEVENT
BEGIN:VEVENT
DTSTART;TZID=Europe/Berlin:20250311T100000
DTEND;TZID=Europe/Berlin:20250311T113000
DTSTAMP:20260421T122036
CREATED:20240307T150350Z
LAST-MODIFIED:20240307T150526Z
UID:10002008-1741687200-1741692600@www.melanchthon-hannover.de
SUMMARY:Englisch\, leichte Konversation
DESCRIPTION:
URL:https://www.melanchthon-hannover.de/termin/englisch-leichte-konversation/2025-03-11/
LOCATION:Diakonie-Seniorenbüro Bult\, Freundallee 16 (2. Stock)\, Hannover\, 30173\, Deutschland
CATEGORIES:Seniorenbüro
END:VEVENT
BEGIN:VEVENT
DTSTART;TZID=Europe/Berlin:20250307T163000
DTEND;TZID=Europe/Berlin:20250307T173000
DTSTAMP:20260421T122036
CREATED:20240307T152857Z
LAST-MODIFIED:20240724T120020Z
UID:10003835-1741365000-1741368600@www.melanchthon-hannover.de
SUMMARY:Spanisch (Anfänger)
DESCRIPTION:Anfänger
URL:https://www.melanchthon-hannover.de/termin/spanisch-3/2025-03-07/
LOCATION:Diakonie-Seniorenbüro Bult\, Freundallee 16 (2. Stock)\, Hannover\, 30173\, Deutschland
CATEGORIES:Seniorenbüro
END:VEVENT
BEGIN:VEVENT
DTSTART;TZID=Europe/Berlin:20250306T173000
DTEND;TZID=Europe/Berlin:20250306T183000
DTSTAMP:20260421T122036
CREATED:20240307T152751Z
LAST-MODIFIED:20240724T115945Z
UID:10003574-1741282200-1741285800@www.melanchthon-hannover.de
SUMMARY:Spanisch (fortgeschr. Anfänger)
DESCRIPTION:Fortgeschrittene Anfänger
URL:https://www.melanchthon-hannover.de/termin/spanisch-2/2025-03-06/
LOCATION:Diakonie-Seniorenbüro Bult\, Freundallee 16 (2. Stock)\, Hannover\, 30173\, Deutschland
CATEGORIES:Seniorenbüro
END:VEVENT
BEGIN:VEVENT
DTSTART;TZID=Europe/Berlin:20250306T160000
DTEND;TZID=Europe/Berlin:20250306T173000
DTSTAMP:20260421T122036
CREATED:20240307T152607Z
LAST-MODIFIED:20250511T184453Z
UID:10003313-1741276800-1741282200@www.melanchthon-hannover.de
SUMMARY:Spanisch (Fortgeschrittene)
DESCRIPTION:Fortgeschrittene
URL:https://www.melanchthon-hannover.de/termin/spanisch/2025-03-06/
LOCATION:Diakonie-Seniorenbüro Bult\, Freundallee 16 (2. Stock)\, Hannover\, 30173\, Deutschland
CATEGORIES:Seniorenbüro
END:VEVENT
BEGIN:VEVENT
DTSTART;TZID=Europe/Berlin:20250305T173000
DTEND;TZID=Europe/Berlin:20250305T193000
DTSTAMP:20260421T122036
CREATED:20240307T151126Z
LAST-MODIFIED:20240307T151126Z
UID:10002530-1741195800-1741203000@www.melanchthon-hannover.de
SUMMARY:Englisch\, leichte Konversation
DESCRIPTION:
URL:https://www.melanchthon-hannover.de/termin/englisch-leichte-konversation-3/2025-03-05/
LOCATION:Diakonie-Seniorenbüro Bult\, Freundallee 16 (2. Stock)\, Hannover\, 30173\, Deutschland
CATEGORIES:Seniorenbüro
END:VEVENT
BEGIN:VEVENT
DTSTART;TZID=Europe/Berlin:20250305T160000
DTEND;TZID=Europe/Berlin:20250305T171500
DTSTAMP:20260421T122036
CREATED:20240307T150749Z
LAST-MODIFIED:20240307T150958Z
UID:10002269-1741190400-1741194900@www.melanchthon-hannover.de
SUMMARY:Englisch\, leichte Konversation
DESCRIPTION:
URL:https://www.melanchthon-hannover.de/termin/englisch-leichte-konversation-2/2025-03-05/
LOCATION:Diakonie-Seniorenbüro Bult\, Freundallee 16 (2. Stock)\, Hannover\, 30173\, Deutschland
CATEGORIES:Seniorenbüro
END:VEVENT
BEGIN:VEVENT
DTSTART;TZID=Europe/Berlin:20250304T100000
DTEND;TZID=Europe/Berlin:20250304T113000
DTSTAMP:20260421T122036
CREATED:20240307T150350Z
LAST-MODIFIED:20240307T150526Z
UID:10002007-1741082400-1741087800@www.melanchthon-hannover.de
SUMMARY:Englisch\, leichte Konversation
DESCRIPTION:
URL:https://www.melanchthon-hannover.de/termin/englisch-leichte-konversation/2025-03-04/
LOCATION:Diakonie-Seniorenbüro Bult\, Freundallee 16 (2. Stock)\, Hannover\, 30173\, Deutschland
CATEGORIES:Seniorenbüro
END:VEVENT
BEGIN:VEVENT
DTSTART;TZID=Europe/Berlin:20250228T163000
DTEND;TZID=Europe/Berlin:20250228T173000
DTSTAMP:20260421T122036
CREATED:20240307T152857Z
LAST-MODIFIED:20240724T120020Z
UID:10003834-1740760200-1740763800@www.melanchthon-hannover.de
SUMMARY:Spanisch (Anfänger)
DESCRIPTION:Anfänger
URL:https://www.melanchthon-hannover.de/termin/spanisch-3/2025-02-28/
LOCATION:Diakonie-Seniorenbüro Bult\, Freundallee 16 (2. Stock)\, Hannover\, 30173\, Deutschland
CATEGORIES:Seniorenbüro
END:VEVENT
BEGIN:VEVENT
DTSTART;TZID=Europe/Berlin:20250227T173000
DTEND;TZID=Europe/Berlin:20250227T183000
DTSTAMP:20260421T122036
CREATED:20240307T152751Z
LAST-MODIFIED:20240724T115945Z
UID:10003573-1740677400-1740681000@www.melanchthon-hannover.de
SUMMARY:Spanisch (fortgeschr. Anfänger)
DESCRIPTION:Fortgeschrittene Anfänger
URL:https://www.melanchthon-hannover.de/termin/spanisch-2/2025-02-27/
LOCATION:Diakonie-Seniorenbüro Bult\, Freundallee 16 (2. Stock)\, Hannover\, 30173\, Deutschland
CATEGORIES:Seniorenbüro
END:VEVENT
BEGIN:VEVENT
DTSTART;TZID=Europe/Berlin:20250227T160000
DTEND;TZID=Europe/Berlin:20250227T173000
DTSTAMP:20260421T122036
CREATED:20240307T152607Z
LAST-MODIFIED:20250511T184453Z
UID:10003312-1740672000-1740677400@www.melanchthon-hannover.de
SUMMARY:Spanisch (Fortgeschrittene)
DESCRIPTION:Fortgeschrittene
URL:https://www.melanchthon-hannover.de/termin/spanisch/2025-02-27/
LOCATION:Diakonie-Seniorenbüro Bult\, Freundallee 16 (2. Stock)\, Hannover\, 30173\, Deutschland
CATEGORIES:Seniorenbüro
END:VEVENT
BEGIN:VEVENT
DTSTART;TZID=Europe/Berlin:20250226T173000
DTEND;TZID=Europe/Berlin:20250226T193000
DTSTAMP:20260421T122036
CREATED:20240307T151126Z
LAST-MODIFIED:20240307T151126Z
UID:10002529-1740591000-1740598200@www.melanchthon-hannover.de
SUMMARY:Englisch\, leichte Konversation
DESCRIPTION:
URL:https://www.melanchthon-hannover.de/termin/englisch-leichte-konversation-3/2025-02-26/
LOCATION:Diakonie-Seniorenbüro Bult\, Freundallee 16 (2. Stock)\, Hannover\, 30173\, Deutschland
CATEGORIES:Seniorenbüro
END:VEVENT
BEGIN:VEVENT
DTSTART;TZID=Europe/Berlin:20250226T160000
DTEND;TZID=Europe/Berlin:20250226T171500
DTSTAMP:20260421T122036
CREATED:20240307T150749Z
LAST-MODIFIED:20240307T150958Z
UID:10002268-1740585600-1740590100@www.melanchthon-hannover.de
SUMMARY:Englisch\, leichte Konversation
DESCRIPTION:
URL:https://www.melanchthon-hannover.de/termin/englisch-leichte-konversation-2/2025-02-26/
LOCATION:Diakonie-Seniorenbüro Bult\, Freundallee 16 (2. Stock)\, Hannover\, 30173\, Deutschland
CATEGORIES:Seniorenbüro
END:VEVENT
BEGIN:VEVENT
DTSTART;TZID=Europe/Berlin:20250225T100000
DTEND;TZID=Europe/Berlin:20250225T113000
DTSTAMP:20260421T122036
CREATED:20240307T150350Z
LAST-MODIFIED:20240307T150526Z
UID:10002006-1740477600-1740483000@www.melanchthon-hannover.de
SUMMARY:Englisch\, leichte Konversation
DESCRIPTION:
URL:https://www.melanchthon-hannover.de/termin/englisch-leichte-konversation/2025-02-25/
LOCATION:Diakonie-Seniorenbüro Bult\, Freundallee 16 (2. Stock)\, Hannover\, 30173\, Deutschland
CATEGORIES:Seniorenbüro
END:VEVENT
BEGIN:VEVENT
DTSTART;TZID=Europe/Berlin:20250221T163000
DTEND;TZID=Europe/Berlin:20250221T173000
DTSTAMP:20260421T122036
CREATED:20240307T152857Z
LAST-MODIFIED:20240724T120020Z
UID:10003833-1740155400-1740159000@www.melanchthon-hannover.de
SUMMARY:Spanisch (Anfänger)
DESCRIPTION:Anfänger
URL:https://www.melanchthon-hannover.de/termin/spanisch-3/2025-02-21/
LOCATION:Diakonie-Seniorenbüro Bult\, Freundallee 16 (2. Stock)\, Hannover\, 30173\, Deutschland
CATEGORIES:Seniorenbüro
END:VEVENT
BEGIN:VEVENT
DTSTART;TZID=Europe/Berlin:20250220T173000
DTEND;TZID=Europe/Berlin:20250220T183000
DTSTAMP:20260421T122036
CREATED:20240307T152751Z
LAST-MODIFIED:20240724T115945Z
UID:10003572-1740072600-1740076200@www.melanchthon-hannover.de
SUMMARY:Spanisch (fortgeschr. Anfänger)
DESCRIPTION:Fortgeschrittene Anfänger
URL:https://www.melanchthon-hannover.de/termin/spanisch-2/2025-02-20/
LOCATION:Diakonie-Seniorenbüro Bult\, Freundallee 16 (2. Stock)\, Hannover\, 30173\, Deutschland
CATEGORIES:Seniorenbüro
END:VEVENT
BEGIN:VEVENT
DTSTART;TZID=Europe/Berlin:20250220T160000
DTEND;TZID=Europe/Berlin:20250220T173000
DTSTAMP:20260421T122036
CREATED:20240307T152607Z
LAST-MODIFIED:20250511T184453Z
UID:10003311-1740067200-1740072600@www.melanchthon-hannover.de
SUMMARY:Spanisch (Fortgeschrittene)
DESCRIPTION:Fortgeschrittene
URL:https://www.melanchthon-hannover.de/termin/spanisch/2025-02-20/
LOCATION:Diakonie-Seniorenbüro Bult\, Freundallee 16 (2. Stock)\, Hannover\, 30173\, Deutschland
CATEGORIES:Seniorenbüro
END:VEVENT
BEGIN:VEVENT
DTSTART;TZID=Europe/Berlin:20250219T173000
DTEND;TZID=Europe/Berlin:20250219T193000
DTSTAMP:20260421T122036
CREATED:20240307T151126Z
LAST-MODIFIED:20240307T151126Z
UID:10002528-1739986200-1739993400@www.melanchthon-hannover.de
SUMMARY:Englisch\, leichte Konversation
DESCRIPTION:
URL:https://www.melanchthon-hannover.de/termin/englisch-leichte-konversation-3/2025-02-19/
LOCATION:Diakonie-Seniorenbüro Bult\, Freundallee 16 (2. Stock)\, Hannover\, 30173\, Deutschland
CATEGORIES:Seniorenbüro
END:VEVENT
BEGIN:VEVENT
DTSTART;TZID=Europe/Berlin:20250219T160000
DTEND;TZID=Europe/Berlin:20250219T171500
DTSTAMP:20260421T122036
CREATED:20240307T150749Z
LAST-MODIFIED:20240307T150958Z
UID:10002267-1739980800-1739985300@www.melanchthon-hannover.de
SUMMARY:Englisch\, leichte Konversation
DESCRIPTION:
URL:https://www.melanchthon-hannover.de/termin/englisch-leichte-konversation-2/2025-02-19/
LOCATION:Diakonie-Seniorenbüro Bult\, Freundallee 16 (2. Stock)\, Hannover\, 30173\, Deutschland
CATEGORIES:Seniorenbüro
END:VEVENT
BEGIN:VEVENT
DTSTART;TZID=Europe/Berlin:20250218T100000
DTEND;TZID=Europe/Berlin:20250218T113000
DTSTAMP:20260421T122036
CREATED:20240307T150350Z
LAST-MODIFIED:20240307T150526Z
UID:10002005-1739872800-1739878200@www.melanchthon-hannover.de
SUMMARY:Englisch\, leichte Konversation
DESCRIPTION:
URL:https://www.melanchthon-hannover.de/termin/englisch-leichte-konversation/2025-02-18/
LOCATION:Diakonie-Seniorenbüro Bult\, Freundallee 16 (2. Stock)\, Hannover\, 30173\, Deutschland
CATEGORIES:Seniorenbüro
END:VEVENT
END:VCALENDAR