BEGIN:VCALENDAR
VERSION:2.0
PRODID:-//Melanchthon-Gemeinde - ECPv6.15.20//NONSGML v1.0//EN
CALSCALE:GREGORIAN
METHOD:PUBLISH
X-ORIGINAL-URL:https://www.melanchthon-hannover.de
X-WR-CALDESC:Veranstaltungen für Melanchthon-Gemeinde
REFRESH-INTERVAL;VALUE=DURATION:PT1H
X-Robots-Tag:noindex
X-PUBLISHED-TTL:PT1H
BEGIN:VTIMEZONE
TZID:Europe/Berlin
BEGIN:DAYLIGHT
TZOFFSETFROM:+0100
TZOFFSETTO:+0200
TZNAME:CEST
DTSTART:20240331T010000
END:DAYLIGHT
BEGIN:STANDARD
TZOFFSETFROM:+0200
TZOFFSETTO:+0100
TZNAME:CET
DTSTART:20241027T010000
END:STANDARD
BEGIN:DAYLIGHT
TZOFFSETFROM:+0100
TZOFFSETTO:+0200
TZNAME:CEST
DTSTART:20250330T010000
END:DAYLIGHT
BEGIN:STANDARD
TZOFFSETFROM:+0200
TZOFFSETTO:+0100
TZNAME:CET
DTSTART:20251026T010000
END:STANDARD
BEGIN:DAYLIGHT
TZOFFSETFROM:+0100
TZOFFSETTO:+0200
TZNAME:CEST
DTSTART:20260329T010000
END:DAYLIGHT
BEGIN:STANDARD
TZOFFSETFROM:+0200
TZOFFSETTO:+0100
TZNAME:CET
DTSTART:20261025T010000
END:STANDARD
END:VTIMEZONE
BEGIN:VEVENT
DTSTART;TZID=Europe/Berlin:20250502T163000
DTEND;TZID=Europe/Berlin:20250502T173000
DTSTAMP:20260419T154241
CREATED:20250511T184909Z
LAST-MODIFIED:20250511T184909Z
UID:10003843-1746203400-1746207000@www.melanchthon-hannover.de
SUMMARY:Spanisch (Anfänger)
DESCRIPTION:Anfänger
URL:https://www.melanchthon-hannover.de/termin/spanisch-3-2/2025-05-02/
LOCATION:Diakonie-Seniorenbüro Bult\, Freundallee 16 (2. Stock)\, Hannover\, 30173\, Deutschland
CATEGORIES:Seniorenbüro
END:VEVENT
BEGIN:VEVENT
DTSTART;TZID=Europe/Berlin:20250501T173000
DTEND;TZID=Europe/Berlin:20250501T183000
DTSTAMP:20260419T154241
CREATED:20250511T184648Z
LAST-MODIFIED:20250511T184649Z
UID:10003582-1746120600-1746124200@www.melanchthon-hannover.de
SUMMARY:Spanisch (fortgeschr. Anfänger)
DESCRIPTION:Fortgeschrittene Anfänger
URL:https://www.melanchthon-hannover.de/termin/spanisch-2-2/2025-05-01/
LOCATION:Diakonie-Seniorenbüro Bult\, Freundallee 16 (2. Stock)\, Hannover\, 30173\, Deutschland
CATEGORIES:Seniorenbüro
END:VEVENT
BEGIN:VEVENT
DTSTART;TZID=Europe/Berlin:20250501T160000
DTEND;TZID=Europe/Berlin:20250501T173000
DTSTAMP:20260419T154241
CREATED:20250511T184549Z
LAST-MODIFIED:20250511T184549Z
UID:10003321-1746115200-1746120600@www.melanchthon-hannover.de
SUMMARY:Spanisch (Fortgeschrittene)
DESCRIPTION:Fortgeschrittene
URL:https://www.melanchthon-hannover.de/termin/spanisch-4/
LOCATION:Diakonie-Seniorenbüro Bult\, Freundallee 16 (2. Stock)\, Hannover\, 30173\, Deutschland
CATEGORIES:Seniorenbüro
END:VEVENT
BEGIN:VEVENT
DTSTART;TZID=Europe/Berlin:20250430T173000
DTEND;TZID=Europe/Berlin:20250430T193000
DTSTAMP:20260419T154241
CREATED:20250511T185348Z
LAST-MODIFIED:20250511T185349Z
UID:10002538-1746034200-1746041400@www.melanchthon-hannover.de
SUMMARY:Englisch\, leichte Konversation
DESCRIPTION:
URL:https://www.melanchthon-hannover.de/termin/englisch-leichte-konversation-3-2/2025-04-30/
LOCATION:Diakonie-Seniorenbüro Bult\, Freundallee 16 (2. Stock)\, Hannover\, 30173\, Deutschland
CATEGORIES:Seniorenbüro
END:VEVENT
BEGIN:VEVENT
DTSTART;TZID=Europe/Berlin:20250430T160000
DTEND;TZID=Europe/Berlin:20250430T171500
DTSTAMP:20260419T154241
CREATED:20250511T185307Z
LAST-MODIFIED:20250511T185307Z
UID:10002277-1746028800-1746033300@www.melanchthon-hannover.de
SUMMARY:Englisch\, leichte Konversation
DESCRIPTION:
URL:https://www.melanchthon-hannover.de/termin/englisch-leichte-konversation-2-2/2025-04-30/
LOCATION:Diakonie-Seniorenbüro Bult\, Freundallee 16 (2. Stock)\, Hannover\, 30173\, Deutschland
CATEGORIES:Seniorenbüro
END:VEVENT
BEGIN:VEVENT
DTSTART;TZID=Europe/Berlin:20250429T100000
DTEND;TZID=Europe/Berlin:20250429T113000
DTSTAMP:20260419T154241
CREATED:20250511T185046Z
LAST-MODIFIED:20250511T185046Z
UID:10002015-1745920800-1745926200@www.melanchthon-hannover.de
SUMMARY:Englisch\, leichte Konversation
DESCRIPTION:
URL:https://www.melanchthon-hannover.de/termin/englisch-leichte-konversation-4/2025-04-29/
LOCATION:Diakonie-Seniorenbüro Bult\, Freundallee 16 (2. Stock)\, Hannover\, 30173\, Deutschland
CATEGORIES:Seniorenbüro
END:VEVENT
BEGIN:VEVENT
DTSTART;TZID=Europe/Berlin:20250425T163000
DTEND;TZID=Europe/Berlin:20250425T173000
DTSTAMP:20260419T154241
CREATED:20240307T152857Z
LAST-MODIFIED:20240724T120020Z
UID:10003842-1745598600-1745602200@www.melanchthon-hannover.de
SUMMARY:Spanisch (Anfänger)
DESCRIPTION:Anfänger
URL:https://www.melanchthon-hannover.de/termin/spanisch-3/2025-04-25/
LOCATION:Diakonie-Seniorenbüro Bult\, Freundallee 16 (2. Stock)\, Hannover\, 30173\, Deutschland
CATEGORIES:Seniorenbüro
END:VEVENT
BEGIN:VEVENT
DTSTART;TZID=Europe/Berlin:20250424T173000
DTEND;TZID=Europe/Berlin:20250424T183000
DTSTAMP:20260419T154241
CREATED:20240307T152751Z
LAST-MODIFIED:20240724T115945Z
UID:10003581-1745515800-1745519400@www.melanchthon-hannover.de
SUMMARY:Spanisch (fortgeschr. Anfänger)
DESCRIPTION:Fortgeschrittene Anfänger
URL:https://www.melanchthon-hannover.de/termin/spanisch-2/2025-04-24/
LOCATION:Diakonie-Seniorenbüro Bult\, Freundallee 16 (2. Stock)\, Hannover\, 30173\, Deutschland
CATEGORIES:Seniorenbüro
END:VEVENT
BEGIN:VEVENT
DTSTART;TZID=Europe/Berlin:20250424T160000
DTEND;TZID=Europe/Berlin:20250424T173000
DTSTAMP:20260419T154241
CREATED:20240307T152607Z
LAST-MODIFIED:20250511T184453Z
UID:10003320-1745510400-1745515800@www.melanchthon-hannover.de
SUMMARY:Spanisch (Fortgeschrittene)
DESCRIPTION:Fortgeschrittene
URL:https://www.melanchthon-hannover.de/termin/spanisch/2025-04-24/
LOCATION:Diakonie-Seniorenbüro Bult\, Freundallee 16 (2. Stock)\, Hannover\, 30173\, Deutschland
CATEGORIES:Seniorenbüro
END:VEVENT
BEGIN:VEVENT
DTSTART;TZID=Europe/Berlin:20250423T173000
DTEND;TZID=Europe/Berlin:20250423T193000
DTSTAMP:20260419T154241
CREATED:20240307T151126Z
LAST-MODIFIED:20240307T151126Z
UID:10002537-1745429400-1745436600@www.melanchthon-hannover.de
SUMMARY:Englisch\, leichte Konversation
DESCRIPTION:
URL:https://www.melanchthon-hannover.de/termin/englisch-leichte-konversation-3/2025-04-23/
LOCATION:Diakonie-Seniorenbüro Bult\, Freundallee 16 (2. Stock)\, Hannover\, 30173\, Deutschland
CATEGORIES:Seniorenbüro
END:VEVENT
BEGIN:VEVENT
DTSTART;TZID=Europe/Berlin:20250423T160000
DTEND;TZID=Europe/Berlin:20250423T171500
DTSTAMP:20260419T154241
CREATED:20240307T150749Z
LAST-MODIFIED:20240307T150958Z
UID:10002276-1745424000-1745428500@www.melanchthon-hannover.de
SUMMARY:Englisch\, leichte Konversation
DESCRIPTION:
URL:https://www.melanchthon-hannover.de/termin/englisch-leichte-konversation-2/2025-04-23/
LOCATION:Diakonie-Seniorenbüro Bult\, Freundallee 16 (2. Stock)\, Hannover\, 30173\, Deutschland
CATEGORIES:Seniorenbüro
END:VEVENT
BEGIN:VEVENT
DTSTART;TZID=Europe/Berlin:20250422T100000
DTEND;TZID=Europe/Berlin:20250422T113000
DTSTAMP:20260419T154241
CREATED:20240307T150350Z
LAST-MODIFIED:20240307T150526Z
UID:10002014-1745316000-1745321400@www.melanchthon-hannover.de
SUMMARY:Englisch\, leichte Konversation
DESCRIPTION:
URL:https://www.melanchthon-hannover.de/termin/englisch-leichte-konversation/2025-04-22/
LOCATION:Diakonie-Seniorenbüro Bult\, Freundallee 16 (2. Stock)\, Hannover\, 30173\, Deutschland
CATEGORIES:Seniorenbüro
END:VEVENT
BEGIN:VEVENT
DTSTART;TZID=Europe/Berlin:20250418T163000
DTEND;TZID=Europe/Berlin:20250418T173000
DTSTAMP:20260419T154241
CREATED:20240307T152857Z
LAST-MODIFIED:20240724T120020Z
UID:10003841-1744993800-1744997400@www.melanchthon-hannover.de
SUMMARY:Spanisch (Anfänger)
DESCRIPTION:Anfänger
URL:https://www.melanchthon-hannover.de/termin/spanisch-3/2025-04-18/
LOCATION:Diakonie-Seniorenbüro Bult\, Freundallee 16 (2. Stock)\, Hannover\, 30173\, Deutschland
CATEGORIES:Seniorenbüro
END:VEVENT
BEGIN:VEVENT
DTSTART;TZID=Europe/Berlin:20250417T173000
DTEND;TZID=Europe/Berlin:20250417T183000
DTSTAMP:20260419T154241
CREATED:20240307T152751Z
LAST-MODIFIED:20240724T115945Z
UID:10003580-1744911000-1744914600@www.melanchthon-hannover.de
SUMMARY:Spanisch (fortgeschr. Anfänger)
DESCRIPTION:Fortgeschrittene Anfänger
URL:https://www.melanchthon-hannover.de/termin/spanisch-2/2025-04-17/
LOCATION:Diakonie-Seniorenbüro Bult\, Freundallee 16 (2. Stock)\, Hannover\, 30173\, Deutschland
CATEGORIES:Seniorenbüro
END:VEVENT
BEGIN:VEVENT
DTSTART;TZID=Europe/Berlin:20250417T160000
DTEND;TZID=Europe/Berlin:20250417T173000
DTSTAMP:20260419T154241
CREATED:20240307T152607Z
LAST-MODIFIED:20250511T184453Z
UID:10003319-1744905600-1744911000@www.melanchthon-hannover.de
SUMMARY:Spanisch (Fortgeschrittene)
DESCRIPTION:Fortgeschrittene
URL:https://www.melanchthon-hannover.de/termin/spanisch/2025-04-17/
LOCATION:Diakonie-Seniorenbüro Bult\, Freundallee 16 (2. Stock)\, Hannover\, 30173\, Deutschland
CATEGORIES:Seniorenbüro
END:VEVENT
BEGIN:VEVENT
DTSTART;TZID=Europe/Berlin:20250416T173000
DTEND;TZID=Europe/Berlin:20250416T193000
DTSTAMP:20260419T154241
CREATED:20240307T151126Z
LAST-MODIFIED:20240307T151126Z
UID:10002536-1744824600-1744831800@www.melanchthon-hannover.de
SUMMARY:Englisch\, leichte Konversation
DESCRIPTION:
URL:https://www.melanchthon-hannover.de/termin/englisch-leichte-konversation-3/2025-04-16/
LOCATION:Diakonie-Seniorenbüro Bult\, Freundallee 16 (2. Stock)\, Hannover\, 30173\, Deutschland
CATEGORIES:Seniorenbüro
END:VEVENT
BEGIN:VEVENT
DTSTART;TZID=Europe/Berlin:20250416T160000
DTEND;TZID=Europe/Berlin:20250416T171500
DTSTAMP:20260419T154241
CREATED:20240307T150749Z
LAST-MODIFIED:20240307T150958Z
UID:10002275-1744819200-1744823700@www.melanchthon-hannover.de
SUMMARY:Englisch\, leichte Konversation
DESCRIPTION:
URL:https://www.melanchthon-hannover.de/termin/englisch-leichte-konversation-2/2025-04-16/
LOCATION:Diakonie-Seniorenbüro Bult\, Freundallee 16 (2. Stock)\, Hannover\, 30173\, Deutschland
CATEGORIES:Seniorenbüro
END:VEVENT
BEGIN:VEVENT
DTSTART;TZID=Europe/Berlin:20250415T100000
DTEND;TZID=Europe/Berlin:20250415T113000
DTSTAMP:20260419T154241
CREATED:20240307T150350Z
LAST-MODIFIED:20240307T150526Z
UID:10002013-1744711200-1744716600@www.melanchthon-hannover.de
SUMMARY:Englisch\, leichte Konversation
DESCRIPTION:
URL:https://www.melanchthon-hannover.de/termin/englisch-leichte-konversation/2025-04-15/
LOCATION:Diakonie-Seniorenbüro Bult\, Freundallee 16 (2. Stock)\, Hannover\, 30173\, Deutschland
CATEGORIES:Seniorenbüro
END:VEVENT
BEGIN:VEVENT
DTSTART;TZID=Europe/Berlin:20250411T163000
DTEND;TZID=Europe/Berlin:20250411T173000
DTSTAMP:20260419T154241
CREATED:20240307T152857Z
LAST-MODIFIED:20240724T120020Z
UID:10003840-1744389000-1744392600@www.melanchthon-hannover.de
SUMMARY:Spanisch (Anfänger)
DESCRIPTION:Anfänger
URL:https://www.melanchthon-hannover.de/termin/spanisch-3/2025-04-11/
LOCATION:Diakonie-Seniorenbüro Bult\, Freundallee 16 (2. Stock)\, Hannover\, 30173\, Deutschland
CATEGORIES:Seniorenbüro
END:VEVENT
BEGIN:VEVENT
DTSTART;TZID=Europe/Berlin:20250410T173000
DTEND;TZID=Europe/Berlin:20250410T183000
DTSTAMP:20260419T154241
CREATED:20240307T152751Z
LAST-MODIFIED:20240724T115945Z
UID:10003579-1744306200-1744309800@www.melanchthon-hannover.de
SUMMARY:Spanisch (fortgeschr. Anfänger)
DESCRIPTION:Fortgeschrittene Anfänger
URL:https://www.melanchthon-hannover.de/termin/spanisch-2/2025-04-10/
LOCATION:Diakonie-Seniorenbüro Bult\, Freundallee 16 (2. Stock)\, Hannover\, 30173\, Deutschland
CATEGORIES:Seniorenbüro
END:VEVENT
BEGIN:VEVENT
DTSTART;TZID=Europe/Berlin:20250410T160000
DTEND;TZID=Europe/Berlin:20250410T173000
DTSTAMP:20260419T154241
CREATED:20240307T152607Z
LAST-MODIFIED:20250511T184453Z
UID:10003318-1744300800-1744306200@www.melanchthon-hannover.de
SUMMARY:Spanisch (Fortgeschrittene)
DESCRIPTION:Fortgeschrittene
URL:https://www.melanchthon-hannover.de/termin/spanisch/2025-04-10/
LOCATION:Diakonie-Seniorenbüro Bult\, Freundallee 16 (2. Stock)\, Hannover\, 30173\, Deutschland
CATEGORIES:Seniorenbüro
END:VEVENT
BEGIN:VEVENT
DTSTART;TZID=Europe/Berlin:20250409T173000
DTEND;TZID=Europe/Berlin:20250409T193000
DTSTAMP:20260419T154241
CREATED:20240307T151126Z
LAST-MODIFIED:20240307T151126Z
UID:10002535-1744219800-1744227000@www.melanchthon-hannover.de
SUMMARY:Englisch\, leichte Konversation
DESCRIPTION:
URL:https://www.melanchthon-hannover.de/termin/englisch-leichte-konversation-3/2025-04-09/
LOCATION:Diakonie-Seniorenbüro Bult\, Freundallee 16 (2. Stock)\, Hannover\, 30173\, Deutschland
CATEGORIES:Seniorenbüro
END:VEVENT
BEGIN:VEVENT
DTSTART;TZID=Europe/Berlin:20250409T160000
DTEND;TZID=Europe/Berlin:20250409T171500
DTSTAMP:20260419T154241
CREATED:20240307T150749Z
LAST-MODIFIED:20240307T150958Z
UID:10002274-1744214400-1744218900@www.melanchthon-hannover.de
SUMMARY:Englisch\, leichte Konversation
DESCRIPTION:
URL:https://www.melanchthon-hannover.de/termin/englisch-leichte-konversation-2/2025-04-09/
LOCATION:Diakonie-Seniorenbüro Bult\, Freundallee 16 (2. Stock)\, Hannover\, 30173\, Deutschland
CATEGORIES:Seniorenbüro
END:VEVENT
BEGIN:VEVENT
DTSTART;TZID=Europe/Berlin:20250408T100000
DTEND;TZID=Europe/Berlin:20250408T113000
DTSTAMP:20260419T154241
CREATED:20240307T150350Z
LAST-MODIFIED:20240307T150526Z
UID:10002012-1744106400-1744111800@www.melanchthon-hannover.de
SUMMARY:Englisch\, leichte Konversation
DESCRIPTION:
URL:https://www.melanchthon-hannover.de/termin/englisch-leichte-konversation/2025-04-08/
LOCATION:Diakonie-Seniorenbüro Bult\, Freundallee 16 (2. Stock)\, Hannover\, 30173\, Deutschland
CATEGORIES:Seniorenbüro
END:VEVENT
BEGIN:VEVENT
DTSTART;TZID=Europe/Berlin:20250404T163000
DTEND;TZID=Europe/Berlin:20250404T173000
DTSTAMP:20260419T154241
CREATED:20240307T152857Z
LAST-MODIFIED:20240724T120020Z
UID:10003839-1743784200-1743787800@www.melanchthon-hannover.de
SUMMARY:Spanisch (Anfänger)
DESCRIPTION:Anfänger
URL:https://www.melanchthon-hannover.de/termin/spanisch-3/2025-04-04/
LOCATION:Diakonie-Seniorenbüro Bult\, Freundallee 16 (2. Stock)\, Hannover\, 30173\, Deutschland
CATEGORIES:Seniorenbüro
END:VEVENT
BEGIN:VEVENT
DTSTART;TZID=Europe/Berlin:20250403T173000
DTEND;TZID=Europe/Berlin:20250403T183000
DTSTAMP:20260419T154241
CREATED:20240307T152751Z
LAST-MODIFIED:20240724T115945Z
UID:10003578-1743701400-1743705000@www.melanchthon-hannover.de
SUMMARY:Spanisch (fortgeschr. Anfänger)
DESCRIPTION:Fortgeschrittene Anfänger
URL:https://www.melanchthon-hannover.de/termin/spanisch-2/2025-04-03/
LOCATION:Diakonie-Seniorenbüro Bult\, Freundallee 16 (2. Stock)\, Hannover\, 30173\, Deutschland
CATEGORIES:Seniorenbüro
END:VEVENT
BEGIN:VEVENT
DTSTART;TZID=Europe/Berlin:20250403T160000
DTEND;TZID=Europe/Berlin:20250403T173000
DTSTAMP:20260419T154241
CREATED:20240307T152607Z
LAST-MODIFIED:20250511T184453Z
UID:10003317-1743696000-1743701400@www.melanchthon-hannover.de
SUMMARY:Spanisch (Fortgeschrittene)
DESCRIPTION:Fortgeschrittene
URL:https://www.melanchthon-hannover.de/termin/spanisch/2025-04-03/
LOCATION:Diakonie-Seniorenbüro Bult\, Freundallee 16 (2. Stock)\, Hannover\, 30173\, Deutschland
CATEGORIES:Seniorenbüro
END:VEVENT
BEGIN:VEVENT
DTSTART;TZID=Europe/Berlin:20250402T173000
DTEND;TZID=Europe/Berlin:20250402T193000
DTSTAMP:20260419T154241
CREATED:20240307T151126Z
LAST-MODIFIED:20240307T151126Z
UID:10002534-1743615000-1743622200@www.melanchthon-hannover.de
SUMMARY:Englisch\, leichte Konversation
DESCRIPTION:
URL:https://www.melanchthon-hannover.de/termin/englisch-leichte-konversation-3/2025-04-02/
LOCATION:Diakonie-Seniorenbüro Bult\, Freundallee 16 (2. Stock)\, Hannover\, 30173\, Deutschland
CATEGORIES:Seniorenbüro
END:VEVENT
BEGIN:VEVENT
DTSTART;TZID=Europe/Berlin:20250402T160000
DTEND;TZID=Europe/Berlin:20250402T171500
DTSTAMP:20260419T154241
CREATED:20240307T150749Z
LAST-MODIFIED:20240307T150958Z
UID:10002273-1743609600-1743614100@www.melanchthon-hannover.de
SUMMARY:Englisch\, leichte Konversation
DESCRIPTION:
URL:https://www.melanchthon-hannover.de/termin/englisch-leichte-konversation-2/2025-04-02/
LOCATION:Diakonie-Seniorenbüro Bult\, Freundallee 16 (2. Stock)\, Hannover\, 30173\, Deutschland
CATEGORIES:Seniorenbüro
END:VEVENT
BEGIN:VEVENT
DTSTART;TZID=Europe/Berlin:20250401T100000
DTEND;TZID=Europe/Berlin:20250401T113000
DTSTAMP:20260419T154241
CREATED:20240307T150350Z
LAST-MODIFIED:20240307T150526Z
UID:10002011-1743501600-1743507000@www.melanchthon-hannover.de
SUMMARY:Englisch\, leichte Konversation
DESCRIPTION:
URL:https://www.melanchthon-hannover.de/termin/englisch-leichte-konversation/2025-04-01/
LOCATION:Diakonie-Seniorenbüro Bult\, Freundallee 16 (2. Stock)\, Hannover\, 30173\, Deutschland
CATEGORIES:Seniorenbüro
END:VEVENT
END:VCALENDAR