BEGIN:VCALENDAR
VERSION:2.0
PRODID:-//Melanchthon-Gemeinde - ECPv6.15.20//NONSGML v1.0//EN
CALSCALE:GREGORIAN
METHOD:PUBLISH
X-ORIGINAL-URL:https://www.melanchthon-hannover.de
X-WR-CALDESC:Veranstaltungen für Melanchthon-Gemeinde
REFRESH-INTERVAL;VALUE=DURATION:PT1H
X-Robots-Tag:noindex
X-PUBLISHED-TTL:PT1H
BEGIN:VTIMEZONE
TZID:Europe/Berlin
BEGIN:DAYLIGHT
TZOFFSETFROM:+0100
TZOFFSETTO:+0200
TZNAME:CEST
DTSTART:20220327T010000
END:DAYLIGHT
BEGIN:STANDARD
TZOFFSETFROM:+0200
TZOFFSETTO:+0100
TZNAME:CET
DTSTART:20221030T010000
END:STANDARD
BEGIN:DAYLIGHT
TZOFFSETFROM:+0100
TZOFFSETTO:+0200
TZNAME:CEST
DTSTART:20230326T010000
END:DAYLIGHT
BEGIN:STANDARD
TZOFFSETFROM:+0200
TZOFFSETTO:+0100
TZNAME:CET
DTSTART:20231029T010000
END:STANDARD
BEGIN:DAYLIGHT
TZOFFSETFROM:+0100
TZOFFSETTO:+0200
TZNAME:CEST
DTSTART:20240331T010000
END:DAYLIGHT
BEGIN:STANDARD
TZOFFSETFROM:+0200
TZOFFSETTO:+0100
TZNAME:CET
DTSTART:20241027T010000
END:STANDARD
BEGIN:DAYLIGHT
TZOFFSETFROM:+0100
TZOFFSETTO:+0200
TZNAME:CEST
DTSTART:20250330T010000
END:DAYLIGHT
BEGIN:STANDARD
TZOFFSETFROM:+0200
TZOFFSETTO:+0100
TZNAME:CET
DTSTART:20251026T010000
END:STANDARD
END:VTIMEZONE
BEGIN:VEVENT
DTSTART;TZID=Europe/Berlin:20240310T180000
DTEND;TZID=Europe/Berlin:20240310T193000
DTSTAMP:20260419T184352
CREATED:20240121T161616Z
LAST-MODIFIED:20240121T161616Z
UID:10001239-1710093600-1710099000@www.melanchthon-hannover.de
SUMMARY:Taizé­-Abend der Lichter
DESCRIPTION:am 10. März 2024 ab ca. 18.00 Uhr \nDirekt nach der Kirchenvorstandswahl laden wir zum Taizé­-Abend ein!\nViele stimmungsvoll leuchtende Kerzen\, me­diative Taizélieder\, Instrumentalmusik\, Schweigezeit und ein paar anregende Texte erwarten Sie. Manches wird sich um das The­ma „Segen“ drehen\, denn nicht nur jeder einzelne Mensch\, auch ein frisch gewählter Vorstand kann Segen gut gebrauchen auf seinem neuen Weg! \nWir freuen uns auf Ihr oder Dein Kommen! \nDAS VORBEREITUNGSTEAM: ALEXANDRA FISCHER­FLEBBE\, ROSITA WÜNDERICH\, DOROTHEE SETH\, KATRIN WIEDERSHEIM
URL:https://www.melanchthon-hannover.de/termin/taize-abend-der-lichter/
LOCATION:Melanchthon\, Menschingstr. 12\, Hannover\, 30173\, Deutschland
CATEGORIES:Abendgottesdienst
ATTACH;FMTTYPE=image/png:https://www.melanchthon-hannover.de/wp-content/uploads/2024/01/TAIZE-10.03.2024.png
END:VEVENT
BEGIN:VEVENT
DTSTART;TZID=Europe/Berlin:20231112T180000
DTEND;TZID=Europe/Berlin:20231112T190000
DTSTAMP:20260419T184352
CREATED:20230926T070949Z
LAST-MODIFIED:20230926T094703Z
UID:10000075-1699812000-1699815600@www.melanchthon-hannover.de
SUMMARY:Taizé - Abend
DESCRIPTION:am 12. November 2023 um 18.00 Uhr \n\n\n\nmit Liedern aus Taizé\, Kerzen\, Texten\, Schweigeminuten. \n\n\n\nDas Thema wird diesmal sein: \n\n\n\nHören\, Zuhören. \n\n\n\nIn Resonanz kommen: Mit sich selbst\, wenn man mit der Alltagsge­schäftigkeit aufhört\, Stille einkehren lässt. Dem Anderen zuhören und ungeteilte Auf­merksamkeit schenken. Mit Gott\, so wie es Leonhard Cohen in sei­nem Gedicht beschreibt: \n\n\n\n„Listen to the hummingbird\, Whose wings you cannot see“ \n\n„Listen to the mind of god\, which doesn ́t need to be“ Leonhard Cohen\n\n\n\nWir freuen uns auf Euer/Ihr Kommen! \n\n\n\nALEXANDRA FISCHER­FLEBBE FÜR D
URL:https://www.melanchthon-hannover.de/termin/taize-abend/
LOCATION:Melanchthon\, Menschingstr. 12\, Hannover\, 30173\, Deutschland
CATEGORIES:Abendgottesdienst
ATTACH;FMTTYPE=image/png:https://www.melanchthon-hannover.de/wp-content/uploads/2023/09/TAIZE-12.11.23.png
END:VEVENT
END:VCALENDAR