BEGIN:VCALENDAR
VERSION:2.0
PRODID:-//Melanchthon-Gemeinde - ECPv6.15.20//NONSGML v1.0//EN
CALSCALE:GREGORIAN
METHOD:PUBLISH
X-WR-CALNAME:Melanchthon-Gemeinde
X-ORIGINAL-URL:https://www.melanchthon-hannover.de
X-WR-CALDESC:Veranstaltungen für Melanchthon-Gemeinde
REFRESH-INTERVAL;VALUE=DURATION:PT1H
X-Robots-Tag:noindex
X-PUBLISHED-TTL:PT1H
BEGIN:VTIMEZONE
TZID:Europe/Berlin
BEGIN:DAYLIGHT
TZOFFSETFROM:+0100
TZOFFSETTO:+0200
TZNAME:CEST
DTSTART:20260329T010000
END:DAYLIGHT
BEGIN:STANDARD
TZOFFSETFROM:+0200
TZOFFSETTO:+0100
TZNAME:CET
DTSTART:20261025T010000
END:STANDARD
BEGIN:DAYLIGHT
TZOFFSETFROM:+0100
TZOFFSETTO:+0200
TZNAME:CEST
DTSTART:20270328T010000
END:DAYLIGHT
BEGIN:STANDARD
TZOFFSETFROM:+0200
TZOFFSETTO:+0100
TZNAME:CET
DTSTART:20271031T010000
END:STANDARD
BEGIN:DAYLIGHT
TZOFFSETFROM:+0100
TZOFFSETTO:+0200
TZNAME:CEST
DTSTART:20280326T010000
END:DAYLIGHT
BEGIN:STANDARD
TZOFFSETFROM:+0200
TZOFFSETTO:+0100
TZNAME:CET
DTSTART:20281029T010000
END:STANDARD
END:VTIMEZONE
BEGIN:VEVENT
DTSTART;TZID=Europe/Berlin:20270301T183000
DTEND;TZID=Europe/Berlin:20270301T183000
DTSTAMP:20260424T175903
CREATED:20240724T141125Z
LAST-MODIFIED:20240724T141125Z
UID:10005744-1803925800-1803925800@www.melanchthon-hannover.de
SUMMARY:Meditationsgruppe
DESCRIPTION:
URL:https://www.melanchthon-hannover.de/termin/meditationsgruppe-5/2027-03-01/
LOCATION:Melanchthon – Unterkirche\, Menschingstr. 12\, Hannover\, 30173\, Deutschland
CATEGORIES:Gemeindeveranstaltung
END:VEVENT
BEGIN:VEVENT
DTSTART;TZID=Europe/Berlin:20270301T200000
DTEND;TZID=Europe/Berlin:20270301T213000
DTSTAMP:20260424T175903
CREATED:20230926T114558Z
LAST-MODIFIED:20230926T114558Z
UID:10000638-1803931200-1803936600@www.melanchthon-hannover.de
SUMMARY:Melanchthonchor
DESCRIPTION:
URL:https://www.melanchthon-hannover.de/termin/melanchthonchor-8/2027-03-01/
LOCATION:Melanchthon\, Menschingstr. 12\, Hannover\, 30173\, Deutschland
CATEGORIES:Gemeindeveranstaltung
END:VEVENT
BEGIN:VEVENT
DTSTART;TZID=Europe/Berlin:20270302T170000
DTEND;TZID=Europe/Berlin:20270302T183000
DTSTAMP:20260424T175903
CREATED:20250407T164330Z
LAST-MODIFIED:20250407T164330Z
UID:10006454-1804006800-1804012200@www.melanchthon-hannover.de
SUMMARY:Konfirmandenzeit
DESCRIPTION:
URL:https://www.melanchthon-hannover.de/termin/konfirmandenzeit/2027-03-02/
LOCATION:Melanchthon\, Menschingstr. 12\, Hannover\, 30173\, Deutschland
CATEGORIES:Konfirmanden
END:VEVENT
BEGIN:VEVENT
DTSTART;TZID=Europe/Berlin:20270303T100000
DTEND;TZID=Europe/Berlin:20270303T120000
DTSTAMP:20260424T175903
CREATED:20250407T164812Z
LAST-MODIFIED:20250407T164812Z
UID:10006717-1804068000-1804075200@www.melanchthon-hannover.de
SUMMARY:Malen am Morgen
DESCRIPTION:
URL:https://www.melanchthon-hannover.de/termin/malen-am-morgen-2/2027-03-03/
LOCATION:Melanchthon\, Menschingstr. 12\, Hannover\, 30173\, Deutschland
CATEGORIES:Gemeindeveranstaltung
END:VEVENT
BEGIN:VEVENT
DTSTART;TZID=Europe/Berlin:20270303T150000
DTEND;TZID=Europe/Berlin:20270303T170000
DTSTAMP:20260424T175903
CREATED:20240123T162207Z
LAST-MODIFIED:20240123T162207Z
UID:10001285-1804086000-1804093200@www.melanchthon-hannover.de
SUMMARY:Besuchsdienstkreis
DESCRIPTION:Mittwoch im Monat
URL:https://www.melanchthon-hannover.de/termin/besuchsdienstkreis/2027-03-03/
LOCATION:Melanchthon – Glasraum\, Menschingstr. 12\, Hannover\, 30173\, Deutschland
CATEGORIES:Gemeindeveranstaltung
END:VEVENT
BEGIN:VEVENT
DTSTART;TZID=Europe/Berlin:20270304T160000
DTEND;TZID=Europe/Berlin:20270304T173000
DTSTAMP:20260424T175903
CREATED:20230910T092059Z
LAST-MODIFIED:20230926T115533Z
UID:10001019-1804176000-1804181400@www.melanchthon-hannover.de
SUMMARY:Eltern-Kind-Spielkreis
DESCRIPTION:
URL:https://www.melanchthon-hannover.de/termin/eltern-kind-spielkreis-3/2027-03-04/
LOCATION:Melanchthon – Glasraum\, Menschingstr. 12\, Hannover\, 30173\, Deutschland
CATEGORIES:Gemeindeveranstaltung
END:VEVENT
BEGIN:VEVENT
DTSTART;TZID=Europe/Berlin:20270306T100000
DTEND;TZID=Europe/Berlin:20270306T120000
DTSTAMP:20260424T175903
CREATED:20250407T165209Z
LAST-MODIFIED:20250407T165209Z
UID:10006963-1804327200-1804334400@www.melanchthon-hannover.de
SUMMARY:Kinderkunst
DESCRIPTION:
URL:https://www.melanchthon-hannover.de/termin/kinderkunst-6/2027-03-06/
LOCATION:Melanchthon\, Menschingstr. 12\, Hannover\, 30173\, Deutschland
CATEGORIES:Gemeindeveranstaltung
END:VEVENT
BEGIN:VEVENT
DTSTART;TZID=Europe/Berlin:20270306T100000
DTEND;TZID=Europe/Berlin:20270306T120000
DTSTAMP:20260424T175903
CREATED:20251002T104027Z
LAST-MODIFIED:20251002T104027Z
UID:10006902-1804327200-1804334400@www.melanchthon-hannover.de
SUMMARY:Marktcafé
DESCRIPTION:
URL:https://www.melanchthon-hannover.de/termin/marktcafe-4-2/2027-03-06/
LOCATION:Melanchthon\, Menschingstr. 12\, Hannover\, 30173\, Deutschland
CATEGORIES:Gemeindeveranstaltung
ATTACH;FMTTYPE=image/png:https://www.melanchthon-hannover.de/wp-content/uploads/2025/04/Markcafe.png
END:VEVENT
BEGIN:VEVENT
DTSTART;TZID=Europe/Berlin:20270308T183000
DTEND;TZID=Europe/Berlin:20270308T183000
DTSTAMP:20260424T175903
CREATED:20240724T141125Z
LAST-MODIFIED:20240724T141125Z
UID:10005745-1804530600-1804530600@www.melanchthon-hannover.de
SUMMARY:Meditationsgruppe
DESCRIPTION:
URL:https://www.melanchthon-hannover.de/termin/meditationsgruppe-5/2027-03-08/
LOCATION:Melanchthon – Unterkirche\, Menschingstr. 12\, Hannover\, 30173\, Deutschland
CATEGORIES:Gemeindeveranstaltung
END:VEVENT
BEGIN:VEVENT
DTSTART;TZID=Europe/Berlin:20270308T200000
DTEND;TZID=Europe/Berlin:20270308T213000
DTSTAMP:20260424T175903
CREATED:20230926T114558Z
LAST-MODIFIED:20230926T114558Z
UID:10000639-1804536000-1804541400@www.melanchthon-hannover.de
SUMMARY:Melanchthonchor
DESCRIPTION:
URL:https://www.melanchthon-hannover.de/termin/melanchthonchor-8/2027-03-08/
LOCATION:Melanchthon\, Menschingstr. 12\, Hannover\, 30173\, Deutschland
CATEGORIES:Gemeindeveranstaltung
END:VEVENT
BEGIN:VEVENT
DTSTART;TZID=Europe/Berlin:20270309T170000
DTEND;TZID=Europe/Berlin:20270309T183000
DTSTAMP:20260424T175903
CREATED:20250407T164330Z
LAST-MODIFIED:20250407T164330Z
UID:10006455-1804611600-1804617000@www.melanchthon-hannover.de
SUMMARY:Konfirmandenzeit
DESCRIPTION:
URL:https://www.melanchthon-hannover.de/termin/konfirmandenzeit/2027-03-09/
LOCATION:Melanchthon\, Menschingstr. 12\, Hannover\, 30173\, Deutschland
CATEGORIES:Konfirmanden
END:VEVENT
BEGIN:VEVENT
DTSTART;TZID=Europe/Berlin:20270310T100000
DTEND;TZID=Europe/Berlin:20270310T120000
DTSTAMP:20260424T175903
CREATED:20250407T164812Z
LAST-MODIFIED:20250407T164812Z
UID:10006718-1804672800-1804680000@www.melanchthon-hannover.de
SUMMARY:Malen am Morgen
DESCRIPTION:
URL:https://www.melanchthon-hannover.de/termin/malen-am-morgen-2/2027-03-10/
LOCATION:Melanchthon\, Menschingstr. 12\, Hannover\, 30173\, Deutschland
CATEGORIES:Gemeindeveranstaltung
END:VEVENT
BEGIN:VEVENT
DTSTART;TZID=Europe/Berlin:20270311T160000
DTEND;TZID=Europe/Berlin:20270311T173000
DTSTAMP:20260424T175903
CREATED:20230910T092059Z
LAST-MODIFIED:20230926T115533Z
UID:10001020-1804780800-1804786200@www.melanchthon-hannover.de
SUMMARY:Eltern-Kind-Spielkreis
DESCRIPTION:
URL:https://www.melanchthon-hannover.de/termin/eltern-kind-spielkreis-3/2027-03-11/
LOCATION:Melanchthon – Glasraum\, Menschingstr. 12\, Hannover\, 30173\, Deutschland
CATEGORIES:Gemeindeveranstaltung
END:VEVENT
BEGIN:VEVENT
DTSTART;TZID=Europe/Berlin:20270311T193000
DTEND;TZID=Europe/Berlin:20270311T213000
DTSTAMP:20260424T175903
CREATED:20240329T122045Z
LAST-MODIFIED:20240329T122045Z
UID:10004348-1804793400-1804800600@www.melanchthon-hannover.de
SUMMARY:Männergruppe
DESCRIPTION:
URL:https://www.melanchthon-hannover.de/termin/maennergruppe-5/2027-03-11/
LOCATION:Melanchthon – Unterkirche\, Menschingstr. 12\, Hannover\, 30173\, Deutschland
CATEGORIES:Gemeindeveranstaltung
END:VEVENT
BEGIN:VEVENT
DTSTART;TZID=Europe/Berlin:20270315T183000
DTEND;TZID=Europe/Berlin:20270315T183000
DTSTAMP:20260424T175903
CREATED:20240724T141125Z
LAST-MODIFIED:20240724T141125Z
UID:10005746-1805135400-1805135400@www.melanchthon-hannover.de
SUMMARY:Meditationsgruppe
DESCRIPTION:
URL:https://www.melanchthon-hannover.de/termin/meditationsgruppe-5/2027-03-15/
LOCATION:Melanchthon – Unterkirche\, Menschingstr. 12\, Hannover\, 30173\, Deutschland
CATEGORIES:Gemeindeveranstaltung
END:VEVENT
BEGIN:VEVENT
DTSTART;TZID=Europe/Berlin:20270315T200000
DTEND;TZID=Europe/Berlin:20270315T213000
DTSTAMP:20260424T175903
CREATED:20230926T114558Z
LAST-MODIFIED:20230926T114558Z
UID:10000640-1805140800-1805146200@www.melanchthon-hannover.de
SUMMARY:Melanchthonchor
DESCRIPTION:
URL:https://www.melanchthon-hannover.de/termin/melanchthonchor-8/2027-03-15/
LOCATION:Melanchthon\, Menschingstr. 12\, Hannover\, 30173\, Deutschland
CATEGORIES:Gemeindeveranstaltung
END:VEVENT
BEGIN:VEVENT
DTSTART;TZID=Europe/Berlin:20270316T170000
DTEND;TZID=Europe/Berlin:20270316T183000
DTSTAMP:20260424T175903
CREATED:20250407T164330Z
LAST-MODIFIED:20250407T164330Z
UID:10006456-1805216400-1805221800@www.melanchthon-hannover.de
SUMMARY:Konfirmandenzeit
DESCRIPTION:
URL:https://www.melanchthon-hannover.de/termin/konfirmandenzeit/2027-03-16/
LOCATION:Melanchthon\, Menschingstr. 12\, Hannover\, 30173\, Deutschland
CATEGORIES:Konfirmanden
END:VEVENT
BEGIN:VEVENT
DTSTART;TZID=Europe/Berlin:20270317T100000
DTEND;TZID=Europe/Berlin:20270317T120000
DTSTAMP:20260424T175903
CREATED:20250407T164812Z
LAST-MODIFIED:20250407T164812Z
UID:10006719-1805277600-1805284800@www.melanchthon-hannover.de
SUMMARY:Malen am Morgen
DESCRIPTION:
URL:https://www.melanchthon-hannover.de/termin/malen-am-morgen-2/2027-03-17/
LOCATION:Melanchthon\, Menschingstr. 12\, Hannover\, 30173\, Deutschland
CATEGORIES:Gemeindeveranstaltung
END:VEVENT
BEGIN:VEVENT
DTSTART;TZID=Europe/Berlin:20270318T160000
DTEND;TZID=Europe/Berlin:20270318T173000
DTSTAMP:20260424T175903
CREATED:20230910T092059Z
LAST-MODIFIED:20230926T115533Z
UID:10001021-1805385600-1805391000@www.melanchthon-hannover.de
SUMMARY:Eltern-Kind-Spielkreis
DESCRIPTION:
URL:https://www.melanchthon-hannover.de/termin/eltern-kind-spielkreis-3/2027-03-18/
LOCATION:Melanchthon – Glasraum\, Menschingstr. 12\, Hannover\, 30173\, Deutschland
CATEGORIES:Gemeindeveranstaltung
END:VEVENT
BEGIN:VEVENT
DTSTART;TZID=Europe/Berlin:20270322T183000
DTEND;TZID=Europe/Berlin:20270322T183000
DTSTAMP:20260424T175903
CREATED:20240724T141125Z
LAST-MODIFIED:20240724T141125Z
UID:10005747-1805740200-1805740200@www.melanchthon-hannover.de
SUMMARY:Meditationsgruppe
DESCRIPTION:
URL:https://www.melanchthon-hannover.de/termin/meditationsgruppe-5/2027-03-22/
LOCATION:Melanchthon – Unterkirche\, Menschingstr. 12\, Hannover\, 30173\, Deutschland
CATEGORIES:Gemeindeveranstaltung
END:VEVENT
BEGIN:VEVENT
DTSTART;TZID=Europe/Berlin:20270322T200000
DTEND;TZID=Europe/Berlin:20270322T213000
DTSTAMP:20260424T175903
CREATED:20230926T114558Z
LAST-MODIFIED:20230926T114558Z
UID:10000641-1805745600-1805751000@www.melanchthon-hannover.de
SUMMARY:Melanchthonchor
DESCRIPTION:
URL:https://www.melanchthon-hannover.de/termin/melanchthonchor-8/2027-03-22/
LOCATION:Melanchthon\, Menschingstr. 12\, Hannover\, 30173\, Deutschland
CATEGORIES:Gemeindeveranstaltung
END:VEVENT
BEGIN:VEVENT
DTSTART;TZID=Europe/Berlin:20270323T170000
DTEND;TZID=Europe/Berlin:20270323T183000
DTSTAMP:20260424T175903
CREATED:20250407T164330Z
LAST-MODIFIED:20250407T164330Z
UID:10006457-1805821200-1805826600@www.melanchthon-hannover.de
SUMMARY:Konfirmandenzeit
DESCRIPTION:
URL:https://www.melanchthon-hannover.de/termin/konfirmandenzeit/2027-03-23/
LOCATION:Melanchthon\, Menschingstr. 12\, Hannover\, 30173\, Deutschland
CATEGORIES:Konfirmanden
END:VEVENT
BEGIN:VEVENT
DTSTART;TZID=Europe/Berlin:20270324T100000
DTEND;TZID=Europe/Berlin:20270324T120000
DTSTAMP:20260424T175903
CREATED:20250407T164812Z
LAST-MODIFIED:20250407T164812Z
UID:10006720-1805882400-1805889600@www.melanchthon-hannover.de
SUMMARY:Malen am Morgen
DESCRIPTION:
URL:https://www.melanchthon-hannover.de/termin/malen-am-morgen-2/2027-03-24/
LOCATION:Melanchthon\, Menschingstr. 12\, Hannover\, 30173\, Deutschland
CATEGORIES:Gemeindeveranstaltung
END:VEVENT
BEGIN:VEVENT
DTSTART;TZID=Europe/Berlin:20270325T160000
DTEND;TZID=Europe/Berlin:20270325T173000
DTSTAMP:20260424T175903
CREATED:20230910T092059Z
LAST-MODIFIED:20230926T115533Z
UID:10001022-1805990400-1805995800@www.melanchthon-hannover.de
SUMMARY:Eltern-Kind-Spielkreis
DESCRIPTION:
URL:https://www.melanchthon-hannover.de/termin/eltern-kind-spielkreis-3/2027-03-25/
LOCATION:Melanchthon – Glasraum\, Menschingstr. 12\, Hannover\, 30173\, Deutschland
CATEGORIES:Gemeindeveranstaltung
END:VEVENT
BEGIN:VEVENT
DTSTART;TZID=Europe/Berlin:20270325T193000
DTEND;TZID=Europe/Berlin:20270325T210000
DTSTAMP:20260424T175903
CREATED:20230926T115242Z
LAST-MODIFIED:20230926T115242Z
UID:10000823-1806003000-1806008400@www.melanchthon-hannover.de
SUMMARY:Männergruppe
DESCRIPTION:
URL:https://www.melanchthon-hannover.de/termin/maennergruppe-4/2027-03-25/
LOCATION:Melanchthon – Unterkirche\, Menschingstr. 12\, Hannover\, 30173\, Deutschland
CATEGORIES:Gemeindeveranstaltung
END:VEVENT
BEGIN:VEVENT
DTSTART;TZID=Europe/Berlin:20270329T183000
DTEND;TZID=Europe/Berlin:20270329T183000
DTSTAMP:20260424T175903
CREATED:20240724T141125Z
LAST-MODIFIED:20240724T141125Z
UID:10005748-1806345000-1806345000@www.melanchthon-hannover.de
SUMMARY:Meditationsgruppe
DESCRIPTION:
URL:https://www.melanchthon-hannover.de/termin/meditationsgruppe-5/2027-03-29/
LOCATION:Melanchthon – Unterkirche\, Menschingstr. 12\, Hannover\, 30173\, Deutschland
CATEGORIES:Gemeindeveranstaltung
END:VEVENT
BEGIN:VEVENT
DTSTART;TZID=Europe/Berlin:20270329T200000
DTEND;TZID=Europe/Berlin:20270329T213000
DTSTAMP:20260424T175903
CREATED:20230926T114558Z
LAST-MODIFIED:20230926T114558Z
UID:10000642-1806350400-1806355800@www.melanchthon-hannover.de
SUMMARY:Melanchthonchor
DESCRIPTION:
URL:https://www.melanchthon-hannover.de/termin/melanchthonchor-8/2027-03-29/
LOCATION:Melanchthon\, Menschingstr. 12\, Hannover\, 30173\, Deutschland
CATEGORIES:Gemeindeveranstaltung
END:VEVENT
BEGIN:VEVENT
DTSTART;TZID=Europe/Berlin:20270330T170000
DTEND;TZID=Europe/Berlin:20270330T183000
DTSTAMP:20260424T175903
CREATED:20250407T164330Z
LAST-MODIFIED:20250407T164330Z
UID:10006458-1806426000-1806431400@www.melanchthon-hannover.de
SUMMARY:Konfirmandenzeit
DESCRIPTION:
URL:https://www.melanchthon-hannover.de/termin/konfirmandenzeit/2027-03-30/
LOCATION:Melanchthon\, Menschingstr. 12\, Hannover\, 30173\, Deutschland
CATEGORIES:Konfirmanden
END:VEVENT
BEGIN:VEVENT
DTSTART;TZID=Europe/Berlin:20270331T100000
DTEND;TZID=Europe/Berlin:20270331T120000
DTSTAMP:20260424T175903
CREATED:20250407T164812Z
LAST-MODIFIED:20250407T164812Z
UID:10006721-1806487200-1806494400@www.melanchthon-hannover.de
SUMMARY:Malen am Morgen
DESCRIPTION:
URL:https://www.melanchthon-hannover.de/termin/malen-am-morgen-2/2027-03-31/
LOCATION:Melanchthon\, Menschingstr. 12\, Hannover\, 30173\, Deutschland
CATEGORIES:Gemeindeveranstaltung
END:VEVENT
END:VCALENDAR