BEGIN:VCALENDAR
VERSION:2.0
PRODID:-//Melanchthon-Gemeinde - ECPv6.15.20//NONSGML v1.0//EN
CALSCALE:GREGORIAN
METHOD:PUBLISH
X-ORIGINAL-URL:https://www.melanchthon-hannover.de
X-WR-CALDESC:Veranstaltungen für Melanchthon-Gemeinde
REFRESH-INTERVAL;VALUE=DURATION:PT1H
X-Robots-Tag:noindex
X-PUBLISHED-TTL:PT1H
BEGIN:VTIMEZONE
TZID:Europe/Berlin
BEGIN:DAYLIGHT
TZOFFSETFROM:+0100
TZOFFSETTO:+0200
TZNAME:CEST
DTSTART:20250330T010000
END:DAYLIGHT
BEGIN:STANDARD
TZOFFSETFROM:+0200
TZOFFSETTO:+0100
TZNAME:CET
DTSTART:20251026T010000
END:STANDARD
BEGIN:DAYLIGHT
TZOFFSETFROM:+0100
TZOFFSETTO:+0200
TZNAME:CEST
DTSTART:20260329T010000
END:DAYLIGHT
BEGIN:STANDARD
TZOFFSETFROM:+0200
TZOFFSETTO:+0100
TZNAME:CET
DTSTART:20261025T010000
END:STANDARD
BEGIN:DAYLIGHT
TZOFFSETFROM:+0100
TZOFFSETTO:+0200
TZNAME:CEST
DTSTART:20270328T010000
END:DAYLIGHT
BEGIN:STANDARD
TZOFFSETFROM:+0200
TZOFFSETTO:+0100
TZNAME:CET
DTSTART:20271031T010000
END:STANDARD
END:VTIMEZONE
BEGIN:VEVENT
DTSTART;TZID=Europe/Berlin:20261001T160000
DTEND;TZID=Europe/Berlin:20261001T173000
DTSTAMP:20260422T030658
CREATED:20230910T092059Z
LAST-MODIFIED:20230926T115533Z
UID:10000997-1790870400-1790875800@www.melanchthon-hannover.de
SUMMARY:Eltern-Kind-Spielkreis
DESCRIPTION:
URL:https://www.melanchthon-hannover.de/termin/eltern-kind-spielkreis-3/2026-10-01/
LOCATION:Melanchthon – Glasraum\, Menschingstr. 12\, Hannover\, 30173\, Deutschland
CATEGORIES:Gemeindeveranstaltung
END:VEVENT
BEGIN:VEVENT
DTSTART;TZID=Europe/Berlin:20261003T100000
DTEND;TZID=Europe/Berlin:20261003T120000
DTSTAMP:20260422T030658
CREATED:20250407T165209Z
LAST-MODIFIED:20250407T165209Z
UID:10006958-1791021600-1791028800@www.melanchthon-hannover.de
SUMMARY:Kinderkunst
DESCRIPTION:
URL:https://www.melanchthon-hannover.de/termin/kinderkunst-6/2026-10-03/
LOCATION:Melanchthon\, Menschingstr. 12\, Hannover\, 30173\, Deutschland
CATEGORIES:Gemeindeveranstaltung
END:VEVENT
BEGIN:VEVENT
DTSTART;TZID=Europe/Berlin:20261003T100000
DTEND;TZID=Europe/Berlin:20261003T120000
DTSTAMP:20260422T030658
CREATED:20251002T104027Z
LAST-MODIFIED:20251002T104027Z
UID:10006897-1791021600-1791028800@www.melanchthon-hannover.de
SUMMARY:Marktcafé
DESCRIPTION:
URL:https://www.melanchthon-hannover.de/termin/marktcafe-4-2/2026-10-03/
LOCATION:Melanchthon\, Menschingstr. 12\, Hannover\, 30173\, Deutschland
CATEGORIES:Gemeindeveranstaltung
ATTACH;FMTTYPE=image/png:https://www.melanchthon-hannover.de/wp-content/uploads/2025/04/Markcafe.png
END:VEVENT
BEGIN:VEVENT
DTSTART;TZID=Europe/Berlin:20261005T183000
DTEND;TZID=Europe/Berlin:20261005T183000
DTSTAMP:20260422T030658
CREATED:20240724T141125Z
LAST-MODIFIED:20240724T141125Z
UID:10005723-1791225000-1791225000@www.melanchthon-hannover.de
SUMMARY:Meditationsgruppe
DESCRIPTION:
URL:https://www.melanchthon-hannover.de/termin/meditationsgruppe-5/2026-10-05/
LOCATION:Melanchthon – Unterkirche\, Menschingstr. 12\, Hannover\, 30173\, Deutschland
CATEGORIES:Gemeindeveranstaltung
END:VEVENT
BEGIN:VEVENT
DTSTART;TZID=Europe/Berlin:20261005T200000
DTEND;TZID=Europe/Berlin:20261005T213000
DTSTAMP:20260422T030658
CREATED:20230926T114558Z
LAST-MODIFIED:20230926T114558Z
UID:10000617-1791230400-1791235800@www.melanchthon-hannover.de
SUMMARY:Melanchthonchor
DESCRIPTION:
URL:https://www.melanchthon-hannover.de/termin/melanchthonchor-8/2026-10-05/
LOCATION:Melanchthon\, Menschingstr. 12\, Hannover\, 30173\, Deutschland
CATEGORIES:Gemeindeveranstaltung
END:VEVENT
BEGIN:VEVENT
DTSTART;TZID=Europe/Berlin:20261006T170000
DTEND;TZID=Europe/Berlin:20261006T183000
DTSTAMP:20260422T030658
CREATED:20250407T164330Z
LAST-MODIFIED:20250407T164330Z
UID:10006433-1791306000-1791311400@www.melanchthon-hannover.de
SUMMARY:Konfirmandenzeit
DESCRIPTION:
URL:https://www.melanchthon-hannover.de/termin/konfirmandenzeit/2026-10-06/
LOCATION:Melanchthon\, Menschingstr. 12\, Hannover\, 30173\, Deutschland
CATEGORIES:Konfirmanden
END:VEVENT
BEGIN:VEVENT
DTSTART;TZID=Europe/Berlin:20261007T100000
DTEND;TZID=Europe/Berlin:20261007T120000
DTSTAMP:20260422T030658
CREATED:20250407T164812Z
LAST-MODIFIED:20250407T164812Z
UID:10006696-1791367200-1791374400@www.melanchthon-hannover.de
SUMMARY:Malen am Morgen
DESCRIPTION:
URL:https://www.melanchthon-hannover.de/termin/malen-am-morgen-2/2026-10-07/
LOCATION:Melanchthon\, Menschingstr. 12\, Hannover\, 30173\, Deutschland
CATEGORIES:Gemeindeveranstaltung
END:VEVENT
BEGIN:VEVENT
DTSTART;TZID=Europe/Berlin:20261007T150000
DTEND;TZID=Europe/Berlin:20261007T170000
DTSTAMP:20260422T030658
CREATED:20240123T162207Z
LAST-MODIFIED:20240123T162207Z
UID:10001280-1791385200-1791392400@www.melanchthon-hannover.de
SUMMARY:Besuchsdienstkreis
DESCRIPTION:Mittwoch im Monat
URL:https://www.melanchthon-hannover.de/termin/besuchsdienstkreis/2026-10-07/
LOCATION:Melanchthon – Glasraum\, Menschingstr. 12\, Hannover\, 30173\, Deutschland
CATEGORIES:Gemeindeveranstaltung
END:VEVENT
BEGIN:VEVENT
DTSTART;TZID=Europe/Berlin:20261007T183000
DTEND;TZID=Europe/Berlin:20261007T200000
DTSTAMP:20260422T030658
CREATED:20260316T121414Z
LAST-MODIFIED:20260407T225852Z
UID:10007392-1791397800-1791403200@www.melanchthon-hannover.de
SUMMARY:Mittwochsmeditation
DESCRIPTION:Die Mittwochsmeditation findet zweiwöchentlich (ausser im Juni) statt. \nBitte anmelden.
URL:https://www.melanchthon-hannover.de/termin/mittwochsmeditation-3/2026-10-07/
LOCATION:Melanchthon\, Menschingstr. 12\, Hannover\, 30173\, Deutschland
CATEGORIES:Kirche der Stille
ATTACH;FMTTYPE=image/png:https://www.melanchthon-hannover.de/wp-content/uploads/2026/03/04-05.2026-Mittwochsmeditation.png
END:VEVENT
BEGIN:VEVENT
DTSTART;TZID=Europe/Berlin:20261008T160000
DTEND;TZID=Europe/Berlin:20261008T173000
DTSTAMP:20260422T030658
CREATED:20230910T092059Z
LAST-MODIFIED:20230926T115533Z
UID:10000998-1791475200-1791480600@www.melanchthon-hannover.de
SUMMARY:Eltern-Kind-Spielkreis
DESCRIPTION:
URL:https://www.melanchthon-hannover.de/termin/eltern-kind-spielkreis-3/2026-10-08/
LOCATION:Melanchthon – Glasraum\, Menschingstr. 12\, Hannover\, 30173\, Deutschland
CATEGORIES:Gemeindeveranstaltung
END:VEVENT
BEGIN:VEVENT
DTSTART;TZID=Europe/Berlin:20261008T193000
DTEND;TZID=Europe/Berlin:20261008T213000
DTSTAMP:20260422T030658
CREATED:20240329T122045Z
LAST-MODIFIED:20240329T122045Z
UID:10004343-1791487800-1791495000@www.melanchthon-hannover.de
SUMMARY:Männergruppe
DESCRIPTION:
URL:https://www.melanchthon-hannover.de/termin/maennergruppe-5/2026-10-08/
LOCATION:Melanchthon – Unterkirche\, Menschingstr. 12\, Hannover\, 30173\, Deutschland
CATEGORIES:Gemeindeveranstaltung
END:VEVENT
BEGIN:VEVENT
DTSTART;TZID=Europe/Berlin:20261012T183000
DTEND;TZID=Europe/Berlin:20261012T183000
DTSTAMP:20260422T030658
CREATED:20240724T141125Z
LAST-MODIFIED:20240724T141125Z
UID:10005724-1791829800-1791829800@www.melanchthon-hannover.de
SUMMARY:Meditationsgruppe
DESCRIPTION:
URL:https://www.melanchthon-hannover.de/termin/meditationsgruppe-5/2026-10-12/
LOCATION:Melanchthon – Unterkirche\, Menschingstr. 12\, Hannover\, 30173\, Deutschland
CATEGORIES:Gemeindeveranstaltung
END:VEVENT
BEGIN:VEVENT
DTSTART;TZID=Europe/Berlin:20261012T200000
DTEND;TZID=Europe/Berlin:20261012T213000
DTSTAMP:20260422T030658
CREATED:20230926T114558Z
LAST-MODIFIED:20230926T114558Z
UID:10000618-1791835200-1791840600@www.melanchthon-hannover.de
SUMMARY:Melanchthonchor
DESCRIPTION:
URL:https://www.melanchthon-hannover.de/termin/melanchthonchor-8/2026-10-12/
LOCATION:Melanchthon\, Menschingstr. 12\, Hannover\, 30173\, Deutschland
CATEGORIES:Gemeindeveranstaltung
END:VEVENT
BEGIN:VEVENT
DTSTART;TZID=Europe/Berlin:20261013T170000
DTEND;TZID=Europe/Berlin:20261013T183000
DTSTAMP:20260422T030659
CREATED:20250407T164330Z
LAST-MODIFIED:20250407T164330Z
UID:10006434-1791910800-1791916200@www.melanchthon-hannover.de
SUMMARY:Konfirmandenzeit
DESCRIPTION:
URL:https://www.melanchthon-hannover.de/termin/konfirmandenzeit/2026-10-13/
LOCATION:Melanchthon\, Menschingstr. 12\, Hannover\, 30173\, Deutschland
CATEGORIES:Konfirmanden
END:VEVENT
BEGIN:VEVENT
DTSTART;TZID=Europe/Berlin:20261014T100000
DTEND;TZID=Europe/Berlin:20261014T120000
DTSTAMP:20260422T030659
CREATED:20250407T164812Z
LAST-MODIFIED:20250407T164812Z
UID:10006697-1791972000-1791979200@www.melanchthon-hannover.de
SUMMARY:Malen am Morgen
DESCRIPTION:
URL:https://www.melanchthon-hannover.de/termin/malen-am-morgen-2/2026-10-14/
LOCATION:Melanchthon\, Menschingstr. 12\, Hannover\, 30173\, Deutschland
CATEGORIES:Gemeindeveranstaltung
END:VEVENT
BEGIN:VEVENT
DTSTART;TZID=Europe/Berlin:20261015T160000
DTEND;TZID=Europe/Berlin:20261015T173000
DTSTAMP:20260422T030659
CREATED:20230910T092059Z
LAST-MODIFIED:20230926T115533Z
UID:10000999-1792080000-1792085400@www.melanchthon-hannover.de
SUMMARY:Eltern-Kind-Spielkreis
DESCRIPTION:
URL:https://www.melanchthon-hannover.de/termin/eltern-kind-spielkreis-3/2026-10-15/
LOCATION:Melanchthon – Glasraum\, Menschingstr. 12\, Hannover\, 30173\, Deutschland
CATEGORIES:Gemeindeveranstaltung
END:VEVENT
BEGIN:VEVENT
DTSTART;TZID=Europe/Berlin:20261019T183000
DTEND;TZID=Europe/Berlin:20261019T183000
DTSTAMP:20260422T030659
CREATED:20240724T141125Z
LAST-MODIFIED:20240724T141125Z
UID:10005725-1792434600-1792434600@www.melanchthon-hannover.de
SUMMARY:Meditationsgruppe
DESCRIPTION:
URL:https://www.melanchthon-hannover.de/termin/meditationsgruppe-5/2026-10-19/
LOCATION:Melanchthon – Unterkirche\, Menschingstr. 12\, Hannover\, 30173\, Deutschland
CATEGORIES:Gemeindeveranstaltung
END:VEVENT
BEGIN:VEVENT
DTSTART;TZID=Europe/Berlin:20261019T200000
DTEND;TZID=Europe/Berlin:20261019T213000
DTSTAMP:20260422T030659
CREATED:20230926T114558Z
LAST-MODIFIED:20230926T114558Z
UID:10000619-1792440000-1792445400@www.melanchthon-hannover.de
SUMMARY:Melanchthonchor
DESCRIPTION:
URL:https://www.melanchthon-hannover.de/termin/melanchthonchor-8/2026-10-19/
LOCATION:Melanchthon\, Menschingstr. 12\, Hannover\, 30173\, Deutschland
CATEGORIES:Gemeindeveranstaltung
END:VEVENT
BEGIN:VEVENT
DTSTART;TZID=Europe/Berlin:20261020T170000
DTEND;TZID=Europe/Berlin:20261020T183000
DTSTAMP:20260422T030659
CREATED:20250407T164330Z
LAST-MODIFIED:20250407T164330Z
UID:10006435-1792515600-1792521000@www.melanchthon-hannover.de
SUMMARY:Konfirmandenzeit
DESCRIPTION:
URL:https://www.melanchthon-hannover.de/termin/konfirmandenzeit/2026-10-20/
LOCATION:Melanchthon\, Menschingstr. 12\, Hannover\, 30173\, Deutschland
CATEGORIES:Konfirmanden
END:VEVENT
BEGIN:VEVENT
DTSTART;TZID=Europe/Berlin:20261021T100000
DTEND;TZID=Europe/Berlin:20261021T120000
DTSTAMP:20260422T030659
CREATED:20250407T164812Z
LAST-MODIFIED:20250407T164812Z
UID:10006698-1792576800-1792584000@www.melanchthon-hannover.de
SUMMARY:Malen am Morgen
DESCRIPTION:
URL:https://www.melanchthon-hannover.de/termin/malen-am-morgen-2/2026-10-21/
LOCATION:Melanchthon\, Menschingstr. 12\, Hannover\, 30173\, Deutschland
CATEGORIES:Gemeindeveranstaltung
END:VEVENT
BEGIN:VEVENT
DTSTART;TZID=Europe/Berlin:20261021T183000
DTEND;TZID=Europe/Berlin:20261021T200000
DTSTAMP:20260422T030659
CREATED:20260316T121414Z
LAST-MODIFIED:20260407T225852Z
UID:10007393-1792607400-1792612800@www.melanchthon-hannover.de
SUMMARY:Mittwochsmeditation
DESCRIPTION:Die Mittwochsmeditation findet zweiwöchentlich (ausser im Juni) statt. \nBitte anmelden.
URL:https://www.melanchthon-hannover.de/termin/mittwochsmeditation-3/2026-10-21/
LOCATION:Melanchthon\, Menschingstr. 12\, Hannover\, 30173\, Deutschland
CATEGORIES:Kirche der Stille
ATTACH;FMTTYPE=image/png:https://www.melanchthon-hannover.de/wp-content/uploads/2026/03/04-05.2026-Mittwochsmeditation.png
END:VEVENT
BEGIN:VEVENT
DTSTART;TZID=Europe/Berlin:20261022T160000
DTEND;TZID=Europe/Berlin:20261022T173000
DTSTAMP:20260422T030659
CREATED:20230910T092059Z
LAST-MODIFIED:20230926T115533Z
UID:10001000-1792684800-1792690200@www.melanchthon-hannover.de
SUMMARY:Eltern-Kind-Spielkreis
DESCRIPTION:
URL:https://www.melanchthon-hannover.de/termin/eltern-kind-spielkreis-3/2026-10-22/
LOCATION:Melanchthon – Glasraum\, Menschingstr. 12\, Hannover\, 30173\, Deutschland
CATEGORIES:Gemeindeveranstaltung
END:VEVENT
BEGIN:VEVENT
DTSTART;TZID=Europe/Berlin:20261022T193000
DTEND;TZID=Europe/Berlin:20261022T210000
DTSTAMP:20260422T030659
CREATED:20230926T115242Z
LAST-MODIFIED:20230926T115242Z
UID:10000818-1792697400-1792702800@www.melanchthon-hannover.de
SUMMARY:Männergruppe
DESCRIPTION:
URL:https://www.melanchthon-hannover.de/termin/maennergruppe-4/2026-10-22/
LOCATION:Melanchthon – Unterkirche\, Menschingstr. 12\, Hannover\, 30173\, Deutschland
CATEGORIES:Gemeindeveranstaltung
END:VEVENT
BEGIN:VEVENT
DTSTART;TZID=Europe/Berlin:20261026T183000
DTEND;TZID=Europe/Berlin:20261026T183000
DTSTAMP:20260422T030659
CREATED:20240724T141125Z
LAST-MODIFIED:20240724T141125Z
UID:10005726-1793039400-1793039400@www.melanchthon-hannover.de
SUMMARY:Meditationsgruppe
DESCRIPTION:
URL:https://www.melanchthon-hannover.de/termin/meditationsgruppe-5/2026-10-26/
LOCATION:Melanchthon – Unterkirche\, Menschingstr. 12\, Hannover\, 30173\, Deutschland
CATEGORIES:Gemeindeveranstaltung
END:VEVENT
BEGIN:VEVENT
DTSTART;TZID=Europe/Berlin:20261026T200000
DTEND;TZID=Europe/Berlin:20261026T213000
DTSTAMP:20260422T030659
CREATED:20230926T114558Z
LAST-MODIFIED:20230926T114558Z
UID:10000620-1793044800-1793050200@www.melanchthon-hannover.de
SUMMARY:Melanchthonchor
DESCRIPTION:
URL:https://www.melanchthon-hannover.de/termin/melanchthonchor-8/2026-10-26/
LOCATION:Melanchthon\, Menschingstr. 12\, Hannover\, 30173\, Deutschland
CATEGORIES:Gemeindeveranstaltung
END:VEVENT
BEGIN:VEVENT
DTSTART;TZID=Europe/Berlin:20261027T170000
DTEND;TZID=Europe/Berlin:20261027T183000
DTSTAMP:20260422T030659
CREATED:20250407T164330Z
LAST-MODIFIED:20250407T164330Z
UID:10006436-1793120400-1793125800@www.melanchthon-hannover.de
SUMMARY:Konfirmandenzeit
DESCRIPTION:
URL:https://www.melanchthon-hannover.de/termin/konfirmandenzeit/2026-10-27/
LOCATION:Melanchthon\, Menschingstr. 12\, Hannover\, 30173\, Deutschland
CATEGORIES:Konfirmanden
END:VEVENT
BEGIN:VEVENT
DTSTART;TZID=Europe/Berlin:20261028T100000
DTEND;TZID=Europe/Berlin:20261028T120000
DTSTAMP:20260422T030659
CREATED:20250407T164812Z
LAST-MODIFIED:20250407T164812Z
UID:10006699-1793181600-1793188800@www.melanchthon-hannover.de
SUMMARY:Malen am Morgen
DESCRIPTION:
URL:https://www.melanchthon-hannover.de/termin/malen-am-morgen-2/2026-10-28/
LOCATION:Melanchthon\, Menschingstr. 12\, Hannover\, 30173\, Deutschland
CATEGORIES:Gemeindeveranstaltung
END:VEVENT
BEGIN:VEVENT
DTSTART;TZID=Europe/Berlin:20261029T160000
DTEND;TZID=Europe/Berlin:20261029T173000
DTSTAMP:20260422T030659
CREATED:20230910T092059Z
LAST-MODIFIED:20230926T115533Z
UID:10001001-1793289600-1793295000@www.melanchthon-hannover.de
SUMMARY:Eltern-Kind-Spielkreis
DESCRIPTION:
URL:https://www.melanchthon-hannover.de/termin/eltern-kind-spielkreis-3/2026-10-29/
LOCATION:Melanchthon – Glasraum\, Menschingstr. 12\, Hannover\, 30173\, Deutschland
CATEGORIES:Gemeindeveranstaltung
END:VEVENT
END:VCALENDAR