BEGIN:VCALENDAR
VERSION:2.0
PRODID:-//Melanchthon-Gemeinde - ECPv6.15.20//NONSGML v1.0//EN
CALSCALE:GREGORIAN
METHOD:PUBLISH
X-ORIGINAL-URL:https://www.melanchthon-hannover.de
X-WR-CALDESC:Veranstaltungen für Melanchthon-Gemeinde
REFRESH-INTERVAL;VALUE=DURATION:PT1H
X-Robots-Tag:noindex
X-PUBLISHED-TTL:PT1H
BEGIN:VTIMEZONE
TZID:Europe/Berlin
BEGIN:DAYLIGHT
TZOFFSETFROM:+0100
TZOFFSETTO:+0200
TZNAME:CEST
DTSTART:20250330T010000
END:DAYLIGHT
BEGIN:STANDARD
TZOFFSETFROM:+0200
TZOFFSETTO:+0100
TZNAME:CET
DTSTART:20251026T010000
END:STANDARD
BEGIN:DAYLIGHT
TZOFFSETFROM:+0100
TZOFFSETTO:+0200
TZNAME:CEST
DTSTART:20260329T010000
END:DAYLIGHT
BEGIN:STANDARD
TZOFFSETFROM:+0200
TZOFFSETTO:+0100
TZNAME:CET
DTSTART:20261025T010000
END:STANDARD
BEGIN:DAYLIGHT
TZOFFSETFROM:+0100
TZOFFSETTO:+0200
TZNAME:CEST
DTSTART:20270328T010000
END:DAYLIGHT
BEGIN:STANDARD
TZOFFSETFROM:+0200
TZOFFSETTO:+0100
TZNAME:CET
DTSTART:20271031T010000
END:STANDARD
END:VTIMEZONE
BEGIN:VEVENT
DTSTART;TZID=Europe/Berlin:20260827T160000
DTEND;TZID=Europe/Berlin:20260827T173000
DTSTAMP:20260422T031349
CREATED:20230910T092059Z
LAST-MODIFIED:20230926T115533Z
UID:10000992-1787846400-1787851800@www.melanchthon-hannover.de
SUMMARY:Eltern-Kind-Spielkreis
DESCRIPTION:
URL:https://www.melanchthon-hannover.de/termin/eltern-kind-spielkreis-3/2026-08-27/
LOCATION:Melanchthon – Glasraum\, Menschingstr. 12\, Hannover\, 30173\, Deutschland
CATEGORIES:Gemeindeveranstaltung
END:VEVENT
BEGIN:VEVENT
DTSTART;TZID=Europe/Berlin:20260827T193000
DTEND;TZID=Europe/Berlin:20260827T210000
DTSTAMP:20260422T031349
CREATED:20230926T115242Z
LAST-MODIFIED:20230926T115242Z
UID:10000816-1787859000-1787864400@www.melanchthon-hannover.de
SUMMARY:Männergruppe
DESCRIPTION:
URL:https://www.melanchthon-hannover.de/termin/maennergruppe-4/2026-08-27/
LOCATION:Melanchthon – Unterkirche\, Menschingstr. 12\, Hannover\, 30173\, Deutschland
CATEGORIES:Gemeindeveranstaltung
END:VEVENT
BEGIN:VEVENT
DTSTART;TZID=Europe/Berlin:20260831T183000
DTEND;TZID=Europe/Berlin:20260831T183000
DTSTAMP:20260422T031349
CREATED:20240724T141125Z
LAST-MODIFIED:20240724T141125Z
UID:10005718-1788201000-1788201000@www.melanchthon-hannover.de
SUMMARY:Meditationsgruppe
DESCRIPTION:
URL:https://www.melanchthon-hannover.de/termin/meditationsgruppe-5/2026-08-31/
LOCATION:Melanchthon – Unterkirche\, Menschingstr. 12\, Hannover\, 30173\, Deutschland
CATEGORIES:Gemeindeveranstaltung
END:VEVENT
BEGIN:VEVENT
DTSTART;TZID=Europe/Berlin:20260831T200000
DTEND;TZID=Europe/Berlin:20260831T213000
DTSTAMP:20260422T031349
CREATED:20230926T114558Z
LAST-MODIFIED:20230926T114558Z
UID:10000612-1788206400-1788211800@www.melanchthon-hannover.de
SUMMARY:Melanchthonchor
DESCRIPTION:
URL:https://www.melanchthon-hannover.de/termin/melanchthonchor-8/2026-08-31/
LOCATION:Melanchthon\, Menschingstr. 12\, Hannover\, 30173\, Deutschland
CATEGORIES:Gemeindeveranstaltung
END:VEVENT
BEGIN:VEVENT
DTSTART;TZID=Europe/Berlin:20260901T170000
DTEND;TZID=Europe/Berlin:20260901T183000
DTSTAMP:20260422T031349
CREATED:20250407T164330Z
LAST-MODIFIED:20250407T164330Z
UID:10006428-1788282000-1788287400@www.melanchthon-hannover.de
SUMMARY:Konfirmandenzeit
DESCRIPTION:
URL:https://www.melanchthon-hannover.de/termin/konfirmandenzeit/2026-09-01/
LOCATION:Melanchthon\, Menschingstr. 12\, Hannover\, 30173\, Deutschland
CATEGORIES:Konfirmanden
END:VEVENT
BEGIN:VEVENT
DTSTART;TZID=Europe/Berlin:20260902T100000
DTEND;TZID=Europe/Berlin:20260902T120000
DTSTAMP:20260422T031349
CREATED:20250407T164812Z
LAST-MODIFIED:20250407T164812Z
UID:10006691-1788343200-1788350400@www.melanchthon-hannover.de
SUMMARY:Malen am Morgen
DESCRIPTION:
URL:https://www.melanchthon-hannover.de/termin/malen-am-morgen-2/2026-09-02/
LOCATION:Melanchthon\, Menschingstr. 12\, Hannover\, 30173\, Deutschland
CATEGORIES:Gemeindeveranstaltung
END:VEVENT
BEGIN:VEVENT
DTSTART;TZID=Europe/Berlin:20260902T150000
DTEND;TZID=Europe/Berlin:20260902T170000
DTSTAMP:20260422T031349
CREATED:20240123T162207Z
LAST-MODIFIED:20240123T162207Z
UID:10001279-1788361200-1788368400@www.melanchthon-hannover.de
SUMMARY:Besuchsdienstkreis
DESCRIPTION:Mittwoch im Monat
URL:https://www.melanchthon-hannover.de/termin/besuchsdienstkreis/2026-09-02/
LOCATION:Melanchthon – Glasraum\, Menschingstr. 12\, Hannover\, 30173\, Deutschland
CATEGORIES:Gemeindeveranstaltung
END:VEVENT
BEGIN:VEVENT
DTSTART;TZID=Europe/Berlin:20260903T160000
DTEND;TZID=Europe/Berlin:20260903T173000
DTSTAMP:20260422T031349
CREATED:20230910T092059Z
LAST-MODIFIED:20230926T115533Z
UID:10000993-1788451200-1788456600@www.melanchthon-hannover.de
SUMMARY:Eltern-Kind-Spielkreis
DESCRIPTION:
URL:https://www.melanchthon-hannover.de/termin/eltern-kind-spielkreis-3/2026-09-03/
LOCATION:Melanchthon – Glasraum\, Menschingstr. 12\, Hannover\, 30173\, Deutschland
CATEGORIES:Gemeindeveranstaltung
END:VEVENT
BEGIN:VEVENT
DTSTART;TZID=Europe/Berlin:20260905T100000
DTEND;TZID=Europe/Berlin:20260905T120000
DTSTAMP:20260422T031349
CREATED:20250407T165209Z
LAST-MODIFIED:20250407T165209Z
UID:10006957-1788602400-1788609600@www.melanchthon-hannover.de
SUMMARY:Kinderkunst
DESCRIPTION:
URL:https://www.melanchthon-hannover.de/termin/kinderkunst-6/2026-09-05/
LOCATION:Melanchthon\, Menschingstr. 12\, Hannover\, 30173\, Deutschland
CATEGORIES:Gemeindeveranstaltung
END:VEVENT
BEGIN:VEVENT
DTSTART;TZID=Europe/Berlin:20260905T100000
DTEND;TZID=Europe/Berlin:20260905T120000
DTSTAMP:20260422T031349
CREATED:20251002T104027Z
LAST-MODIFIED:20251002T104027Z
UID:10006896-1788602400-1788609600@www.melanchthon-hannover.de
SUMMARY:Marktcafé
DESCRIPTION:
URL:https://www.melanchthon-hannover.de/termin/marktcafe-4-2/2026-09-05/
LOCATION:Melanchthon\, Menschingstr. 12\, Hannover\, 30173\, Deutschland
CATEGORIES:Gemeindeveranstaltung
ATTACH;FMTTYPE=image/png:https://www.melanchthon-hannover.de/wp-content/uploads/2025/04/Markcafe.png
END:VEVENT
BEGIN:VEVENT
DTSTART;TZID=Europe/Berlin:20260907T183000
DTEND;TZID=Europe/Berlin:20260907T183000
DTSTAMP:20260422T031349
CREATED:20240724T141125Z
LAST-MODIFIED:20240724T141125Z
UID:10005719-1788805800-1788805800@www.melanchthon-hannover.de
SUMMARY:Meditationsgruppe
DESCRIPTION:
URL:https://www.melanchthon-hannover.de/termin/meditationsgruppe-5/2026-09-07/
LOCATION:Melanchthon – Unterkirche\, Menschingstr. 12\, Hannover\, 30173\, Deutschland
CATEGORIES:Gemeindeveranstaltung
END:VEVENT
BEGIN:VEVENT
DTSTART;TZID=Europe/Berlin:20260907T200000
DTEND;TZID=Europe/Berlin:20260907T213000
DTSTAMP:20260422T031349
CREATED:20230926T114558Z
LAST-MODIFIED:20230926T114558Z
UID:10000613-1788811200-1788816600@www.melanchthon-hannover.de
SUMMARY:Melanchthonchor
DESCRIPTION:
URL:https://www.melanchthon-hannover.de/termin/melanchthonchor-8/2026-09-07/
LOCATION:Melanchthon\, Menschingstr. 12\, Hannover\, 30173\, Deutschland
CATEGORIES:Gemeindeveranstaltung
END:VEVENT
BEGIN:VEVENT
DTSTART;TZID=Europe/Berlin:20260908T170000
DTEND;TZID=Europe/Berlin:20260908T183000
DTSTAMP:20260422T031349
CREATED:20250407T164330Z
LAST-MODIFIED:20250407T164330Z
UID:10006429-1788886800-1788892200@www.melanchthon-hannover.de
SUMMARY:Konfirmandenzeit
DESCRIPTION:
URL:https://www.melanchthon-hannover.de/termin/konfirmandenzeit/2026-09-08/
LOCATION:Melanchthon\, Menschingstr. 12\, Hannover\, 30173\, Deutschland
CATEGORIES:Konfirmanden
END:VEVENT
BEGIN:VEVENT
DTSTART;TZID=Europe/Berlin:20260909T100000
DTEND;TZID=Europe/Berlin:20260909T120000
DTSTAMP:20260422T031349
CREATED:20250407T164812Z
LAST-MODIFIED:20250407T164812Z
UID:10006692-1788948000-1788955200@www.melanchthon-hannover.de
SUMMARY:Malen am Morgen
DESCRIPTION:
URL:https://www.melanchthon-hannover.de/termin/malen-am-morgen-2/2026-09-09/
LOCATION:Melanchthon\, Menschingstr. 12\, Hannover\, 30173\, Deutschland
CATEGORIES:Gemeindeveranstaltung
END:VEVENT
BEGIN:VEVENT
DTSTART;TZID=Europe/Berlin:20260909T183000
DTEND;TZID=Europe/Berlin:20260909T200000
DTSTAMP:20260422T031349
CREATED:20260316T121414Z
LAST-MODIFIED:20260407T225852Z
UID:10007390-1788978600-1788984000@www.melanchthon-hannover.de
SUMMARY:Mittwochsmeditation
DESCRIPTION:Die Mittwochsmeditation findet zweiwöchentlich (ausser im Juni) statt. \nBitte anmelden.
URL:https://www.melanchthon-hannover.de/termin/mittwochsmeditation-3/2026-09-09/
LOCATION:Melanchthon\, Menschingstr. 12\, Hannover\, 30173\, Deutschland
CATEGORIES:Kirche der Stille
ATTACH;FMTTYPE=image/png:https://www.melanchthon-hannover.de/wp-content/uploads/2026/03/04-05.2026-Mittwochsmeditation.png
END:VEVENT
BEGIN:VEVENT
DTSTART;TZID=Europe/Berlin:20260910T160000
DTEND;TZID=Europe/Berlin:20260910T173000
DTSTAMP:20260422T031349
CREATED:20230910T092059Z
LAST-MODIFIED:20230926T115533Z
UID:10000994-1789056000-1789061400@www.melanchthon-hannover.de
SUMMARY:Eltern-Kind-Spielkreis
DESCRIPTION:
URL:https://www.melanchthon-hannover.de/termin/eltern-kind-spielkreis-3/2026-09-10/
LOCATION:Melanchthon – Glasraum\, Menschingstr. 12\, Hannover\, 30173\, Deutschland
CATEGORIES:Gemeindeveranstaltung
END:VEVENT
BEGIN:VEVENT
DTSTART;TZID=Europe/Berlin:20260910T193000
DTEND;TZID=Europe/Berlin:20260910T213000
DTSTAMP:20260422T031349
CREATED:20240329T122045Z
LAST-MODIFIED:20240329T122045Z
UID:10004342-1789068600-1789075800@www.melanchthon-hannover.de
SUMMARY:Männergruppe
DESCRIPTION:
URL:https://www.melanchthon-hannover.de/termin/maennergruppe-5/2026-09-10/
LOCATION:Melanchthon – Unterkirche\, Menschingstr. 12\, Hannover\, 30173\, Deutschland
CATEGORIES:Gemeindeveranstaltung
END:VEVENT
BEGIN:VEVENT
DTSTART;TZID=Europe/Berlin:20260914T183000
DTEND;TZID=Europe/Berlin:20260914T183000
DTSTAMP:20260422T031349
CREATED:20240724T141125Z
LAST-MODIFIED:20240724T141125Z
UID:10005720-1789410600-1789410600@www.melanchthon-hannover.de
SUMMARY:Meditationsgruppe
DESCRIPTION:
URL:https://www.melanchthon-hannover.de/termin/meditationsgruppe-5/2026-09-14/
LOCATION:Melanchthon – Unterkirche\, Menschingstr. 12\, Hannover\, 30173\, Deutschland
CATEGORIES:Gemeindeveranstaltung
END:VEVENT
BEGIN:VEVENT
DTSTART;TZID=Europe/Berlin:20260914T200000
DTEND;TZID=Europe/Berlin:20260914T213000
DTSTAMP:20260422T031349
CREATED:20230926T114558Z
LAST-MODIFIED:20230926T114558Z
UID:10000614-1789416000-1789421400@www.melanchthon-hannover.de
SUMMARY:Melanchthonchor
DESCRIPTION:
URL:https://www.melanchthon-hannover.de/termin/melanchthonchor-8/2026-09-14/
LOCATION:Melanchthon\, Menschingstr. 12\, Hannover\, 30173\, Deutschland
CATEGORIES:Gemeindeveranstaltung
END:VEVENT
BEGIN:VEVENT
DTSTART;TZID=Europe/Berlin:20260915T170000
DTEND;TZID=Europe/Berlin:20260915T183000
DTSTAMP:20260422T031349
CREATED:20250407T164330Z
LAST-MODIFIED:20250407T164330Z
UID:10006430-1789491600-1789497000@www.melanchthon-hannover.de
SUMMARY:Konfirmandenzeit
DESCRIPTION:
URL:https://www.melanchthon-hannover.de/termin/konfirmandenzeit/2026-09-15/
LOCATION:Melanchthon\, Menschingstr. 12\, Hannover\, 30173\, Deutschland
CATEGORIES:Konfirmanden
END:VEVENT
BEGIN:VEVENT
DTSTART;TZID=Europe/Berlin:20260916T100000
DTEND;TZID=Europe/Berlin:20260916T120000
DTSTAMP:20260422T031349
CREATED:20250407T164812Z
LAST-MODIFIED:20250407T164812Z
UID:10006693-1789552800-1789560000@www.melanchthon-hannover.de
SUMMARY:Malen am Morgen
DESCRIPTION:
URL:https://www.melanchthon-hannover.de/termin/malen-am-morgen-2/2026-09-16/
LOCATION:Melanchthon\, Menschingstr. 12\, Hannover\, 30173\, Deutschland
CATEGORIES:Gemeindeveranstaltung
END:VEVENT
BEGIN:VEVENT
DTSTART;TZID=Europe/Berlin:20260917T160000
DTEND;TZID=Europe/Berlin:20260917T173000
DTSTAMP:20260422T031349
CREATED:20230910T092059Z
LAST-MODIFIED:20230926T115533Z
UID:10000995-1789660800-1789666200@www.melanchthon-hannover.de
SUMMARY:Eltern-Kind-Spielkreis
DESCRIPTION:
URL:https://www.melanchthon-hannover.de/termin/eltern-kind-spielkreis-3/2026-09-17/
LOCATION:Melanchthon – Glasraum\, Menschingstr. 12\, Hannover\, 30173\, Deutschland
CATEGORIES:Gemeindeveranstaltung
END:VEVENT
BEGIN:VEVENT
DTSTART;TZID=Europe/Berlin:20260921T183000
DTEND;TZID=Europe/Berlin:20260921T183000
DTSTAMP:20260422T031349
CREATED:20240724T141125Z
LAST-MODIFIED:20240724T141125Z
UID:10005721-1790015400-1790015400@www.melanchthon-hannover.de
SUMMARY:Meditationsgruppe
DESCRIPTION:
URL:https://www.melanchthon-hannover.de/termin/meditationsgruppe-5/2026-09-21/
LOCATION:Melanchthon – Unterkirche\, Menschingstr. 12\, Hannover\, 30173\, Deutschland
CATEGORIES:Gemeindeveranstaltung
END:VEVENT
BEGIN:VEVENT
DTSTART;TZID=Europe/Berlin:20260921T200000
DTEND;TZID=Europe/Berlin:20260921T213000
DTSTAMP:20260422T031349
CREATED:20230926T114558Z
LAST-MODIFIED:20230926T114558Z
UID:10000615-1790020800-1790026200@www.melanchthon-hannover.de
SUMMARY:Melanchthonchor
DESCRIPTION:
URL:https://www.melanchthon-hannover.de/termin/melanchthonchor-8/2026-09-21/
LOCATION:Melanchthon\, Menschingstr. 12\, Hannover\, 30173\, Deutschland
CATEGORIES:Gemeindeveranstaltung
END:VEVENT
BEGIN:VEVENT
DTSTART;TZID=Europe/Berlin:20260922T170000
DTEND;TZID=Europe/Berlin:20260922T183000
DTSTAMP:20260422T031349
CREATED:20250407T164330Z
LAST-MODIFIED:20250407T164330Z
UID:10006431-1790096400-1790101800@www.melanchthon-hannover.de
SUMMARY:Konfirmandenzeit
DESCRIPTION:
URL:https://www.melanchthon-hannover.de/termin/konfirmandenzeit/2026-09-22/
LOCATION:Melanchthon\, Menschingstr. 12\, Hannover\, 30173\, Deutschland
CATEGORIES:Konfirmanden
END:VEVENT
BEGIN:VEVENT
DTSTART;TZID=Europe/Berlin:20260923T100000
DTEND;TZID=Europe/Berlin:20260923T120000
DTSTAMP:20260422T031349
CREATED:20250407T164812Z
LAST-MODIFIED:20250407T164812Z
UID:10006694-1790157600-1790164800@www.melanchthon-hannover.de
SUMMARY:Malen am Morgen
DESCRIPTION:
URL:https://www.melanchthon-hannover.de/termin/malen-am-morgen-2/2026-09-23/
LOCATION:Melanchthon\, Menschingstr. 12\, Hannover\, 30173\, Deutschland
CATEGORIES:Gemeindeveranstaltung
END:VEVENT
BEGIN:VEVENT
DTSTART;TZID=Europe/Berlin:20260923T183000
DTEND;TZID=Europe/Berlin:20260923T200000
DTSTAMP:20260422T031349
CREATED:20260316T121414Z
LAST-MODIFIED:20260407T225852Z
UID:10007391-1790188200-1790193600@www.melanchthon-hannover.de
SUMMARY:Mittwochsmeditation
DESCRIPTION:Die Mittwochsmeditation findet zweiwöchentlich (ausser im Juni) statt. \nBitte anmelden.
URL:https://www.melanchthon-hannover.de/termin/mittwochsmeditation-3/2026-09-23/
LOCATION:Melanchthon\, Menschingstr. 12\, Hannover\, 30173\, Deutschland
CATEGORIES:Kirche der Stille
ATTACH;FMTTYPE=image/png:https://www.melanchthon-hannover.de/wp-content/uploads/2026/03/04-05.2026-Mittwochsmeditation.png
END:VEVENT
BEGIN:VEVENT
DTSTART;TZID=Europe/Berlin:20260924T160000
DTEND;TZID=Europe/Berlin:20260924T173000
DTSTAMP:20260422T031349
CREATED:20230910T092059Z
LAST-MODIFIED:20230926T115533Z
UID:10000996-1790265600-1790271000@www.melanchthon-hannover.de
SUMMARY:Eltern-Kind-Spielkreis
DESCRIPTION:
URL:https://www.melanchthon-hannover.de/termin/eltern-kind-spielkreis-3/2026-09-24/
LOCATION:Melanchthon – Glasraum\, Menschingstr. 12\, Hannover\, 30173\, Deutschland
CATEGORIES:Gemeindeveranstaltung
END:VEVENT
BEGIN:VEVENT
DTSTART;TZID=Europe/Berlin:20260924T193000
DTEND;TZID=Europe/Berlin:20260924T210000
DTSTAMP:20260422T031349
CREATED:20230926T115242Z
LAST-MODIFIED:20230926T115242Z
UID:10000817-1790278200-1790283600@www.melanchthon-hannover.de
SUMMARY:Männergruppe
DESCRIPTION:
URL:https://www.melanchthon-hannover.de/termin/maennergruppe-4/2026-09-24/
LOCATION:Melanchthon – Unterkirche\, Menschingstr. 12\, Hannover\, 30173\, Deutschland
CATEGORIES:Gemeindeveranstaltung
END:VEVENT
BEGIN:VEVENT
DTSTART;TZID=Europe/Berlin:20260928T183000
DTEND;TZID=Europe/Berlin:20260928T183000
DTSTAMP:20260422T031350
CREATED:20240724T141125Z
LAST-MODIFIED:20240724T141125Z
UID:10005722-1790620200-1790620200@www.melanchthon-hannover.de
SUMMARY:Meditationsgruppe
DESCRIPTION:
URL:https://www.melanchthon-hannover.de/termin/meditationsgruppe-5/2026-09-28/
LOCATION:Melanchthon – Unterkirche\, Menschingstr. 12\, Hannover\, 30173\, Deutschland
CATEGORIES:Gemeindeveranstaltung
END:VEVENT
END:VCALENDAR