BEGIN:VCALENDAR
VERSION:2.0
PRODID:-//Melanchthon-Gemeinde - ECPv6.15.20//NONSGML v1.0//EN
CALSCALE:GREGORIAN
METHOD:PUBLISH
X-WR-CALNAME:Melanchthon-Gemeinde
X-ORIGINAL-URL:https://www.melanchthon-hannover.de
X-WR-CALDESC:Veranstaltungen für Melanchthon-Gemeinde
REFRESH-INTERVAL;VALUE=DURATION:PT1H
X-Robots-Tag:noindex
X-PUBLISHED-TTL:PT1H
BEGIN:VTIMEZONE
TZID:Europe/Berlin
BEGIN:DAYLIGHT
TZOFFSETFROM:+0100
TZOFFSETTO:+0200
TZNAME:CEST
DTSTART:20260329T010000
END:DAYLIGHT
BEGIN:STANDARD
TZOFFSETFROM:+0200
TZOFFSETTO:+0100
TZNAME:CET
DTSTART:20261025T010000
END:STANDARD
BEGIN:DAYLIGHT
TZOFFSETFROM:+0100
TZOFFSETTO:+0200
TZNAME:CEST
DTSTART:20270328T010000
END:DAYLIGHT
BEGIN:STANDARD
TZOFFSETFROM:+0200
TZOFFSETTO:+0100
TZNAME:CET
DTSTART:20271031T010000
END:STANDARD
BEGIN:DAYLIGHT
TZOFFSETFROM:+0100
TZOFFSETTO:+0200
TZNAME:CEST
DTSTART:20280326T010000
END:DAYLIGHT
BEGIN:STANDARD
TZOFFSETFROM:+0200
TZOFFSETTO:+0100
TZNAME:CET
DTSTART:20281029T010000
END:STANDARD
END:VTIMEZONE
BEGIN:VEVENT
DTSTART;TZID=Europe/Berlin:20270106T100000
DTEND;TZID=Europe/Berlin:20270106T120000
DTSTAMP:20260424T180302
CREATED:20250407T164812Z
LAST-MODIFIED:20250407T164812Z
UID:10006709-1799229600-1799236800@www.melanchthon-hannover.de
SUMMARY:Malen am Morgen
DESCRIPTION:
URL:https://www.melanchthon-hannover.de/termin/malen-am-morgen-2/2027-01-06/
LOCATION:Melanchthon\, Menschingstr. 12\, Hannover\, 30173\, Deutschland
CATEGORIES:Gemeindeveranstaltung
END:VEVENT
BEGIN:VEVENT
DTSTART;TZID=Europe/Berlin:20270106T150000
DTEND;TZID=Europe/Berlin:20270106T170000
DTSTAMP:20260424T180302
CREATED:20240123T162207Z
LAST-MODIFIED:20240123T162207Z
UID:10001283-1799247600-1799254800@www.melanchthon-hannover.de
SUMMARY:Besuchsdienstkreis
DESCRIPTION:Mittwoch im Monat
URL:https://www.melanchthon-hannover.de/termin/besuchsdienstkreis/2027-01-06/
LOCATION:Melanchthon – Glasraum\, Menschingstr. 12\, Hannover\, 30173\, Deutschland
CATEGORIES:Gemeindeveranstaltung
END:VEVENT
BEGIN:VEVENT
DTSTART;TZID=Europe/Berlin:20270107T160000
DTEND;TZID=Europe/Berlin:20270107T173000
DTSTAMP:20260424T180302
CREATED:20230910T092059Z
LAST-MODIFIED:20230926T115533Z
UID:10001011-1799337600-1799343000@www.melanchthon-hannover.de
SUMMARY:Eltern-Kind-Spielkreis
DESCRIPTION:
URL:https://www.melanchthon-hannover.de/termin/eltern-kind-spielkreis-3/2027-01-07/
LOCATION:Melanchthon – Glasraum\, Menschingstr. 12\, Hannover\, 30173\, Deutschland
CATEGORIES:Gemeindeveranstaltung
END:VEVENT
BEGIN:VEVENT
DTSTART;TZID=Europe/Berlin:20270111T183000
DTEND;TZID=Europe/Berlin:20270111T183000
DTSTAMP:20260424T180302
CREATED:20240724T141125Z
LAST-MODIFIED:20240724T141125Z
UID:10005737-1799692200-1799692200@www.melanchthon-hannover.de
SUMMARY:Meditationsgruppe
DESCRIPTION:
URL:https://www.melanchthon-hannover.de/termin/meditationsgruppe-5/2027-01-11/
LOCATION:Melanchthon – Unterkirche\, Menschingstr. 12\, Hannover\, 30173\, Deutschland
CATEGORIES:Gemeindeveranstaltung
END:VEVENT
BEGIN:VEVENT
DTSTART;TZID=Europe/Berlin:20270111T200000
DTEND;TZID=Europe/Berlin:20270111T213000
DTSTAMP:20260424T180302
CREATED:20230926T114558Z
LAST-MODIFIED:20230926T114558Z
UID:10000631-1799697600-1799703000@www.melanchthon-hannover.de
SUMMARY:Melanchthonchor
DESCRIPTION:
URL:https://www.melanchthon-hannover.de/termin/melanchthonchor-8/2027-01-11/
LOCATION:Melanchthon\, Menschingstr. 12\, Hannover\, 30173\, Deutschland
CATEGORIES:Gemeindeveranstaltung
END:VEVENT
BEGIN:VEVENT
DTSTART;TZID=Europe/Berlin:20270112T170000
DTEND;TZID=Europe/Berlin:20270112T183000
DTSTAMP:20260424T180302
CREATED:20250407T164330Z
LAST-MODIFIED:20250407T164330Z
UID:10006447-1799773200-1799778600@www.melanchthon-hannover.de
SUMMARY:Konfirmandenzeit
DESCRIPTION:
URL:https://www.melanchthon-hannover.de/termin/konfirmandenzeit/2027-01-12/
LOCATION:Melanchthon\, Menschingstr. 12\, Hannover\, 30173\, Deutschland
CATEGORIES:Konfirmanden
END:VEVENT
BEGIN:VEVENT
DTSTART;TZID=Europe/Berlin:20270113T100000
DTEND;TZID=Europe/Berlin:20270113T120000
DTSTAMP:20260424T180302
CREATED:20250407T164812Z
LAST-MODIFIED:20250407T164812Z
UID:10006710-1799834400-1799841600@www.melanchthon-hannover.de
SUMMARY:Malen am Morgen
DESCRIPTION:
URL:https://www.melanchthon-hannover.de/termin/malen-am-morgen-2/2027-01-13/
LOCATION:Melanchthon\, Menschingstr. 12\, Hannover\, 30173\, Deutschland
CATEGORIES:Gemeindeveranstaltung
END:VEVENT
BEGIN:VEVENT
DTSTART;TZID=Europe/Berlin:20270114T160000
DTEND;TZID=Europe/Berlin:20270114T173000
DTSTAMP:20260424T180302
CREATED:20230910T092059Z
LAST-MODIFIED:20230926T115533Z
UID:10001012-1799942400-1799947800@www.melanchthon-hannover.de
SUMMARY:Eltern-Kind-Spielkreis
DESCRIPTION:
URL:https://www.melanchthon-hannover.de/termin/eltern-kind-spielkreis-3/2027-01-14/
LOCATION:Melanchthon – Glasraum\, Menschingstr. 12\, Hannover\, 30173\, Deutschland
CATEGORIES:Gemeindeveranstaltung
END:VEVENT
BEGIN:VEVENT
DTSTART;TZID=Europe/Berlin:20270114T193000
DTEND;TZID=Europe/Berlin:20270114T213000
DTSTAMP:20260424T180302
CREATED:20240329T122045Z
LAST-MODIFIED:20240329T122045Z
UID:10004346-1799955000-1799962200@www.melanchthon-hannover.de
SUMMARY:Männergruppe
DESCRIPTION:
URL:https://www.melanchthon-hannover.de/termin/maennergruppe-5/2027-01-14/
LOCATION:Melanchthon – Unterkirche\, Menschingstr. 12\, Hannover\, 30173\, Deutschland
CATEGORIES:Gemeindeveranstaltung
END:VEVENT
BEGIN:VEVENT
DTSTART;TZID=Europe/Berlin:20270118T183000
DTEND;TZID=Europe/Berlin:20270118T183000
DTSTAMP:20260424T180302
CREATED:20240724T141125Z
LAST-MODIFIED:20240724T141125Z
UID:10005738-1800297000-1800297000@www.melanchthon-hannover.de
SUMMARY:Meditationsgruppe
DESCRIPTION:
URL:https://www.melanchthon-hannover.de/termin/meditationsgruppe-5/2027-01-18/
LOCATION:Melanchthon – Unterkirche\, Menschingstr. 12\, Hannover\, 30173\, Deutschland
CATEGORIES:Gemeindeveranstaltung
END:VEVENT
BEGIN:VEVENT
DTSTART;TZID=Europe/Berlin:20270118T200000
DTEND;TZID=Europe/Berlin:20270118T213000
DTSTAMP:20260424T180302
CREATED:20230926T114558Z
LAST-MODIFIED:20230926T114558Z
UID:10000632-1800302400-1800307800@www.melanchthon-hannover.de
SUMMARY:Melanchthonchor
DESCRIPTION:
URL:https://www.melanchthon-hannover.de/termin/melanchthonchor-8/2027-01-18/
LOCATION:Melanchthon\, Menschingstr. 12\, Hannover\, 30173\, Deutschland
CATEGORIES:Gemeindeveranstaltung
END:VEVENT
BEGIN:VEVENT
DTSTART;TZID=Europe/Berlin:20270119T170000
DTEND;TZID=Europe/Berlin:20270119T183000
DTSTAMP:20260424T180302
CREATED:20250407T164330Z
LAST-MODIFIED:20250407T164330Z
UID:10006448-1800378000-1800383400@www.melanchthon-hannover.de
SUMMARY:Konfirmandenzeit
DESCRIPTION:
URL:https://www.melanchthon-hannover.de/termin/konfirmandenzeit/2027-01-19/
LOCATION:Melanchthon\, Menschingstr. 12\, Hannover\, 30173\, Deutschland
CATEGORIES:Konfirmanden
END:VEVENT
BEGIN:VEVENT
DTSTART;TZID=Europe/Berlin:20270120T100000
DTEND;TZID=Europe/Berlin:20270120T120000
DTSTAMP:20260424T180302
CREATED:20250407T164812Z
LAST-MODIFIED:20250407T164812Z
UID:10006711-1800439200-1800446400@www.melanchthon-hannover.de
SUMMARY:Malen am Morgen
DESCRIPTION:
URL:https://www.melanchthon-hannover.de/termin/malen-am-morgen-2/2027-01-20/
LOCATION:Melanchthon\, Menschingstr. 12\, Hannover\, 30173\, Deutschland
CATEGORIES:Gemeindeveranstaltung
END:VEVENT
BEGIN:VEVENT
DTSTART;TZID=Europe/Berlin:20270121T160000
DTEND;TZID=Europe/Berlin:20270121T173000
DTSTAMP:20260424T180302
CREATED:20230910T092059Z
LAST-MODIFIED:20230926T115533Z
UID:10001013-1800547200-1800552600@www.melanchthon-hannover.de
SUMMARY:Eltern-Kind-Spielkreis
DESCRIPTION:
URL:https://www.melanchthon-hannover.de/termin/eltern-kind-spielkreis-3/2027-01-21/
LOCATION:Melanchthon – Glasraum\, Menschingstr. 12\, Hannover\, 30173\, Deutschland
CATEGORIES:Gemeindeveranstaltung
END:VEVENT
BEGIN:VEVENT
DTSTART;TZID=Europe/Berlin:20270125T183000
DTEND;TZID=Europe/Berlin:20270125T183000
DTSTAMP:20260424T180302
CREATED:20240724T141125Z
LAST-MODIFIED:20240724T141125Z
UID:10005739-1800901800-1800901800@www.melanchthon-hannover.de
SUMMARY:Meditationsgruppe
DESCRIPTION:
URL:https://www.melanchthon-hannover.de/termin/meditationsgruppe-5/2027-01-25/
LOCATION:Melanchthon – Unterkirche\, Menschingstr. 12\, Hannover\, 30173\, Deutschland
CATEGORIES:Gemeindeveranstaltung
END:VEVENT
BEGIN:VEVENT
DTSTART;TZID=Europe/Berlin:20270125T200000
DTEND;TZID=Europe/Berlin:20270125T213000
DTSTAMP:20260424T180302
CREATED:20230926T114558Z
LAST-MODIFIED:20230926T114558Z
UID:10000633-1800907200-1800912600@www.melanchthon-hannover.de
SUMMARY:Melanchthonchor
DESCRIPTION:
URL:https://www.melanchthon-hannover.de/termin/melanchthonchor-8/2027-01-25/
LOCATION:Melanchthon\, Menschingstr. 12\, Hannover\, 30173\, Deutschland
CATEGORIES:Gemeindeveranstaltung
END:VEVENT
BEGIN:VEVENT
DTSTART;TZID=Europe/Berlin:20270126T170000
DTEND;TZID=Europe/Berlin:20270126T183000
DTSTAMP:20260424T180302
CREATED:20250407T164330Z
LAST-MODIFIED:20250407T164330Z
UID:10006449-1800982800-1800988200@www.melanchthon-hannover.de
SUMMARY:Konfirmandenzeit
DESCRIPTION:
URL:https://www.melanchthon-hannover.de/termin/konfirmandenzeit/2027-01-26/
LOCATION:Melanchthon\, Menschingstr. 12\, Hannover\, 30173\, Deutschland
CATEGORIES:Konfirmanden
END:VEVENT
BEGIN:VEVENT
DTSTART;TZID=Europe/Berlin:20270127T100000
DTEND;TZID=Europe/Berlin:20270127T120000
DTSTAMP:20260424T180302
CREATED:20250407T164812Z
LAST-MODIFIED:20250407T164812Z
UID:10006712-1801044000-1801051200@www.melanchthon-hannover.de
SUMMARY:Malen am Morgen
DESCRIPTION:
URL:https://www.melanchthon-hannover.de/termin/malen-am-morgen-2/2027-01-27/
LOCATION:Melanchthon\, Menschingstr. 12\, Hannover\, 30173\, Deutschland
CATEGORIES:Gemeindeveranstaltung
END:VEVENT
BEGIN:VEVENT
DTSTART;TZID=Europe/Berlin:20270128T160000
DTEND;TZID=Europe/Berlin:20270128T173000
DTSTAMP:20260424T180302
CREATED:20230910T092059Z
LAST-MODIFIED:20230926T115533Z
UID:10001014-1801152000-1801157400@www.melanchthon-hannover.de
SUMMARY:Eltern-Kind-Spielkreis
DESCRIPTION:
URL:https://www.melanchthon-hannover.de/termin/eltern-kind-spielkreis-3/2027-01-28/
LOCATION:Melanchthon – Glasraum\, Menschingstr. 12\, Hannover\, 30173\, Deutschland
CATEGORIES:Gemeindeveranstaltung
END:VEVENT
BEGIN:VEVENT
DTSTART;TZID=Europe/Berlin:20270128T193000
DTEND;TZID=Europe/Berlin:20270128T210000
DTSTAMP:20260424T180302
CREATED:20230926T115242Z
LAST-MODIFIED:20230926T115242Z
UID:10000821-1801164600-1801170000@www.melanchthon-hannover.de
SUMMARY:Männergruppe
DESCRIPTION:
URL:https://www.melanchthon-hannover.de/termin/maennergruppe-4/2027-01-28/
LOCATION:Melanchthon – Unterkirche\, Menschingstr. 12\, Hannover\, 30173\, Deutschland
CATEGORIES:Gemeindeveranstaltung
END:VEVENT
BEGIN:VEVENT
DTSTART;TZID=Europe/Berlin:20270201T183000
DTEND;TZID=Europe/Berlin:20270201T183000
DTSTAMP:20260424T180302
CREATED:20240724T141125Z
LAST-MODIFIED:20240724T141125Z
UID:10005740-1801506600-1801506600@www.melanchthon-hannover.de
SUMMARY:Meditationsgruppe
DESCRIPTION:
URL:https://www.melanchthon-hannover.de/termin/meditationsgruppe-5/2027-02-01/
LOCATION:Melanchthon – Unterkirche\, Menschingstr. 12\, Hannover\, 30173\, Deutschland
CATEGORIES:Gemeindeveranstaltung
END:VEVENT
BEGIN:VEVENT
DTSTART;TZID=Europe/Berlin:20270201T200000
DTEND;TZID=Europe/Berlin:20270201T213000
DTSTAMP:20260424T180302
CREATED:20230926T114558Z
LAST-MODIFIED:20230926T114558Z
UID:10000634-1801512000-1801517400@www.melanchthon-hannover.de
SUMMARY:Melanchthonchor
DESCRIPTION:
URL:https://www.melanchthon-hannover.de/termin/melanchthonchor-8/2027-02-01/
LOCATION:Melanchthon\, Menschingstr. 12\, Hannover\, 30173\, Deutschland
CATEGORIES:Gemeindeveranstaltung
END:VEVENT
BEGIN:VEVENT
DTSTART;TZID=Europe/Berlin:20270202T170000
DTEND;TZID=Europe/Berlin:20270202T183000
DTSTAMP:20260424T180302
CREATED:20250407T164330Z
LAST-MODIFIED:20250407T164330Z
UID:10006450-1801587600-1801593000@www.melanchthon-hannover.de
SUMMARY:Konfirmandenzeit
DESCRIPTION:
URL:https://www.melanchthon-hannover.de/termin/konfirmandenzeit/2027-02-02/
LOCATION:Melanchthon\, Menschingstr. 12\, Hannover\, 30173\, Deutschland
CATEGORIES:Konfirmanden
END:VEVENT
BEGIN:VEVENT
DTSTART;TZID=Europe/Berlin:20270203T100000
DTEND;TZID=Europe/Berlin:20270203T120000
DTSTAMP:20260424T180302
CREATED:20250407T164812Z
LAST-MODIFIED:20250407T164812Z
UID:10006713-1801648800-1801656000@www.melanchthon-hannover.de
SUMMARY:Malen am Morgen
DESCRIPTION:
URL:https://www.melanchthon-hannover.de/termin/malen-am-morgen-2/2027-02-03/
LOCATION:Melanchthon\, Menschingstr. 12\, Hannover\, 30173\, Deutschland
CATEGORIES:Gemeindeveranstaltung
END:VEVENT
BEGIN:VEVENT
DTSTART;TZID=Europe/Berlin:20270203T150000
DTEND;TZID=Europe/Berlin:20270203T170000
DTSTAMP:20260424T180302
CREATED:20240123T162207Z
LAST-MODIFIED:20240123T162207Z
UID:10001284-1801666800-1801674000@www.melanchthon-hannover.de
SUMMARY:Besuchsdienstkreis
DESCRIPTION:Mittwoch im Monat
URL:https://www.melanchthon-hannover.de/termin/besuchsdienstkreis/2027-02-03/
LOCATION:Melanchthon – Glasraum\, Menschingstr. 12\, Hannover\, 30173\, Deutschland
CATEGORIES:Gemeindeveranstaltung
END:VEVENT
BEGIN:VEVENT
DTSTART;TZID=Europe/Berlin:20270204T160000
DTEND;TZID=Europe/Berlin:20270204T173000
DTSTAMP:20260424T180302
CREATED:20230910T092059Z
LAST-MODIFIED:20230926T115533Z
UID:10001015-1801756800-1801762200@www.melanchthon-hannover.de
SUMMARY:Eltern-Kind-Spielkreis
DESCRIPTION:
URL:https://www.melanchthon-hannover.de/termin/eltern-kind-spielkreis-3/2027-02-04/
LOCATION:Melanchthon – Glasraum\, Menschingstr. 12\, Hannover\, 30173\, Deutschland
CATEGORIES:Gemeindeveranstaltung
END:VEVENT
BEGIN:VEVENT
DTSTART;TZID=Europe/Berlin:20270206T100000
DTEND;TZID=Europe/Berlin:20270206T120000
DTSTAMP:20260424T180302
CREATED:20250407T165209Z
LAST-MODIFIED:20250407T165209Z
UID:10006962-1801908000-1801915200@www.melanchthon-hannover.de
SUMMARY:Kinderkunst
DESCRIPTION:
URL:https://www.melanchthon-hannover.de/termin/kinderkunst-6/2027-02-06/
LOCATION:Melanchthon\, Menschingstr. 12\, Hannover\, 30173\, Deutschland
CATEGORIES:Gemeindeveranstaltung
END:VEVENT
BEGIN:VEVENT
DTSTART;TZID=Europe/Berlin:20270206T100000
DTEND;TZID=Europe/Berlin:20270206T120000
DTSTAMP:20260424T180302
CREATED:20251002T104027Z
LAST-MODIFIED:20251002T104027Z
UID:10006901-1801908000-1801915200@www.melanchthon-hannover.de
SUMMARY:Marktcafé
DESCRIPTION:
URL:https://www.melanchthon-hannover.de/termin/marktcafe-4-2/2027-02-06/
LOCATION:Melanchthon\, Menschingstr. 12\, Hannover\, 30173\, Deutschland
CATEGORIES:Gemeindeveranstaltung
ATTACH;FMTTYPE=image/png:https://www.melanchthon-hannover.de/wp-content/uploads/2025/04/Markcafe.png
END:VEVENT
BEGIN:VEVENT
DTSTART;TZID=Europe/Berlin:20270208T183000
DTEND;TZID=Europe/Berlin:20270208T183000
DTSTAMP:20260424T180302
CREATED:20240724T141125Z
LAST-MODIFIED:20240724T141125Z
UID:10005741-1802111400-1802111400@www.melanchthon-hannover.de
SUMMARY:Meditationsgruppe
DESCRIPTION:
URL:https://www.melanchthon-hannover.de/termin/meditationsgruppe-5/2027-02-08/
LOCATION:Melanchthon – Unterkirche\, Menschingstr. 12\, Hannover\, 30173\, Deutschland
CATEGORIES:Gemeindeveranstaltung
END:VEVENT
BEGIN:VEVENT
DTSTART;TZID=Europe/Berlin:20270208T200000
DTEND;TZID=Europe/Berlin:20270208T213000
DTSTAMP:20260424T180302
CREATED:20230926T114558Z
LAST-MODIFIED:20230926T114558Z
UID:10000635-1802116800-1802122200@www.melanchthon-hannover.de
SUMMARY:Melanchthonchor
DESCRIPTION:
URL:https://www.melanchthon-hannover.de/termin/melanchthonchor-8/2027-02-08/
LOCATION:Melanchthon\, Menschingstr. 12\, Hannover\, 30173\, Deutschland
CATEGORIES:Gemeindeveranstaltung
END:VEVENT
END:VCALENDAR