BEGIN:VCALENDAR
VERSION:2.0
PRODID:-//Melanchthon-Gemeinde - ECPv6.15.20//NONSGML v1.0//EN
CALSCALE:GREGORIAN
METHOD:PUBLISH
X-WR-CALNAME:Melanchthon-Gemeinde
X-ORIGINAL-URL:https://www.melanchthon-hannover.de
X-WR-CALDESC:Veranstaltungen für Melanchthon-Gemeinde
REFRESH-INTERVAL;VALUE=DURATION:PT1H
X-Robots-Tag:noindex
X-PUBLISHED-TTL:PT1H
BEGIN:VTIMEZONE
TZID:Europe/Berlin
BEGIN:DAYLIGHT
TZOFFSETFROM:+0100
TZOFFSETTO:+0200
TZNAME:CEST
DTSTART:20250330T010000
END:DAYLIGHT
BEGIN:STANDARD
TZOFFSETFROM:+0200
TZOFFSETTO:+0100
TZNAME:CET
DTSTART:20251026T010000
END:STANDARD
BEGIN:DAYLIGHT
TZOFFSETFROM:+0100
TZOFFSETTO:+0200
TZNAME:CEST
DTSTART:20260329T010000
END:DAYLIGHT
BEGIN:STANDARD
TZOFFSETFROM:+0200
TZOFFSETTO:+0100
TZNAME:CET
DTSTART:20261025T010000
END:STANDARD
BEGIN:DAYLIGHT
TZOFFSETFROM:+0100
TZOFFSETTO:+0200
TZNAME:CEST
DTSTART:20270328T010000
END:DAYLIGHT
BEGIN:STANDARD
TZOFFSETFROM:+0200
TZOFFSETTO:+0100
TZNAME:CET
DTSTART:20271031T010000
END:STANDARD
END:VTIMEZONE
BEGIN:VEVENT
DTSTART;TZID=Europe/Berlin:20261118T100000
DTEND;TZID=Europe/Berlin:20261118T120000
DTSTAMP:20260424T152047
CREATED:20250407T164812Z
LAST-MODIFIED:20250407T164812Z
UID:10006702-1794996000-1795003200@www.melanchthon-hannover.de
SUMMARY:Malen am Morgen
DESCRIPTION:
URL:https://www.melanchthon-hannover.de/termin/malen-am-morgen-2/2026-11-18/
LOCATION:Melanchthon\, Menschingstr. 12\, Hannover\, 30173\, Deutschland
CATEGORIES:Gemeindeveranstaltung
END:VEVENT
BEGIN:VEVENT
DTSTART;TZID=Europe/Berlin:20261118T183000
DTEND;TZID=Europe/Berlin:20261118T200000
DTSTAMP:20260424T152047
CREATED:20260316T121414Z
LAST-MODIFIED:20260407T225852Z
UID:10007395-1795026600-1795032000@www.melanchthon-hannover.de
SUMMARY:Mittwochsmeditation
DESCRIPTION:Die Mittwochsmeditation findet zweiwöchentlich (ausser im Juni) statt. \nBitte anmelden.
URL:https://www.melanchthon-hannover.de/termin/mittwochsmeditation-3/2026-11-18/
LOCATION:Melanchthon\, Menschingstr. 12\, Hannover\, 30173\, Deutschland
CATEGORIES:Kirche der Stille
ATTACH;FMTTYPE=image/png:https://www.melanchthon-hannover.de/wp-content/uploads/2026/03/04-05.2026-Mittwochsmeditation.png
END:VEVENT
BEGIN:VEVENT
DTSTART;TZID=Europe/Berlin:20261119T160000
DTEND;TZID=Europe/Berlin:20261119T173000
DTSTAMP:20260424T152047
CREATED:20230910T092059Z
LAST-MODIFIED:20230926T115533Z
UID:10001004-1795104000-1795109400@www.melanchthon-hannover.de
SUMMARY:Eltern-Kind-Spielkreis
DESCRIPTION:
URL:https://www.melanchthon-hannover.de/termin/eltern-kind-spielkreis-3/2026-11-19/
LOCATION:Melanchthon – Glasraum\, Menschingstr. 12\, Hannover\, 30173\, Deutschland
CATEGORIES:Gemeindeveranstaltung
END:VEVENT
BEGIN:VEVENT
DTSTART;TZID=Europe/Berlin:20261123T183000
DTEND;TZID=Europe/Berlin:20261123T183000
DTSTAMP:20260424T152047
CREATED:20240724T141125Z
LAST-MODIFIED:20240724T141125Z
UID:10005730-1795458600-1795458600@www.melanchthon-hannover.de
SUMMARY:Meditationsgruppe
DESCRIPTION:
URL:https://www.melanchthon-hannover.de/termin/meditationsgruppe-5/2026-11-23/
LOCATION:Melanchthon – Unterkirche\, Menschingstr. 12\, Hannover\, 30173\, Deutschland
CATEGORIES:Gemeindeveranstaltung
END:VEVENT
BEGIN:VEVENT
DTSTART;TZID=Europe/Berlin:20261123T200000
DTEND;TZID=Europe/Berlin:20261123T213000
DTSTAMP:20260424T152047
CREATED:20230926T114558Z
LAST-MODIFIED:20230926T114558Z
UID:10000624-1795464000-1795469400@www.melanchthon-hannover.de
SUMMARY:Melanchthonchor
DESCRIPTION:
URL:https://www.melanchthon-hannover.de/termin/melanchthonchor-8/2026-11-23/
LOCATION:Melanchthon\, Menschingstr. 12\, Hannover\, 30173\, Deutschland
CATEGORIES:Gemeindeveranstaltung
END:VEVENT
BEGIN:VEVENT
DTSTART;TZID=Europe/Berlin:20261124T170000
DTEND;TZID=Europe/Berlin:20261124T183000
DTSTAMP:20260424T152047
CREATED:20250407T164330Z
LAST-MODIFIED:20250407T164330Z
UID:10006440-1795539600-1795545000@www.melanchthon-hannover.de
SUMMARY:Konfirmandenzeit
DESCRIPTION:
URL:https://www.melanchthon-hannover.de/termin/konfirmandenzeit/2026-11-24/
LOCATION:Melanchthon\, Menschingstr. 12\, Hannover\, 30173\, Deutschland
CATEGORIES:Konfirmanden
END:VEVENT
BEGIN:VEVENT
DTSTART;TZID=Europe/Berlin:20261125T100000
DTEND;TZID=Europe/Berlin:20261125T120000
DTSTAMP:20260424T152047
CREATED:20250407T164812Z
LAST-MODIFIED:20250407T164812Z
UID:10006703-1795600800-1795608000@www.melanchthon-hannover.de
SUMMARY:Malen am Morgen
DESCRIPTION:
URL:https://www.melanchthon-hannover.de/termin/malen-am-morgen-2/2026-11-25/
LOCATION:Melanchthon\, Menschingstr. 12\, Hannover\, 30173\, Deutschland
CATEGORIES:Gemeindeveranstaltung
END:VEVENT
BEGIN:VEVENT
DTSTART;TZID=Europe/Berlin:20261126T160000
DTEND;TZID=Europe/Berlin:20261126T173000
DTSTAMP:20260424T152047
CREATED:20230910T092059Z
LAST-MODIFIED:20230926T115533Z
UID:10001005-1795708800-1795714200@www.melanchthon-hannover.de
SUMMARY:Eltern-Kind-Spielkreis
DESCRIPTION:
URL:https://www.melanchthon-hannover.de/termin/eltern-kind-spielkreis-3/2026-11-26/
LOCATION:Melanchthon – Glasraum\, Menschingstr. 12\, Hannover\, 30173\, Deutschland
CATEGORIES:Gemeindeveranstaltung
END:VEVENT
BEGIN:VEVENT
DTSTART;TZID=Europe/Berlin:20261126T193000
DTEND;TZID=Europe/Berlin:20261126T210000
DTSTAMP:20260424T152047
CREATED:20230926T115242Z
LAST-MODIFIED:20230926T115242Z
UID:10000819-1795721400-1795726800@www.melanchthon-hannover.de
SUMMARY:Männergruppe
DESCRIPTION:
URL:https://www.melanchthon-hannover.de/termin/maennergruppe-4/2026-11-26/
LOCATION:Melanchthon – Unterkirche\, Menschingstr. 12\, Hannover\, 30173\, Deutschland
CATEGORIES:Gemeindeveranstaltung
END:VEVENT
BEGIN:VEVENT
DTSTART;TZID=Europe/Berlin:20261130T183000
DTEND;TZID=Europe/Berlin:20261130T183000
DTSTAMP:20260424T152047
CREATED:20240724T141125Z
LAST-MODIFIED:20240724T141125Z
UID:10005731-1796063400-1796063400@www.melanchthon-hannover.de
SUMMARY:Meditationsgruppe
DESCRIPTION:
URL:https://www.melanchthon-hannover.de/termin/meditationsgruppe-5/2026-11-30/
LOCATION:Melanchthon – Unterkirche\, Menschingstr. 12\, Hannover\, 30173\, Deutschland
CATEGORIES:Gemeindeveranstaltung
END:VEVENT
BEGIN:VEVENT
DTSTART;TZID=Europe/Berlin:20261130T200000
DTEND;TZID=Europe/Berlin:20261130T213000
DTSTAMP:20260424T152047
CREATED:20230926T114558Z
LAST-MODIFIED:20230926T114558Z
UID:10000625-1796068800-1796074200@www.melanchthon-hannover.de
SUMMARY:Melanchthonchor
DESCRIPTION:
URL:https://www.melanchthon-hannover.de/termin/melanchthonchor-8/2026-11-30/
LOCATION:Melanchthon\, Menschingstr. 12\, Hannover\, 30173\, Deutschland
CATEGORIES:Gemeindeveranstaltung
END:VEVENT
BEGIN:VEVENT
DTSTART;TZID=Europe/Berlin:20261201T170000
DTEND;TZID=Europe/Berlin:20261201T183000
DTSTAMP:20260424T152047
CREATED:20250407T164330Z
LAST-MODIFIED:20250407T164330Z
UID:10006441-1796144400-1796149800@www.melanchthon-hannover.de
SUMMARY:Konfirmandenzeit
DESCRIPTION:
URL:https://www.melanchthon-hannover.de/termin/konfirmandenzeit/2026-12-01/
LOCATION:Melanchthon\, Menschingstr. 12\, Hannover\, 30173\, Deutschland
CATEGORIES:Konfirmanden
END:VEVENT
BEGIN:VEVENT
DTSTART;TZID=Europe/Berlin:20261202T100000
DTEND;TZID=Europe/Berlin:20261202T120000
DTSTAMP:20260424T152047
CREATED:20250407T164812Z
LAST-MODIFIED:20250407T164812Z
UID:10006704-1796205600-1796212800@www.melanchthon-hannover.de
SUMMARY:Malen am Morgen
DESCRIPTION:
URL:https://www.melanchthon-hannover.de/termin/malen-am-morgen-2/2026-12-02/
LOCATION:Melanchthon\, Menschingstr. 12\, Hannover\, 30173\, Deutschland
CATEGORIES:Gemeindeveranstaltung
END:VEVENT
BEGIN:VEVENT
DTSTART;TZID=Europe/Berlin:20261202T150000
DTEND;TZID=Europe/Berlin:20261202T170000
DTSTAMP:20260424T152047
CREATED:20240123T162207Z
LAST-MODIFIED:20240123T162207Z
UID:10001282-1796223600-1796230800@www.melanchthon-hannover.de
SUMMARY:Besuchsdienstkreis
DESCRIPTION:Mittwoch im Monat
URL:https://www.melanchthon-hannover.de/termin/besuchsdienstkreis/2026-12-02/
LOCATION:Melanchthon – Glasraum\, Menschingstr. 12\, Hannover\, 30173\, Deutschland
CATEGORIES:Gemeindeveranstaltung
END:VEVENT
BEGIN:VEVENT
DTSTART;TZID=Europe/Berlin:20261202T183000
DTEND;TZID=Europe/Berlin:20261202T200000
DTSTAMP:20260424T152047
CREATED:20260316T121414Z
LAST-MODIFIED:20260407T225852Z
UID:10007396-1796236200-1796241600@www.melanchthon-hannover.de
SUMMARY:Mittwochsmeditation
DESCRIPTION:Die Mittwochsmeditation findet zweiwöchentlich (ausser im Juni) statt. \nBitte anmelden.
URL:https://www.melanchthon-hannover.de/termin/mittwochsmeditation-3/2026-12-02/
LOCATION:Melanchthon\, Menschingstr. 12\, Hannover\, 30173\, Deutschland
CATEGORIES:Kirche der Stille
ATTACH;FMTTYPE=image/png:https://www.melanchthon-hannover.de/wp-content/uploads/2026/03/04-05.2026-Mittwochsmeditation.png
END:VEVENT
BEGIN:VEVENT
DTSTART;TZID=Europe/Berlin:20261203T160000
DTEND;TZID=Europe/Berlin:20261203T173000
DTSTAMP:20260424T152047
CREATED:20230910T092059Z
LAST-MODIFIED:20230926T115533Z
UID:10001006-1796313600-1796319000@www.melanchthon-hannover.de
SUMMARY:Eltern-Kind-Spielkreis
DESCRIPTION:
URL:https://www.melanchthon-hannover.de/termin/eltern-kind-spielkreis-3/2026-12-03/
LOCATION:Melanchthon – Glasraum\, Menschingstr. 12\, Hannover\, 30173\, Deutschland
CATEGORIES:Gemeindeveranstaltung
END:VEVENT
BEGIN:VEVENT
DTSTART;TZID=Europe/Berlin:20261205T100000
DTEND;TZID=Europe/Berlin:20261205T120000
DTSTAMP:20260424T152047
CREATED:20250407T165209Z
LAST-MODIFIED:20250407T165209Z
UID:10006960-1796464800-1796472000@www.melanchthon-hannover.de
SUMMARY:Kinderkunst
DESCRIPTION:
URL:https://www.melanchthon-hannover.de/termin/kinderkunst-6/2026-12-05/
LOCATION:Melanchthon\, Menschingstr. 12\, Hannover\, 30173\, Deutschland
CATEGORIES:Gemeindeveranstaltung
END:VEVENT
BEGIN:VEVENT
DTSTART;TZID=Europe/Berlin:20261205T100000
DTEND;TZID=Europe/Berlin:20261205T120000
DTSTAMP:20260424T152047
CREATED:20251002T104027Z
LAST-MODIFIED:20251002T104027Z
UID:10006899-1796464800-1796472000@www.melanchthon-hannover.de
SUMMARY:Marktcafé
DESCRIPTION:
URL:https://www.melanchthon-hannover.de/termin/marktcafe-4-2/2026-12-05/
LOCATION:Melanchthon\, Menschingstr. 12\, Hannover\, 30173\, Deutschland
CATEGORIES:Gemeindeveranstaltung
ATTACH;FMTTYPE=image/png:https://www.melanchthon-hannover.de/wp-content/uploads/2025/04/Markcafe.png
END:VEVENT
BEGIN:VEVENT
DTSTART;TZID=Europe/Berlin:20261207T183000
DTEND;TZID=Europe/Berlin:20261207T183000
DTSTAMP:20260424T152047
CREATED:20240724T141125Z
LAST-MODIFIED:20240724T141125Z
UID:10005732-1796668200-1796668200@www.melanchthon-hannover.de
SUMMARY:Meditationsgruppe
DESCRIPTION:
URL:https://www.melanchthon-hannover.de/termin/meditationsgruppe-5/2026-12-07/
LOCATION:Melanchthon – Unterkirche\, Menschingstr. 12\, Hannover\, 30173\, Deutschland
CATEGORIES:Gemeindeveranstaltung
END:VEVENT
BEGIN:VEVENT
DTSTART;TZID=Europe/Berlin:20261207T200000
DTEND;TZID=Europe/Berlin:20261207T213000
DTSTAMP:20260424T152047
CREATED:20230926T114558Z
LAST-MODIFIED:20230926T114558Z
UID:10000626-1796673600-1796679000@www.melanchthon-hannover.de
SUMMARY:Melanchthonchor
DESCRIPTION:
URL:https://www.melanchthon-hannover.de/termin/melanchthonchor-8/2026-12-07/
LOCATION:Melanchthon\, Menschingstr. 12\, Hannover\, 30173\, Deutschland
CATEGORIES:Gemeindeveranstaltung
END:VEVENT
BEGIN:VEVENT
DTSTART;TZID=Europe/Berlin:20261208T170000
DTEND;TZID=Europe/Berlin:20261208T183000
DTSTAMP:20260424T152047
CREATED:20250407T164330Z
LAST-MODIFIED:20250407T164330Z
UID:10006442-1796749200-1796754600@www.melanchthon-hannover.de
SUMMARY:Konfirmandenzeit
DESCRIPTION:
URL:https://www.melanchthon-hannover.de/termin/konfirmandenzeit/2026-12-08/
LOCATION:Melanchthon\, Menschingstr. 12\, Hannover\, 30173\, Deutschland
CATEGORIES:Konfirmanden
END:VEVENT
BEGIN:VEVENT
DTSTART;TZID=Europe/Berlin:20261209T100000
DTEND;TZID=Europe/Berlin:20261209T120000
DTSTAMP:20260424T152047
CREATED:20250407T164812Z
LAST-MODIFIED:20250407T164812Z
UID:10006705-1796810400-1796817600@www.melanchthon-hannover.de
SUMMARY:Malen am Morgen
DESCRIPTION:
URL:https://www.melanchthon-hannover.de/termin/malen-am-morgen-2/2026-12-09/
LOCATION:Melanchthon\, Menschingstr. 12\, Hannover\, 30173\, Deutschland
CATEGORIES:Gemeindeveranstaltung
END:VEVENT
BEGIN:VEVENT
DTSTART;TZID=Europe/Berlin:20261210T160000
DTEND;TZID=Europe/Berlin:20261210T173000
DTSTAMP:20260424T152047
CREATED:20230910T092059Z
LAST-MODIFIED:20230926T115533Z
UID:10001007-1796918400-1796923800@www.melanchthon-hannover.de
SUMMARY:Eltern-Kind-Spielkreis
DESCRIPTION:
URL:https://www.melanchthon-hannover.de/termin/eltern-kind-spielkreis-3/2026-12-10/
LOCATION:Melanchthon – Glasraum\, Menschingstr. 12\, Hannover\, 30173\, Deutschland
CATEGORIES:Gemeindeveranstaltung
END:VEVENT
BEGIN:VEVENT
DTSTART;TZID=Europe/Berlin:20261210T193000
DTEND;TZID=Europe/Berlin:20261210T213000
DTSTAMP:20260424T152047
CREATED:20240329T122045Z
LAST-MODIFIED:20240329T122045Z
UID:10004345-1796931000-1796938200@www.melanchthon-hannover.de
SUMMARY:Männergruppe
DESCRIPTION:
URL:https://www.melanchthon-hannover.de/termin/maennergruppe-5/2026-12-10/
LOCATION:Melanchthon – Unterkirche\, Menschingstr. 12\, Hannover\, 30173\, Deutschland
CATEGORIES:Gemeindeveranstaltung
END:VEVENT
BEGIN:VEVENT
DTSTART;TZID=Europe/Berlin:20261214T183000
DTEND;TZID=Europe/Berlin:20261214T183000
DTSTAMP:20260424T152047
CREATED:20240724T141125Z
LAST-MODIFIED:20240724T141125Z
UID:10005733-1797273000-1797273000@www.melanchthon-hannover.de
SUMMARY:Meditationsgruppe
DESCRIPTION:
URL:https://www.melanchthon-hannover.de/termin/meditationsgruppe-5/2026-12-14/
LOCATION:Melanchthon – Unterkirche\, Menschingstr. 12\, Hannover\, 30173\, Deutschland
CATEGORIES:Gemeindeveranstaltung
END:VEVENT
BEGIN:VEVENT
DTSTART;TZID=Europe/Berlin:20261214T200000
DTEND;TZID=Europe/Berlin:20261214T213000
DTSTAMP:20260424T152047
CREATED:20230926T114558Z
LAST-MODIFIED:20230926T114558Z
UID:10000627-1797278400-1797283800@www.melanchthon-hannover.de
SUMMARY:Melanchthonchor
DESCRIPTION:
URL:https://www.melanchthon-hannover.de/termin/melanchthonchor-8/2026-12-14/
LOCATION:Melanchthon\, Menschingstr. 12\, Hannover\, 30173\, Deutschland
CATEGORIES:Gemeindeveranstaltung
END:VEVENT
BEGIN:VEVENT
DTSTART;TZID=Europe/Berlin:20261215T170000
DTEND;TZID=Europe/Berlin:20261215T183000
DTSTAMP:20260424T152047
CREATED:20250407T164330Z
LAST-MODIFIED:20250407T164330Z
UID:10006443-1797354000-1797359400@www.melanchthon-hannover.de
SUMMARY:Konfirmandenzeit
DESCRIPTION:
URL:https://www.melanchthon-hannover.de/termin/konfirmandenzeit/2026-12-15/
LOCATION:Melanchthon\, Menschingstr. 12\, Hannover\, 30173\, Deutschland
CATEGORIES:Konfirmanden
END:VEVENT
BEGIN:VEVENT
DTSTART;TZID=Europe/Berlin:20261216T100000
DTEND;TZID=Europe/Berlin:20261216T120000
DTSTAMP:20260424T152047
CREATED:20250407T164812Z
LAST-MODIFIED:20250407T164812Z
UID:10006706-1797415200-1797422400@www.melanchthon-hannover.de
SUMMARY:Malen am Morgen
DESCRIPTION:
URL:https://www.melanchthon-hannover.de/termin/malen-am-morgen-2/2026-12-16/
LOCATION:Melanchthon\, Menschingstr. 12\, Hannover\, 30173\, Deutschland
CATEGORIES:Gemeindeveranstaltung
END:VEVENT
BEGIN:VEVENT
DTSTART;TZID=Europe/Berlin:20261216T183000
DTEND;TZID=Europe/Berlin:20261216T200000
DTSTAMP:20260424T152047
CREATED:20260316T121414Z
LAST-MODIFIED:20260407T225852Z
UID:10007397-1797445800-1797451200@www.melanchthon-hannover.de
SUMMARY:Mittwochsmeditation
DESCRIPTION:Die Mittwochsmeditation findet zweiwöchentlich (ausser im Juni) statt. \nBitte anmelden.
URL:https://www.melanchthon-hannover.de/termin/mittwochsmeditation-3/2026-12-16/
LOCATION:Melanchthon\, Menschingstr. 12\, Hannover\, 30173\, Deutschland
CATEGORIES:Kirche der Stille
ATTACH;FMTTYPE=image/png:https://www.melanchthon-hannover.de/wp-content/uploads/2026/03/04-05.2026-Mittwochsmeditation.png
END:VEVENT
BEGIN:VEVENT
DTSTART;TZID=Europe/Berlin:20261217T160000
DTEND;TZID=Europe/Berlin:20261217T173000
DTSTAMP:20260424T152047
CREATED:20230910T092059Z
LAST-MODIFIED:20230926T115533Z
UID:10001008-1797523200-1797528600@www.melanchthon-hannover.de
SUMMARY:Eltern-Kind-Spielkreis
DESCRIPTION:
URL:https://www.melanchthon-hannover.de/termin/eltern-kind-spielkreis-3/2026-12-17/
LOCATION:Melanchthon – Glasraum\, Menschingstr. 12\, Hannover\, 30173\, Deutschland
CATEGORIES:Gemeindeveranstaltung
END:VEVENT
END:VCALENDAR