BEGIN:VCALENDAR
VERSION:2.0
PRODID:-//Melanchthon-Gemeinde - ECPv6.15.20//NONSGML v1.0//EN
CALSCALE:GREGORIAN
METHOD:PUBLISH
X-WR-CALNAME:Melanchthon-Gemeinde
X-ORIGINAL-URL:https://www.melanchthon-hannover.de
X-WR-CALDESC:Veranstaltungen für Melanchthon-Gemeinde
REFRESH-INTERVAL;VALUE=DURATION:PT1H
X-Robots-Tag:noindex
X-PUBLISHED-TTL:PT1H
BEGIN:VTIMEZONE
TZID:Europe/Berlin
BEGIN:DAYLIGHT
TZOFFSETFROM:+0100
TZOFFSETTO:+0200
TZNAME:CEST
DTSTART:20250330T010000
END:DAYLIGHT
BEGIN:STANDARD
TZOFFSETFROM:+0200
TZOFFSETTO:+0100
TZNAME:CET
DTSTART:20251026T010000
END:STANDARD
BEGIN:DAYLIGHT
TZOFFSETFROM:+0100
TZOFFSETTO:+0200
TZNAME:CEST
DTSTART:20260329T010000
END:DAYLIGHT
BEGIN:STANDARD
TZOFFSETFROM:+0200
TZOFFSETTO:+0100
TZNAME:CET
DTSTART:20261025T010000
END:STANDARD
BEGIN:DAYLIGHT
TZOFFSETFROM:+0100
TZOFFSETTO:+0200
TZNAME:CEST
DTSTART:20270328T010000
END:DAYLIGHT
BEGIN:STANDARD
TZOFFSETFROM:+0200
TZOFFSETTO:+0100
TZNAME:CET
DTSTART:20271031T010000
END:STANDARD
END:VTIMEZONE
BEGIN:VEVENT
DTSTART;TZID=Europe/Berlin:20260215T180000
DTEND;TZID=Europe/Berlin:20260215T190000
DTSTAMP:20260425T141832
CREATED:20260124T110227Z
LAST-MODIFIED:20260124T110713Z
UID:10007367-1771178400-1771182000@www.melanchthon-hannover.de
SUMMARY:Gottesdienst
DESCRIPTION:
URL:https://www.melanchthon-hannover.de/termin/gottesdienst-72/
LOCATION:Melanchthon\, Menschingstr. 12\, Hannover\, 30173\, Deutschland
CATEGORIES:Gottesdienst
ATTACH;FMTTYPE=image/png:https://www.melanchthon-hannover.de/wp-content/uploads/2026/01/15.2.26-Abend-GD.png
END:VEVENT
BEGIN:VEVENT
DTSTART;TZID=Europe/Berlin:20260216T183000
DTEND;TZID=Europe/Berlin:20260216T183000
DTSTAMP:20260425T141832
CREATED:20240724T141125Z
LAST-MODIFIED:20240724T141125Z
UID:10005690-1771266600-1771266600@www.melanchthon-hannover.de
SUMMARY:Meditationsgruppe
DESCRIPTION:
URL:https://www.melanchthon-hannover.de/termin/meditationsgruppe-5/2026-02-16/
LOCATION:Melanchthon – Unterkirche\, Menschingstr. 12\, Hannover\, 30173\, Deutschland
CATEGORIES:Gemeindeveranstaltung
END:VEVENT
BEGIN:VEVENT
DTSTART;TZID=Europe/Berlin:20260216T200000
DTEND;TZID=Europe/Berlin:20260216T213000
DTSTAMP:20260425T141832
CREATED:20230926T114558Z
LAST-MODIFIED:20230926T114558Z
UID:10000584-1771272000-1771277400@www.melanchthon-hannover.de
SUMMARY:Melanchthonchor
DESCRIPTION:
URL:https://www.melanchthon-hannover.de/termin/melanchthonchor-8/2026-02-16/
LOCATION:Melanchthon\, Menschingstr. 12\, Hannover\, 30173\, Deutschland
CATEGORIES:Gemeindeveranstaltung
END:VEVENT
BEGIN:VEVENT
DTSTART;TZID=Europe/Berlin:20260217T170000
DTEND;TZID=Europe/Berlin:20260217T183000
DTSTAMP:20260425T141832
CREATED:20250407T164330Z
LAST-MODIFIED:20250407T164330Z
UID:10006400-1771347600-1771353000@www.melanchthon-hannover.de
SUMMARY:Konfirmandenzeit
DESCRIPTION:
URL:https://www.melanchthon-hannover.de/termin/konfirmandenzeit/2026-02-17/
LOCATION:Melanchthon\, Menschingstr. 12\, Hannover\, 30173\, Deutschland
CATEGORIES:Konfirmanden
END:VEVENT
BEGIN:VEVENT
DTSTART;TZID=Europe/Berlin:20260218T100000
DTEND;TZID=Europe/Berlin:20260218T120000
DTSTAMP:20260425T141832
CREATED:20250407T164812Z
LAST-MODIFIED:20250407T164812Z
UID:10006663-1771408800-1771416000@www.melanchthon-hannover.de
SUMMARY:Malen am Morgen
DESCRIPTION:
URL:https://www.melanchthon-hannover.de/termin/malen-am-morgen-2/2026-02-18/
LOCATION:Melanchthon\, Menschingstr. 12\, Hannover\, 30173\, Deutschland
CATEGORIES:Gemeindeveranstaltung
END:VEVENT
BEGIN:VEVENT
DTSTART;TZID=Europe/Berlin:20260219T160000
DTEND;TZID=Europe/Berlin:20260219T173000
DTSTAMP:20260425T141832
CREATED:20230910T092059Z
LAST-MODIFIED:20230926T115533Z
UID:10000965-1771516800-1771522200@www.melanchthon-hannover.de
SUMMARY:Eltern-Kind-Spielkreis
DESCRIPTION:
URL:https://www.melanchthon-hannover.de/termin/eltern-kind-spielkreis-3/2026-02-19/
LOCATION:Melanchthon – Glasraum\, Menschingstr. 12\, Hannover\, 30173\, Deutschland
CATEGORIES:Gemeindeveranstaltung
END:VEVENT
BEGIN:VEVENT
DTSTART;TZID=Europe/Berlin:20260221T150000
DTEND;TZID=Europe/Berlin:20260221T180000
DTSTAMP:20260425T141832
CREATED:20260211T165143Z
LAST-MODIFIED:20260211T165422Z
UID:10007378-1771686000-1771696800@www.melanchthon-hannover.de
SUMMARY:SoulCollage®
DESCRIPTION:Bitte hier anmelden
URL:https://www.melanchthon-hannover.de/termin/soulcollage/
LOCATION:Melanchthon\, Menschingstr. 12\, Hannover\, 30173\, Deutschland
CATEGORIES:Kirche der Stille
ATTACH;FMTTYPE=image/png:https://www.melanchthon-hannover.de/wp-content/uploads/2026/02/SoulCollage®.png
END:VEVENT
BEGIN:VEVENT
DTSTART;TZID=Europe/Berlin:20260222T080000
DTEND;TZID=Europe/Berlin:20260222T170000
DTSTAMP:20260425T141832
CREATED:20260124T110005Z
LAST-MODIFIED:20260124T110006Z
UID:10007366-1771747200-1771779600@www.melanchthon-hannover.de
SUMMARY:Kindergottesdienst
DESCRIPTION:
URL:https://www.melanchthon-hannover.de/termin/kindergottesdienst-44/2026-02-22/
LOCATION:Melanchthon\, Menschingstr. 12\, Hannover\, 30173\, Deutschland
CATEGORIES:Kindergottesdienst
ATTACH;FMTTYPE=image/png:https://www.melanchthon-hannover.de/wp-content/uploads/2026/01/8.2.26-22.2.26-Kinder-GD.png
END:VEVENT
BEGIN:VEVENT
DTSTART;TZID=Europe/Berlin:20260222T180000
DTEND;TZID=Europe/Berlin:20260222T203000
DTSTAMP:20260425T141832
CREATED:20260124T111616Z
LAST-MODIFIED:20260124T111616Z
UID:10007374-1771783200-1771792200@www.melanchthon-hannover.de
SUMMARY:Melanchthonkino
DESCRIPTION:
URL:https://www.melanchthon-hannover.de/termin/melanchthonkino-3/
LOCATION:Melanchthon\, Menschingstr. 12\, Hannover\, 30173\, Deutschland
CATEGORIES:Kino in der Kirche
ATTACH;FMTTYPE=image/png:https://www.melanchthon-hannover.de/wp-content/uploads/2026/01/22.2.26-Kino-in-Melanchthon.png
END:VEVENT
BEGIN:VEVENT
DTSTART;TZID=Europe/Berlin:20260223T183000
DTEND;TZID=Europe/Berlin:20260223T183000
DTSTAMP:20260425T141832
CREATED:20240724T141125Z
LAST-MODIFIED:20240724T141125Z
UID:10005691-1771871400-1771871400@www.melanchthon-hannover.de
SUMMARY:Meditationsgruppe
DESCRIPTION:
URL:https://www.melanchthon-hannover.de/termin/meditationsgruppe-5/2026-02-23/
LOCATION:Melanchthon – Unterkirche\, Menschingstr. 12\, Hannover\, 30173\, Deutschland
CATEGORIES:Gemeindeveranstaltung
END:VEVENT
BEGIN:VEVENT
DTSTART;TZID=Europe/Berlin:20260223T200000
DTEND;TZID=Europe/Berlin:20260223T213000
DTSTAMP:20260425T141832
CREATED:20230926T114558Z
LAST-MODIFIED:20230926T114558Z
UID:10000585-1771876800-1771882200@www.melanchthon-hannover.de
SUMMARY:Melanchthonchor
DESCRIPTION:
URL:https://www.melanchthon-hannover.de/termin/melanchthonchor-8/2026-02-23/
LOCATION:Melanchthon\, Menschingstr. 12\, Hannover\, 30173\, Deutschland
CATEGORIES:Gemeindeveranstaltung
END:VEVENT
BEGIN:VEVENT
DTSTART;TZID=Europe/Berlin:20260224T170000
DTEND;TZID=Europe/Berlin:20260224T183000
DTSTAMP:20260425T141832
CREATED:20250407T164330Z
LAST-MODIFIED:20250407T164330Z
UID:10006401-1771952400-1771957800@www.melanchthon-hannover.de
SUMMARY:Konfirmandenzeit
DESCRIPTION:
URL:https://www.melanchthon-hannover.de/termin/konfirmandenzeit/2026-02-24/
LOCATION:Melanchthon\, Menschingstr. 12\, Hannover\, 30173\, Deutschland
CATEGORIES:Konfirmanden
END:VEVENT
BEGIN:VEVENT
DTSTART;TZID=Europe/Berlin:20260225T100000
DTEND;TZID=Europe/Berlin:20260225T120000
DTSTAMP:20260425T141832
CREATED:20250407T164812Z
LAST-MODIFIED:20250407T164812Z
UID:10006664-1772013600-1772020800@www.melanchthon-hannover.de
SUMMARY:Malen am Morgen
DESCRIPTION:
URL:https://www.melanchthon-hannover.de/termin/malen-am-morgen-2/2026-02-25/
LOCATION:Melanchthon\, Menschingstr. 12\, Hannover\, 30173\, Deutschland
CATEGORIES:Gemeindeveranstaltung
END:VEVENT
BEGIN:VEVENT
DTSTART;TZID=Europe/Berlin:20260225T183000
DTEND;TZID=Europe/Berlin:20260225T200000
DTSTAMP:20260425T141832
CREATED:20260103T125407Z
LAST-MODIFIED:20260103T125407Z
UID:10007360-1772044200-1772049600@www.melanchthon-hannover.de
SUMMARY:Mittwochsmeditation
DESCRIPTION:Teezeit ab 18.00 Uhr\nBitte anmelden.
URL:https://www.melanchthon-hannover.de/termin/mittwochsmeditation-2/2026-02-25/
LOCATION:Melanchthon\, Menschingstr. 12\, Hannover\, 30173\, Deutschland
CATEGORIES:Kirche der Stille
ATTACH;FMTTYPE=image/png:https://www.melanchthon-hannover.de/wp-content/uploads/2026/01/02.2026-Mittwochsmeditation.png
END:VEVENT
BEGIN:VEVENT
DTSTART;TZID=Europe/Berlin:20260226T160000
DTEND;TZID=Europe/Berlin:20260226T173000
DTSTAMP:20260425T141832
CREATED:20230910T092059Z
LAST-MODIFIED:20230926T115533Z
UID:10000966-1772121600-1772127000@www.melanchthon-hannover.de
SUMMARY:Eltern-Kind-Spielkreis
DESCRIPTION:
URL:https://www.melanchthon-hannover.de/termin/eltern-kind-spielkreis-3/2026-02-26/
LOCATION:Melanchthon – Glasraum\, Menschingstr. 12\, Hannover\, 30173\, Deutschland
CATEGORIES:Gemeindeveranstaltung
END:VEVENT
BEGIN:VEVENT
DTSTART;TZID=Europe/Berlin:20260226T193000
DTEND;TZID=Europe/Berlin:20260226T210000
DTSTAMP:20260425T141832
CREATED:20230926T115242Z
LAST-MODIFIED:20230926T115242Z
UID:10000810-1772134200-1772139600@www.melanchthon-hannover.de
SUMMARY:Männergruppe
DESCRIPTION:
URL:https://www.melanchthon-hannover.de/termin/maennergruppe-4/2026-02-26/
LOCATION:Melanchthon – Unterkirche\, Menschingstr. 12\, Hannover\, 30173\, Deutschland
CATEGORIES:Gemeindeveranstaltung
END:VEVENT
BEGIN:VEVENT
DTSTART;TZID=Europe/Berlin:20260301T100000
DTEND;TZID=Europe/Berlin:20260301T110000
DTSTAMP:20260425T141832
CREATED:20260124T110400Z
LAST-MODIFIED:20260124T110401Z
UID:10007368-1772359200-1772362800@www.melanchthon-hannover.de
SUMMARY:Gottesdienst mit Abendmahl
DESCRIPTION:
URL:https://www.melanchthon-hannover.de/termin/gottesdienst-mit-abendmahl-18/
LOCATION:Melanchthon\, Menschingstr. 12\, Hannover\, 30173\, Deutschland
CATEGORIES:Gottesdienst
ATTACH;FMTTYPE=image/png:https://www.melanchthon-hannover.de/wp-content/uploads/2026/01/1.3.26-Gottesdienst-Szagun.png
END:VEVENT
BEGIN:VEVENT
DTSTART;TZID=Europe/Berlin:20260302T183000
DTEND;TZID=Europe/Berlin:20260302T183000
DTSTAMP:20260425T141832
CREATED:20240724T141125Z
LAST-MODIFIED:20240724T141125Z
UID:10005692-1772476200-1772476200@www.melanchthon-hannover.de
SUMMARY:Meditationsgruppe
DESCRIPTION:
URL:https://www.melanchthon-hannover.de/termin/meditationsgruppe-5/2026-03-02/
LOCATION:Melanchthon – Unterkirche\, Menschingstr. 12\, Hannover\, 30173\, Deutschland
CATEGORIES:Gemeindeveranstaltung
END:VEVENT
BEGIN:VEVENT
DTSTART;TZID=Europe/Berlin:20260302T200000
DTEND;TZID=Europe/Berlin:20260302T213000
DTSTAMP:20260425T141832
CREATED:20230926T114558Z
LAST-MODIFIED:20230926T114558Z
UID:10000586-1772481600-1772487000@www.melanchthon-hannover.de
SUMMARY:Melanchthonchor
DESCRIPTION:
URL:https://www.melanchthon-hannover.de/termin/melanchthonchor-8/2026-03-02/
LOCATION:Melanchthon\, Menschingstr. 12\, Hannover\, 30173\, Deutschland
CATEGORIES:Gemeindeveranstaltung
END:VEVENT
BEGIN:VEVENT
DTSTART;TZID=Europe/Berlin:20260303T170000
DTEND;TZID=Europe/Berlin:20260303T183000
DTSTAMP:20260425T141832
CREATED:20250407T164330Z
LAST-MODIFIED:20250407T164330Z
UID:10006402-1772557200-1772562600@www.melanchthon-hannover.de
SUMMARY:Konfirmandenzeit
DESCRIPTION:
URL:https://www.melanchthon-hannover.de/termin/konfirmandenzeit/2026-03-03/
LOCATION:Melanchthon\, Menschingstr. 12\, Hannover\, 30173\, Deutschland
CATEGORIES:Konfirmanden
END:VEVENT
BEGIN:VEVENT
DTSTART;TZID=Europe/Berlin:20260304T100000
DTEND;TZID=Europe/Berlin:20260304T120000
DTSTAMP:20260425T141832
CREATED:20250407T164812Z
LAST-MODIFIED:20250407T164812Z
UID:10006665-1772618400-1772625600@www.melanchthon-hannover.de
SUMMARY:Malen am Morgen
DESCRIPTION:
URL:https://www.melanchthon-hannover.de/termin/malen-am-morgen-2/2026-03-04/
LOCATION:Melanchthon\, Menschingstr. 12\, Hannover\, 30173\, Deutschland
CATEGORIES:Gemeindeveranstaltung
END:VEVENT
BEGIN:VEVENT
DTSTART;TZID=Europe/Berlin:20260304T150000
DTEND;TZID=Europe/Berlin:20260304T170000
DTSTAMP:20260425T141832
CREATED:20240123T162207Z
LAST-MODIFIED:20240123T162207Z
UID:10001273-1772636400-1772643600@www.melanchthon-hannover.de
SUMMARY:Besuchsdienstkreis
DESCRIPTION:Mittwoch im Monat
URL:https://www.melanchthon-hannover.de/termin/besuchsdienstkreis/2026-03-04/
LOCATION:Melanchthon – Glasraum\, Menschingstr. 12\, Hannover\, 30173\, Deutschland
CATEGORIES:Gemeindeveranstaltung
END:VEVENT
BEGIN:VEVENT
DTSTART;TZID=Europe/Berlin:20260305T160000
DTEND;TZID=Europe/Berlin:20260305T173000
DTSTAMP:20260425T141832
CREATED:20230910T092059Z
LAST-MODIFIED:20230926T115533Z
UID:10000967-1772726400-1772731800@www.melanchthon-hannover.de
SUMMARY:Eltern-Kind-Spielkreis
DESCRIPTION:
URL:https://www.melanchthon-hannover.de/termin/eltern-kind-spielkreis-3/2026-03-05/
LOCATION:Melanchthon – Glasraum\, Menschingstr. 12\, Hannover\, 30173\, Deutschland
CATEGORIES:Gemeindeveranstaltung
END:VEVENT
BEGIN:VEVENT
DTSTART;TZID=Europe/Berlin:20260306T180000
DTEND;TZID=Europe/Berlin:20260306T193000
DTSTAMP:20260425T141832
CREATED:20260124T110838Z
LAST-MODIFIED:20260124T110838Z
UID:10007369-1772820000-1772825400@www.melanchthon-hannover.de
SUMMARY:Gottesdienst zum Weltgebetstag
DESCRIPTION:
URL:https://www.melanchthon-hannover.de/termin/gottesdienst-zum-weltgebetstag-3/
LOCATION:Melanchthon\, Menschingstr. 12\, Hannover\, 30173\, Deutschland
CATEGORIES:Abendgottesdienst
ATTACH;FMTTYPE=image/png:https://www.melanchthon-hannover.de/wp-content/uploads/2026/01/6.3.26-WGT-Nigeria.png
END:VEVENT
BEGIN:VEVENT
DTSTART;TZID=Europe/Berlin:20260307T100000
DTEND;TZID=Europe/Berlin:20260307T120000
DTSTAMP:20260425T141832
CREATED:20250407T165209Z
LAST-MODIFIED:20250407T165209Z
UID:10006951-1772877600-1772884800@www.melanchthon-hannover.de
SUMMARY:Kinderkunst
DESCRIPTION:
URL:https://www.melanchthon-hannover.de/termin/kinderkunst-6/2026-03-07/
LOCATION:Melanchthon\, Menschingstr. 12\, Hannover\, 30173\, Deutschland
CATEGORIES:Gemeindeveranstaltung
END:VEVENT
BEGIN:VEVENT
DTSTART;TZID=Europe/Berlin:20260307T100000
DTEND;TZID=Europe/Berlin:20260307T120000
DTSTAMP:20260425T141832
CREATED:20251002T104027Z
LAST-MODIFIED:20251002T104027Z
UID:10006890-1772877600-1772884800@www.melanchthon-hannover.de
SUMMARY:Marktcafé
DESCRIPTION:
URL:https://www.melanchthon-hannover.de/termin/marktcafe-4-2/2026-03-07/
LOCATION:Melanchthon\, Menschingstr. 12\, Hannover\, 30173\, Deutschland
CATEGORIES:Gemeindeveranstaltung
ATTACH;FMTTYPE=image/png:https://www.melanchthon-hannover.de/wp-content/uploads/2025/04/Markcafe.png
END:VEVENT
BEGIN:VEVENT
DTSTART;TZID=Europe/Berlin:20260309T183000
DTEND;TZID=Europe/Berlin:20260309T183000
DTSTAMP:20260425T141832
CREATED:20240724T141125Z
LAST-MODIFIED:20240724T141125Z
UID:10005693-1773081000-1773081000@www.melanchthon-hannover.de
SUMMARY:Meditationsgruppe
DESCRIPTION:
URL:https://www.melanchthon-hannover.de/termin/meditationsgruppe-5/2026-03-09/
LOCATION:Melanchthon – Unterkirche\, Menschingstr. 12\, Hannover\, 30173\, Deutschland
CATEGORIES:Gemeindeveranstaltung
END:VEVENT
BEGIN:VEVENT
DTSTART;TZID=Europe/Berlin:20260309T200000
DTEND;TZID=Europe/Berlin:20260309T213000
DTSTAMP:20260425T141832
CREATED:20230926T114558Z
LAST-MODIFIED:20230926T114558Z
UID:10000587-1773086400-1773091800@www.melanchthon-hannover.de
SUMMARY:Melanchthonchor
DESCRIPTION:
URL:https://www.melanchthon-hannover.de/termin/melanchthonchor-8/2026-03-09/
LOCATION:Melanchthon\, Menschingstr. 12\, Hannover\, 30173\, Deutschland
CATEGORIES:Gemeindeveranstaltung
END:VEVENT
BEGIN:VEVENT
DTSTART;TZID=Europe/Berlin:20260310T170000
DTEND;TZID=Europe/Berlin:20260310T183000
DTSTAMP:20260425T141832
CREATED:20250407T164330Z
LAST-MODIFIED:20250407T164330Z
UID:10006403-1773162000-1773167400@www.melanchthon-hannover.de
SUMMARY:Konfirmandenzeit
DESCRIPTION:
URL:https://www.melanchthon-hannover.de/termin/konfirmandenzeit/2026-03-10/
LOCATION:Melanchthon\, Menschingstr. 12\, Hannover\, 30173\, Deutschland
CATEGORIES:Konfirmanden
END:VEVENT
BEGIN:VEVENT
DTSTART;TZID=Europe/Berlin:20260311T100000
DTEND;TZID=Europe/Berlin:20260311T120000
DTSTAMP:20260425T141832
CREATED:20250407T164812Z
LAST-MODIFIED:20250407T164812Z
UID:10006666-1773223200-1773230400@www.melanchthon-hannover.de
SUMMARY:Malen am Morgen
DESCRIPTION:
URL:https://www.melanchthon-hannover.de/termin/malen-am-morgen-2/2026-03-11/
LOCATION:Melanchthon\, Menschingstr. 12\, Hannover\, 30173\, Deutschland
CATEGORIES:Gemeindeveranstaltung
END:VEVENT
END:VCALENDAR