BEGIN:VCALENDAR
VERSION:2.0
PRODID:-//Melanchthon-Gemeinde - ECPv6.15.20//NONSGML v1.0//EN
CALSCALE:GREGORIAN
METHOD:PUBLISH
X-WR-CALNAME:Melanchthon-Gemeinde
X-ORIGINAL-URL:https://www.melanchthon-hannover.de
X-WR-CALDESC:Veranstaltungen für Melanchthon-Gemeinde
REFRESH-INTERVAL;VALUE=DURATION:PT1H
X-Robots-Tag:noindex
X-PUBLISHED-TTL:PT1H
BEGIN:VTIMEZONE
TZID:Europe/Berlin
BEGIN:DAYLIGHT
TZOFFSETFROM:+0100
TZOFFSETTO:+0200
TZNAME:CEST
DTSTART:20240331T010000
END:DAYLIGHT
BEGIN:STANDARD
TZOFFSETFROM:+0200
TZOFFSETTO:+0100
TZNAME:CET
DTSTART:20241027T010000
END:STANDARD
BEGIN:DAYLIGHT
TZOFFSETFROM:+0100
TZOFFSETTO:+0200
TZNAME:CEST
DTSTART:20250330T010000
END:DAYLIGHT
BEGIN:STANDARD
TZOFFSETFROM:+0200
TZOFFSETTO:+0100
TZNAME:CET
DTSTART:20251026T010000
END:STANDARD
BEGIN:DAYLIGHT
TZOFFSETFROM:+0100
TZOFFSETTO:+0200
TZNAME:CEST
DTSTART:20260329T010000
END:DAYLIGHT
BEGIN:STANDARD
TZOFFSETFROM:+0200
TZOFFSETTO:+0100
TZNAME:CET
DTSTART:20261025T010000
END:STANDARD
BEGIN:DAYLIGHT
TZOFFSETFROM:+0100
TZOFFSETTO:+0200
TZNAME:CEST
DTSTART:20270328T010000
END:DAYLIGHT
BEGIN:STANDARD
TZOFFSETFROM:+0200
TZOFFSETTO:+0100
TZNAME:CET
DTSTART:20271031T010000
END:STANDARD
END:VTIMEZONE
BEGIN:VEVENT
DTSTART;TZID=Europe/Berlin:20251222T183000
DTEND;TZID=Europe/Berlin:20251222T183000
DTSTAMP:20260425T213937
CREATED:20240724T141125Z
LAST-MODIFIED:20240724T141125Z
UID:10005682-1766428200-1766428200@www.melanchthon-hannover.de
SUMMARY:Meditationsgruppe
DESCRIPTION:
URL:https://www.melanchthon-hannover.de/termin/meditationsgruppe-5/2025-12-22/
LOCATION:Melanchthon – Unterkirche\, Menschingstr. 12\, Hannover\, 30173\, Deutschland
CATEGORIES:Gemeindeveranstaltung
END:VEVENT
BEGIN:VEVENT
DTSTART;TZID=Europe/Berlin:20251222T200000
DTEND;TZID=Europe/Berlin:20251222T213000
DTSTAMP:20260425T213937
CREATED:20230926T114558Z
LAST-MODIFIED:20230926T114558Z
UID:10000576-1766433600-1766439000@www.melanchthon-hannover.de
SUMMARY:Melanchthonchor
DESCRIPTION:
URL:https://www.melanchthon-hannover.de/termin/melanchthonchor-8/2025-12-22/
LOCATION:Melanchthon\, Menschingstr. 12\, Hannover\, 30173\, Deutschland
CATEGORIES:Gemeindeveranstaltung
END:VEVENT
BEGIN:VEVENT
DTSTART;TZID=Europe/Berlin:20251223T170000
DTEND;TZID=Europe/Berlin:20251223T183000
DTSTAMP:20260425T213937
CREATED:20250407T164330Z
LAST-MODIFIED:20250407T164330Z
UID:10006392-1766509200-1766514600@www.melanchthon-hannover.de
SUMMARY:Konfirmandenzeit
DESCRIPTION:
URL:https://www.melanchthon-hannover.de/termin/konfirmandenzeit/2025-12-23/
LOCATION:Melanchthon\, Menschingstr. 12\, Hannover\, 30173\, Deutschland
CATEGORIES:Konfirmanden
END:VEVENT
BEGIN:VEVENT
DTSTART;TZID=Europe/Berlin:20251224T111500
DTEND;TZID=Europe/Berlin:20251224T121500
DTSTAMP:20260425T213937
CREATED:20251029T102433Z
LAST-MODIFIED:20251218T212655Z
UID:10007314-1766574900-1766578500@www.melanchthon-hannover.de
SUMMARY:Krabbelgottesdienst
DESCRIPTION:
URL:https://www.melanchthon-hannover.de/termin/krabbelgottesdienst-3/
LOCATION:Melanchthon\, Menschingstr. 12\, Hannover\, 30173\, Deutschland
CATEGORIES:Kindergottesdienst
ATTACH;FMTTYPE=image/png:https://www.melanchthon-hannover.de/wp-content/uploads/2025/12/24.12.25-Heiligabend.png
END:VEVENT
BEGIN:VEVENT
DTSTART;TZID=Europe/Berlin:20251224T153000
DTEND;TZID=Europe/Berlin:20251224T163000
DTSTAMP:20260425T213937
CREATED:20251029T102603Z
LAST-MODIFIED:20251218T212744Z
UID:10007315-1766590200-1766593800@www.melanchthon-hannover.de
SUMMARY:Krippenspiel
DESCRIPTION:
URL:https://www.melanchthon-hannover.de/termin/krippenspiel-2/
LOCATION:Melanchthon\, Menschingstr. 12\, Hannover\, 30173\, Deutschland
CATEGORIES:Kindergottesdienst
ATTACH;FMTTYPE=image/png:https://www.melanchthon-hannover.de/wp-content/uploads/2025/12/24.12.25-Heiligabend.png
END:VEVENT
BEGIN:VEVENT
DTSTART;TZID=Europe/Berlin:20251224T170000
DTEND;TZID=Europe/Berlin:20251224T180000
DTSTAMP:20260425T213937
CREATED:20251029T102243Z
LAST-MODIFIED:20251218T212814Z
UID:10007313-1766595600-1766599200@www.melanchthon-hannover.de
SUMMARY:Christvesper
DESCRIPTION:
URL:https://www.melanchthon-hannover.de/termin/christvesper-2/
LOCATION:Melanchthon\, Menschingstr. 12\, Hannover\, 30173\, Deutschland
CATEGORIES:Abendgottesdienst
ATTACH;FMTTYPE=image/png:https://www.melanchthon-hannover.de/wp-content/uploads/2025/12/24.12.25-Heiligabend.png
END:VEVENT
BEGIN:VEVENT
DTSTART;TZID=Europe/Berlin:20251225T110000
DTEND;TZID=Europe/Berlin:20251225T120000
DTSTAMP:20260425T213937
CREATED:20251029T102030Z
LAST-MODIFIED:20251219T193437Z
UID:10007312-1766660400-1766664000@www.melanchthon-hannover.de
SUMMARY:Gottesdienst
DESCRIPTION:
URL:https://www.melanchthon-hannover.de/termin/gottesdienst-67/
LOCATION:Melanchthon\, Menschingstr. 12\, Hannover\, 30173\, Deutschland
CATEGORIES:Gottesdienst
ATTACH;FMTTYPE=image/png:https://www.melanchthon-hannover.de/wp-content/uploads/2025/12/25.12.25-GD.png
END:VEVENT
BEGIN:VEVENT
DTSTART;TZID=Europe/Berlin:20251225T160000
DTEND;TZID=Europe/Berlin:20251225T173000
DTSTAMP:20260425T213937
CREATED:20230910T092059Z
LAST-MODIFIED:20230926T115533Z
UID:10000957-1766678400-1766683800@www.melanchthon-hannover.de
SUMMARY:Eltern-Kind-Spielkreis
DESCRIPTION:
URL:https://www.melanchthon-hannover.de/termin/eltern-kind-spielkreis-3/2025-12-25/
LOCATION:Melanchthon – Glasraum\, Menschingstr. 12\, Hannover\, 30173\, Deutschland
CATEGORIES:Gemeindeveranstaltung
END:VEVENT
BEGIN:VEVENT
DTSTART;TZID=Europe/Berlin:20251225T193000
DTEND;TZID=Europe/Berlin:20251225T210000
DTSTAMP:20260425T213937
CREATED:20230926T115242Z
LAST-MODIFIED:20230926T115242Z
UID:10000808-1766691000-1766696400@www.melanchthon-hannover.de
SUMMARY:Männergruppe
DESCRIPTION:
URL:https://www.melanchthon-hannover.de/termin/maennergruppe-4/2025-12-25/
LOCATION:Melanchthon – Unterkirche\, Menschingstr. 12\, Hannover\, 30173\, Deutschland
CATEGORIES:Gemeindeveranstaltung
END:VEVENT
BEGIN:VEVENT
DTSTART;TZID=Europe/Berlin:20251229T183000
DTEND;TZID=Europe/Berlin:20251229T183000
DTSTAMP:20260425T213937
CREATED:20240724T141125Z
LAST-MODIFIED:20240724T141125Z
UID:10005683-1767033000-1767033000@www.melanchthon-hannover.de
SUMMARY:Meditationsgruppe
DESCRIPTION:
URL:https://www.melanchthon-hannover.de/termin/meditationsgruppe-5/2025-12-29/
LOCATION:Melanchthon – Unterkirche\, Menschingstr. 12\, Hannover\, 30173\, Deutschland
CATEGORIES:Gemeindeveranstaltung
END:VEVENT
BEGIN:VEVENT
DTSTART;TZID=Europe/Berlin:20251229T200000
DTEND;TZID=Europe/Berlin:20251229T213000
DTSTAMP:20260425T213937
CREATED:20230926T114558Z
LAST-MODIFIED:20230926T114558Z
UID:10000577-1767038400-1767043800@www.melanchthon-hannover.de
SUMMARY:Melanchthonchor
DESCRIPTION:
URL:https://www.melanchthon-hannover.de/termin/melanchthonchor-8/2025-12-29/
LOCATION:Melanchthon\, Menschingstr. 12\, Hannover\, 30173\, Deutschland
CATEGORIES:Gemeindeveranstaltung
END:VEVENT
BEGIN:VEVENT
DTSTART;TZID=Europe/Berlin:20251230T170000
DTEND;TZID=Europe/Berlin:20251230T183000
DTSTAMP:20260425T213937
CREATED:20250407T164330Z
LAST-MODIFIED:20250407T164330Z
UID:10006393-1767114000-1767119400@www.melanchthon-hannover.de
SUMMARY:Konfirmandenzeit
DESCRIPTION:
URL:https://www.melanchthon-hannover.de/termin/konfirmandenzeit/2025-12-30/
LOCATION:Melanchthon\, Menschingstr. 12\, Hannover\, 30173\, Deutschland
CATEGORIES:Konfirmanden
END:VEVENT
BEGIN:VEVENT
DTSTART;TZID=Europe/Berlin:20251231T100000
DTEND;TZID=Europe/Berlin:20251231T120000
DTSTAMP:20260425T213937
CREATED:20250407T164812Z
LAST-MODIFIED:20250407T164812Z
UID:10006656-1767175200-1767182400@www.melanchthon-hannover.de
SUMMARY:Malen am Morgen
DESCRIPTION:
URL:https://www.melanchthon-hannover.de/termin/malen-am-morgen-2/2025-12-31/
LOCATION:Melanchthon\, Menschingstr. 12\, Hannover\, 30173\, Deutschland
CATEGORIES:Gemeindeveranstaltung
END:VEVENT
BEGIN:VEVENT
DTSTART;TZID=Europe/Berlin:20251231T170000
DTEND;TZID=Europe/Berlin:20251231T180000
DTSTAMP:20260425T213937
CREATED:20251029T101817Z
LAST-MODIFIED:20251029T101913Z
UID:10007311-1767200400-1767204000@www.melanchthon-hannover.de
SUMMARY:Gottesdienst
DESCRIPTION:
URL:https://www.melanchthon-hannover.de/termin/gottesdienst-66/
LOCATION:Melanchthon\, Menschingstr. 12\, Hannover\, 30173\, Deutschland
CATEGORIES:Abendgottesdienst
ATTACH;FMTTYPE=image/png:https://www.melanchthon-hannover.de/wp-content/uploads/2025/10/31.12.25-GD.png
END:VEVENT
BEGIN:VEVENT
DTSTART;TZID=Europe/Berlin:20260101T160000
DTEND;TZID=Europe/Berlin:20260101T173000
DTSTAMP:20260425T213937
CREATED:20230910T092059Z
LAST-MODIFIED:20230926T115533Z
UID:10000958-1767283200-1767288600@www.melanchthon-hannover.de
SUMMARY:Eltern-Kind-Spielkreis
DESCRIPTION:
URL:https://www.melanchthon-hannover.de/termin/eltern-kind-spielkreis-3/2026-01-01/
LOCATION:Melanchthon – Glasraum\, Menschingstr. 12\, Hannover\, 30173\, Deutschland
CATEGORIES:Gemeindeveranstaltung
END:VEVENT
BEGIN:VEVENT
DTSTART;TZID=Europe/Berlin:20260103T100000
DTEND;TZID=Europe/Berlin:20260103T120000
DTSTAMP:20260425T213937
CREATED:20250407T165209Z
LAST-MODIFIED:20250407T165209Z
UID:10006949-1767434400-1767441600@www.melanchthon-hannover.de
SUMMARY:Kinderkunst
DESCRIPTION:
URL:https://www.melanchthon-hannover.de/termin/kinderkunst-6/2026-01-03/
LOCATION:Melanchthon\, Menschingstr. 12\, Hannover\, 30173\, Deutschland
CATEGORIES:Gemeindeveranstaltung
END:VEVENT
BEGIN:VEVENT
DTSTART;TZID=Europe/Berlin:20260103T100000
DTEND;TZID=Europe/Berlin:20260103T120000
DTSTAMP:20260425T213937
CREATED:20251002T104027Z
LAST-MODIFIED:20251002T104027Z
UID:10006888-1767434400-1767441600@www.melanchthon-hannover.de
SUMMARY:Marktcafé
DESCRIPTION:
URL:https://www.melanchthon-hannover.de/termin/marktcafe-4-2/2026-01-03/
LOCATION:Melanchthon\, Menschingstr. 12\, Hannover\, 30173\, Deutschland
CATEGORIES:Gemeindeveranstaltung
ATTACH;FMTTYPE=image/png:https://www.melanchthon-hannover.de/wp-content/uploads/2025/04/Markcafe.png
END:VEVENT
BEGIN:VEVENT
DTSTART;TZID=Europe/Berlin:20260105T183000
DTEND;TZID=Europe/Berlin:20260105T183000
DTSTAMP:20260425T213937
CREATED:20240724T141125Z
LAST-MODIFIED:20240724T141125Z
UID:10005684-1767637800-1767637800@www.melanchthon-hannover.de
SUMMARY:Meditationsgruppe
DESCRIPTION:
URL:https://www.melanchthon-hannover.de/termin/meditationsgruppe-5/2026-01-05/
LOCATION:Melanchthon – Unterkirche\, Menschingstr. 12\, Hannover\, 30173\, Deutschland
CATEGORIES:Gemeindeveranstaltung
END:VEVENT
BEGIN:VEVENT
DTSTART;TZID=Europe/Berlin:20260105T200000
DTEND;TZID=Europe/Berlin:20260105T213000
DTSTAMP:20260425T213937
CREATED:20230926T114558Z
LAST-MODIFIED:20230926T114558Z
UID:10000578-1767643200-1767648600@www.melanchthon-hannover.de
SUMMARY:Melanchthonchor
DESCRIPTION:
URL:https://www.melanchthon-hannover.de/termin/melanchthonchor-8/2026-01-05/
LOCATION:Melanchthon\, Menschingstr. 12\, Hannover\, 30173\, Deutschland
CATEGORIES:Gemeindeveranstaltung
END:VEVENT
BEGIN:VEVENT
DTSTART;TZID=Europe/Berlin:20260106T170000
DTEND;TZID=Europe/Berlin:20260106T183000
DTSTAMP:20260425T213937
CREATED:20250407T164330Z
LAST-MODIFIED:20250407T164330Z
UID:10006394-1767718800-1767724200@www.melanchthon-hannover.de
SUMMARY:Konfirmandenzeit
DESCRIPTION:
URL:https://www.melanchthon-hannover.de/termin/konfirmandenzeit/2026-01-06/
LOCATION:Melanchthon\, Menschingstr. 12\, Hannover\, 30173\, Deutschland
CATEGORIES:Konfirmanden
END:VEVENT
BEGIN:VEVENT
DTSTART;TZID=Europe/Berlin:20260107T100000
DTEND;TZID=Europe/Berlin:20260107T120000
DTSTAMP:20260425T213937
CREATED:20250407T164812Z
LAST-MODIFIED:20250407T164812Z
UID:10006657-1767780000-1767787200@www.melanchthon-hannover.de
SUMMARY:Malen am Morgen
DESCRIPTION:
URL:https://www.melanchthon-hannover.de/termin/malen-am-morgen-2/2026-01-07/
LOCATION:Melanchthon\, Menschingstr. 12\, Hannover\, 30173\, Deutschland
CATEGORIES:Gemeindeveranstaltung
END:VEVENT
BEGIN:VEVENT
DTSTART;TZID=Europe/Berlin:20260107T150000
DTEND;TZID=Europe/Berlin:20260107T170000
DTSTAMP:20260425T213937
CREATED:20240123T162207Z
LAST-MODIFIED:20240123T162207Z
UID:10001271-1767798000-1767805200@www.melanchthon-hannover.de
SUMMARY:Besuchsdienstkreis
DESCRIPTION:Mittwoch im Monat
URL:https://www.melanchthon-hannover.de/termin/besuchsdienstkreis/2026-01-07/
LOCATION:Melanchthon – Glasraum\, Menschingstr. 12\, Hannover\, 30173\, Deutschland
CATEGORIES:Gemeindeveranstaltung
END:VEVENT
BEGIN:VEVENT
DTSTART;TZID=Europe/Berlin:20260108T160000
DTEND;TZID=Europe/Berlin:20260108T173000
DTSTAMP:20260425T213937
CREATED:20230910T092059Z
LAST-MODIFIED:20230926T115533Z
UID:10000959-1767888000-1767893400@www.melanchthon-hannover.de
SUMMARY:Eltern-Kind-Spielkreis
DESCRIPTION:
URL:https://www.melanchthon-hannover.de/termin/eltern-kind-spielkreis-3/2026-01-08/
LOCATION:Melanchthon – Glasraum\, Menschingstr. 12\, Hannover\, 30173\, Deutschland
CATEGORIES:Gemeindeveranstaltung
END:VEVENT
BEGIN:VEVENT
DTSTART;TZID=Europe/Berlin:20260108T193000
DTEND;TZID=Europe/Berlin:20260108T213000
DTSTAMP:20260425T213937
CREATED:20240329T122045Z
LAST-MODIFIED:20240329T122045Z
UID:10004334-1767900600-1767907800@www.melanchthon-hannover.de
SUMMARY:Männergruppe
DESCRIPTION:
URL:https://www.melanchthon-hannover.de/termin/maennergruppe-5/2026-01-08/
LOCATION:Melanchthon – Unterkirche\, Menschingstr. 12\, Hannover\, 30173\, Deutschland
CATEGORIES:Gemeindeveranstaltung
END:VEVENT
BEGIN:VEVENT
DTSTART;TZID=Europe/Berlin:20260111T100000
DTEND;TZID=Europe/Berlin:20260111T110000
DTSTAMP:20260425T213937
CREATED:20260103T104203Z
LAST-MODIFIED:20260103T122754Z
UID:10007353-1768125600-1768129200@www.melanchthon-hannover.de
SUMMARY:Kindergottesdienst
DESCRIPTION:
URL:https://www.melanchthon-hannover.de/termin/kindergottesdienst-42/
LOCATION:Melanchthon\, Menschingstr. 12\, Hannover\, 30173\, Deutschland
CATEGORIES:Kindergottesdienst
ATTACH;FMTTYPE=image/png:https://www.melanchthon-hannover.de/wp-content/uploads/2026/01/01.2026-Kinder-GD.png
END:VEVENT
BEGIN:VEVENT
DTSTART;TZID=Europe/Berlin:20260112T183000
DTEND;TZID=Europe/Berlin:20260112T183000
DTSTAMP:20260425T213937
CREATED:20240724T141125Z
LAST-MODIFIED:20240724T141125Z
UID:10005685-1768242600-1768242600@www.melanchthon-hannover.de
SUMMARY:Meditationsgruppe
DESCRIPTION:
URL:https://www.melanchthon-hannover.de/termin/meditationsgruppe-5/2026-01-12/
LOCATION:Melanchthon – Unterkirche\, Menschingstr. 12\, Hannover\, 30173\, Deutschland
CATEGORIES:Gemeindeveranstaltung
END:VEVENT
BEGIN:VEVENT
DTSTART;TZID=Europe/Berlin:20260112T200000
DTEND;TZID=Europe/Berlin:20260112T213000
DTSTAMP:20260425T213937
CREATED:20230926T114558Z
LAST-MODIFIED:20230926T114558Z
UID:10000579-1768248000-1768253400@www.melanchthon-hannover.de
SUMMARY:Melanchthonchor
DESCRIPTION:
URL:https://www.melanchthon-hannover.de/termin/melanchthonchor-8/2026-01-12/
LOCATION:Melanchthon\, Menschingstr. 12\, Hannover\, 30173\, Deutschland
CATEGORIES:Gemeindeveranstaltung
END:VEVENT
BEGIN:VEVENT
DTSTART;TZID=Europe/Berlin:20260113T170000
DTEND;TZID=Europe/Berlin:20260113T183000
DTSTAMP:20260425T213937
CREATED:20250407T164330Z
LAST-MODIFIED:20250407T164330Z
UID:10006395-1768323600-1768329000@www.melanchthon-hannover.de
SUMMARY:Konfirmandenzeit
DESCRIPTION:
URL:https://www.melanchthon-hannover.de/termin/konfirmandenzeit/2026-01-13/
LOCATION:Melanchthon\, Menschingstr. 12\, Hannover\, 30173\, Deutschland
CATEGORIES:Konfirmanden
END:VEVENT
BEGIN:VEVENT
DTSTART;TZID=Europe/Berlin:20260114T100000
DTEND;TZID=Europe/Berlin:20260114T120000
DTSTAMP:20260425T213937
CREATED:20250407T164812Z
LAST-MODIFIED:20250407T164812Z
UID:10006658-1768384800-1768392000@www.melanchthon-hannover.de
SUMMARY:Malen am Morgen
DESCRIPTION:
URL:https://www.melanchthon-hannover.de/termin/malen-am-morgen-2/2026-01-14/
LOCATION:Melanchthon\, Menschingstr. 12\, Hannover\, 30173\, Deutschland
CATEGORIES:Gemeindeveranstaltung
END:VEVENT
BEGIN:VEVENT
DTSTART;TZID=Europe/Berlin:20260114T183000
DTEND;TZID=Europe/Berlin:20260114T200000
DTSTAMP:20260425T213937
CREATED:20260103T105317Z
LAST-MODIFIED:20260103T125237Z
UID:10007357-1768415400-1768420800@www.melanchthon-hannover.de
SUMMARY:Mittwochsmeditation
DESCRIPTION:Teezeit ab 18.00 Uhr\nBitte anmelden.
URL:https://www.melanchthon-hannover.de/termin/mittwochsmeditation/2026-01-14/
LOCATION:Melanchthon\, Menschingstr. 12\, Hannover\, 30173\, Deutschland
CATEGORIES:Kirche der Stille
ATTACH;FMTTYPE=image/png:https://www.melanchthon-hannover.de/wp-content/uploads/2026/01/01.2026-Mittwochsmeditation-2.png
END:VEVENT
END:VCALENDAR