BEGIN:VCALENDAR
VERSION:2.0
PRODID:-//Melanchthon-Gemeinde - ECPv6.15.20//NONSGML v1.0//EN
CALSCALE:GREGORIAN
METHOD:PUBLISH
X-WR-CALNAME:Melanchthon-Gemeinde
X-ORIGINAL-URL:https://www.melanchthon-hannover.de
X-WR-CALDESC:Veranstaltungen für Melanchthon-Gemeinde
REFRESH-INTERVAL;VALUE=DURATION:PT1H
X-Robots-Tag:noindex
X-PUBLISHED-TTL:PT1H
BEGIN:VTIMEZONE
TZID:Europe/Berlin
BEGIN:DAYLIGHT
TZOFFSETFROM:+0100
TZOFFSETTO:+0200
TZNAME:CEST
DTSTART:20240331T010000
END:DAYLIGHT
BEGIN:STANDARD
TZOFFSETFROM:+0200
TZOFFSETTO:+0100
TZNAME:CET
DTSTART:20241027T010000
END:STANDARD
BEGIN:DAYLIGHT
TZOFFSETFROM:+0100
TZOFFSETTO:+0200
TZNAME:CEST
DTSTART:20250330T010000
END:DAYLIGHT
BEGIN:STANDARD
TZOFFSETFROM:+0200
TZOFFSETTO:+0100
TZNAME:CET
DTSTART:20251026T010000
END:STANDARD
BEGIN:DAYLIGHT
TZOFFSETFROM:+0100
TZOFFSETTO:+0200
TZNAME:CEST
DTSTART:20260329T010000
END:DAYLIGHT
BEGIN:STANDARD
TZOFFSETFROM:+0200
TZOFFSETTO:+0100
TZNAME:CET
DTSTART:20261025T010000
END:STANDARD
END:VTIMEZONE
BEGIN:VEVENT
DTSTART;TZID=Europe/Berlin:20251020T183000
DTEND;TZID=Europe/Berlin:20251020T183000
DTSTAMP:20260425T230745
CREATED:20240724T141125Z
LAST-MODIFIED:20240724T141125Z
UID:10005673-1760985000-1760985000@www.melanchthon-hannover.de
SUMMARY:Meditationsgruppe
DESCRIPTION:
URL:https://www.melanchthon-hannover.de/termin/meditationsgruppe-5/2025-10-20/
LOCATION:Melanchthon – Unterkirche\, Menschingstr. 12\, Hannover\, 30173\, Deutschland
CATEGORIES:Gemeindeveranstaltung
END:VEVENT
BEGIN:VEVENT
DTSTART;TZID=Europe/Berlin:20251020T200000
DTEND;TZID=Europe/Berlin:20251020T213000
DTSTAMP:20260425T230745
CREATED:20230926T114558Z
LAST-MODIFIED:20230926T114558Z
UID:10000567-1760990400-1760995800@www.melanchthon-hannover.de
SUMMARY:Melanchthonchor
DESCRIPTION:
URL:https://www.melanchthon-hannover.de/termin/melanchthonchor-8/2025-10-20/
LOCATION:Melanchthon\, Menschingstr. 12\, Hannover\, 30173\, Deutschland
CATEGORIES:Gemeindeveranstaltung
END:VEVENT
BEGIN:VEVENT
DTSTART;TZID=Europe/Berlin:20251021T170000
DTEND;TZID=Europe/Berlin:20251021T183000
DTSTAMP:20260425T230745
CREATED:20250407T164330Z
LAST-MODIFIED:20250407T164330Z
UID:10006383-1761066000-1761071400@www.melanchthon-hannover.de
SUMMARY:Konfirmandenzeit
DESCRIPTION:
URL:https://www.melanchthon-hannover.de/termin/konfirmandenzeit/2025-10-21/
LOCATION:Melanchthon\, Menschingstr. 12\, Hannover\, 30173\, Deutschland
CATEGORIES:Konfirmanden
END:VEVENT
BEGIN:VEVENT
DTSTART;TZID=Europe/Berlin:20251022T100000
DTEND;TZID=Europe/Berlin:20251022T120000
DTSTAMP:20260425T230745
CREATED:20250407T164812Z
LAST-MODIFIED:20250407T164812Z
UID:10006646-1761127200-1761134400@www.melanchthon-hannover.de
SUMMARY:Malen am Morgen
DESCRIPTION:
URL:https://www.melanchthon-hannover.de/termin/malen-am-morgen-2/2025-10-22/
LOCATION:Melanchthon\, Menschingstr. 12\, Hannover\, 30173\, Deutschland
CATEGORIES:Gemeindeveranstaltung
END:VEVENT
BEGIN:VEVENT
DTSTART;TZID=Europe/Berlin:20251023T160000
DTEND;TZID=Europe/Berlin:20251023T173000
DTSTAMP:20260425T230745
CREATED:20230910T092059Z
LAST-MODIFIED:20230926T115533Z
UID:10000948-1761235200-1761240600@www.melanchthon-hannover.de
SUMMARY:Eltern-Kind-Spielkreis
DESCRIPTION:
URL:https://www.melanchthon-hannover.de/termin/eltern-kind-spielkreis-3/2025-10-23/
LOCATION:Melanchthon – Glasraum\, Menschingstr. 12\, Hannover\, 30173\, Deutschland
CATEGORIES:Gemeindeveranstaltung
END:VEVENT
BEGIN:VEVENT
DTSTART;TZID=Europe/Berlin:20251023T193000
DTEND;TZID=Europe/Berlin:20251023T210000
DTSTAMP:20260425T230745
CREATED:20230926T115242Z
LAST-MODIFIED:20230926T115242Z
UID:10000806-1761247800-1761253200@www.melanchthon-hannover.de
SUMMARY:Männergruppe
DESCRIPTION:
URL:https://www.melanchthon-hannover.de/termin/maennergruppe-4/2025-10-23/
LOCATION:Melanchthon – Unterkirche\, Menschingstr. 12\, Hannover\, 30173\, Deutschland
CATEGORIES:Gemeindeveranstaltung
END:VEVENT
BEGIN:VEVENT
DTSTART;TZID=Europe/Berlin:20251026T180000
DTEND;TZID=Europe/Berlin:20251026T210000
DTSTAMP:20260425T230745
CREATED:20251002T115624Z
LAST-MODIFIED:20251002T195709Z
UID:10007305-1761501600-1761512400@www.melanchthon-hannover.de
SUMMARY:Kino in Melanchthon
DESCRIPTION:
URL:https://www.melanchthon-hannover.de/termin/kino-in-melanchthon/
LOCATION:Melanchthon\, Menschingstr. 12\, Hannover\, 30173\, Deutschland
CATEGORIES:Gemeindeveranstaltung
ATTACH;FMTTYPE=image/png:https://www.melanchthon-hannover.de/wp-content/uploads/2025/10/Kino-in-Melanchthon.png
END:VEVENT
BEGIN:VEVENT
DTSTART;TZID=Europe/Berlin:20251027T183000
DTEND;TZID=Europe/Berlin:20251027T183000
DTSTAMP:20260425T230745
CREATED:20240724T141125Z
LAST-MODIFIED:20240724T141125Z
UID:10005674-1761589800-1761589800@www.melanchthon-hannover.de
SUMMARY:Meditationsgruppe
DESCRIPTION:
URL:https://www.melanchthon-hannover.de/termin/meditationsgruppe-5/2025-10-27/
LOCATION:Melanchthon – Unterkirche\, Menschingstr. 12\, Hannover\, 30173\, Deutschland
CATEGORIES:Gemeindeveranstaltung
END:VEVENT
BEGIN:VEVENT
DTSTART;TZID=Europe/Berlin:20251027T200000
DTEND;TZID=Europe/Berlin:20251027T213000
DTSTAMP:20260425T230745
CREATED:20230926T114558Z
LAST-MODIFIED:20230926T114558Z
UID:10000568-1761595200-1761600600@www.melanchthon-hannover.de
SUMMARY:Melanchthonchor
DESCRIPTION:
URL:https://www.melanchthon-hannover.de/termin/melanchthonchor-8/2025-10-27/
LOCATION:Melanchthon\, Menschingstr. 12\, Hannover\, 30173\, Deutschland
CATEGORIES:Gemeindeveranstaltung
END:VEVENT
BEGIN:VEVENT
DTSTART;TZID=Europe/Berlin:20251028T170000
DTEND;TZID=Europe/Berlin:20251028T183000
DTSTAMP:20260425T230745
CREATED:20250407T164330Z
LAST-MODIFIED:20250407T164330Z
UID:10006384-1761670800-1761676200@www.melanchthon-hannover.de
SUMMARY:Konfirmandenzeit
DESCRIPTION:
URL:https://www.melanchthon-hannover.de/termin/konfirmandenzeit/2025-10-28/
LOCATION:Melanchthon\, Menschingstr. 12\, Hannover\, 30173\, Deutschland
CATEGORIES:Konfirmanden
END:VEVENT
BEGIN:VEVENT
DTSTART;TZID=Europe/Berlin:20251029T100000
DTEND;TZID=Europe/Berlin:20251029T120000
DTSTAMP:20260425T230745
CREATED:20250407T164812Z
LAST-MODIFIED:20250407T164812Z
UID:10006647-1761732000-1761739200@www.melanchthon-hannover.de
SUMMARY:Malen am Morgen
DESCRIPTION:
URL:https://www.melanchthon-hannover.de/termin/malen-am-morgen-2/2025-10-29/
LOCATION:Melanchthon\, Menschingstr. 12\, Hannover\, 30173\, Deutschland
CATEGORIES:Gemeindeveranstaltung
END:VEVENT
BEGIN:VEVENT
DTSTART;TZID=Europe/Berlin:20251029T190000
DTEND;TZID=Europe/Berlin:20251029T210000
DTSTAMP:20260425T230745
CREATED:20250923T125422Z
LAST-MODIFIED:20251002T200857Z
UID:10007038-1761764400-1761771600@www.melanchthon-hannover.de
SUMMARY:Schnupperkurs Meditation 3/3
DESCRIPTION:MBSR® – Stressbewältigung durch Achtsamkeit \n\n\n\n\nEin ganzheitliches Trainingsprogramm aus Meditation und Achtsamkeitsübungen für den Alltag. \nhttps://www.kirche-der-stille-hannover.de/alle_angebote/meditation_und_stille/schnupperkurs-mela-2025 \nBitte anmelden: https://www.formulare-e.de/f/stadtkloster-schnupperkurs-meditation-10-2025-anmeldung
URL:https://www.melanchthon-hannover.de/termin/schnupperkurs-meditation-3-3/
LOCATION:Melanchthon\, Menschingstr. 12\, Hannover\, 30173\, Deutschland
CATEGORIES:Kirche der Stille
ATTACH;FMTTYPE=image/png:https://www.melanchthon-hannover.de/wp-content/uploads/2025/10/Kirche-der-Stille-1.png
END:VEVENT
BEGIN:VEVENT
DTSTART;TZID=Europe/Berlin:20251030T160000
DTEND;TZID=Europe/Berlin:20251030T173000
DTSTAMP:20260425T230745
CREATED:20230910T092059Z
LAST-MODIFIED:20230926T115533Z
UID:10000949-1761840000-1761845400@www.melanchthon-hannover.de
SUMMARY:Eltern-Kind-Spielkreis
DESCRIPTION:
URL:https://www.melanchthon-hannover.de/termin/eltern-kind-spielkreis-3/2025-10-30/
LOCATION:Melanchthon – Glasraum\, Menschingstr. 12\, Hannover\, 30173\, Deutschland
CATEGORIES:Gemeindeveranstaltung
END:VEVENT
BEGIN:VEVENT
DTSTART;TZID=Europe/Berlin:20251101T100000
DTEND;TZID=Europe/Berlin:20251101T120000
DTSTAMP:20260425T230745
CREATED:20250407T165209Z
LAST-MODIFIED:20250407T165209Z
UID:10006947-1761991200-1761998400@www.melanchthon-hannover.de
SUMMARY:Kinderkunst
DESCRIPTION:
URL:https://www.melanchthon-hannover.de/termin/kinderkunst-6/2025-11-01/
LOCATION:Melanchthon\, Menschingstr. 12\, Hannover\, 30173\, Deutschland
CATEGORIES:Gemeindeveranstaltung
END:VEVENT
BEGIN:VEVENT
DTSTART;TZID=Europe/Berlin:20251101T100000
DTEND;TZID=Europe/Berlin:20251101T120000
DTSTAMP:20260425T230745
CREATED:20251002T104027Z
LAST-MODIFIED:20251002T104027Z
UID:10006886-1761991200-1761998400@www.melanchthon-hannover.de
SUMMARY:Marktcafé
DESCRIPTION:
URL:https://www.melanchthon-hannover.de/termin/marktcafe-4-2/2025-11-01/
LOCATION:Melanchthon\, Menschingstr. 12\, Hannover\, 30173\, Deutschland
CATEGORIES:Gemeindeveranstaltung
ATTACH;FMTTYPE=image/png:https://www.melanchthon-hannover.de/wp-content/uploads/2025/04/Markcafe.png
END:VEVENT
BEGIN:VEVENT
DTSTART;TZID=Europe/Berlin:20251102T100000
DTEND;TZID=Europe/Berlin:20251102T110000
DTSTAMP:20260425T230745
CREATED:20251025T113048Z
LAST-MODIFIED:20251127T183131Z
UID:10007306-1762077600-1762081200@www.melanchthon-hannover.de
SUMMARY:Singegottesdienst
DESCRIPTION:
URL:https://www.melanchthon-hannover.de/termin/gottesdienst-65/
LOCATION:Melanchthon\, Menschingstr. 12\, Hannover\, 30173\, Deutschland
CATEGORIES:Gottesdienst
ATTACH;FMTTYPE=image/png:https://www.melanchthon-hannover.de/wp-content/uploads/2025/11/30.11.25-Abend-GD-2.png
END:VEVENT
BEGIN:VEVENT
DTSTART;TZID=Europe/Berlin:20251103T183000
DTEND;TZID=Europe/Berlin:20251103T183000
DTSTAMP:20260425T230745
CREATED:20240724T141125Z
LAST-MODIFIED:20240724T141125Z
UID:10005675-1762194600-1762194600@www.melanchthon-hannover.de
SUMMARY:Meditationsgruppe
DESCRIPTION:
URL:https://www.melanchthon-hannover.de/termin/meditationsgruppe-5/2025-11-03/
LOCATION:Melanchthon – Unterkirche\, Menschingstr. 12\, Hannover\, 30173\, Deutschland
CATEGORIES:Gemeindeveranstaltung
END:VEVENT
BEGIN:VEVENT
DTSTART;TZID=Europe/Berlin:20251103T200000
DTEND;TZID=Europe/Berlin:20251103T213000
DTSTAMP:20260425T230745
CREATED:20230926T114558Z
LAST-MODIFIED:20230926T114558Z
UID:10000569-1762200000-1762205400@www.melanchthon-hannover.de
SUMMARY:Melanchthonchor
DESCRIPTION:
URL:https://www.melanchthon-hannover.de/termin/melanchthonchor-8/2025-11-03/
LOCATION:Melanchthon\, Menschingstr. 12\, Hannover\, 30173\, Deutschland
CATEGORIES:Gemeindeveranstaltung
END:VEVENT
BEGIN:VEVENT
DTSTART;TZID=Europe/Berlin:20251104T170000
DTEND;TZID=Europe/Berlin:20251104T183000
DTSTAMP:20260425T230745
CREATED:20250407T164330Z
LAST-MODIFIED:20250407T164330Z
UID:10006385-1762275600-1762281000@www.melanchthon-hannover.de
SUMMARY:Konfirmandenzeit
DESCRIPTION:
URL:https://www.melanchthon-hannover.de/termin/konfirmandenzeit/2025-11-04/
LOCATION:Melanchthon\, Menschingstr. 12\, Hannover\, 30173\, Deutschland
CATEGORIES:Konfirmanden
END:VEVENT
BEGIN:VEVENT
DTSTART;TZID=Europe/Berlin:20251105T100000
DTEND;TZID=Europe/Berlin:20251105T120000
DTSTAMP:20260425T230745
CREATED:20250407T164812Z
LAST-MODIFIED:20250407T164812Z
UID:10006648-1762336800-1762344000@www.melanchthon-hannover.de
SUMMARY:Malen am Morgen
DESCRIPTION:
URL:https://www.melanchthon-hannover.de/termin/malen-am-morgen-2/2025-11-05/
LOCATION:Melanchthon\, Menschingstr. 12\, Hannover\, 30173\, Deutschland
CATEGORIES:Gemeindeveranstaltung
END:VEVENT
BEGIN:VEVENT
DTSTART;TZID=Europe/Berlin:20251105T150000
DTEND;TZID=Europe/Berlin:20251105T170000
DTSTAMP:20260425T230745
CREATED:20240123T162207Z
LAST-MODIFIED:20240123T162207Z
UID:10001269-1762354800-1762362000@www.melanchthon-hannover.de
SUMMARY:Besuchsdienstkreis
DESCRIPTION:Mittwoch im Monat
URL:https://www.melanchthon-hannover.de/termin/besuchsdienstkreis/2025-11-05/
LOCATION:Melanchthon – Glasraum\, Menschingstr. 12\, Hannover\, 30173\, Deutschland
CATEGORIES:Gemeindeveranstaltung
END:VEVENT
BEGIN:VEVENT
DTSTART;TZID=Europe/Berlin:20251105T183000
DTEND;TZID=Europe/Berlin:20251105T200000
DTSTAMP:20260425T230745
CREATED:20251002T101007Z
LAST-MODIFIED:20251002T203734Z
UID:10007039-1762367400-1762372800@www.melanchthon-hannover.de
SUMMARY:Wach im Augenblick
DESCRIPTION:MittwochsMeditation \nhttps://www.kirche-der-stille-hannover.de/alle_angebote/meditation_und_stille/stilles_sitzen \nBitte anmelden: https://www.formulare-e.de/f/kirche-der-stille-mittwochsmeditation-melanchthon-4-quartal-2025-anmeldung
URL:https://www.melanchthon-hannover.de/termin/wach-im-augenblick/2025-11-05/
LOCATION:Melanchthon\, Menschingstr. 12\, Hannover\, 30173\, Deutschland
CATEGORIES:Kirche der Stille
ATTACH;FMTTYPE=image/png:https://www.melanchthon-hannover.de/wp-content/uploads/2025/10/Wach-im-Augenblick-1.png
END:VEVENT
BEGIN:VEVENT
DTSTART;TZID=Europe/Berlin:20251106T160000
DTEND;TZID=Europe/Berlin:20251106T173000
DTSTAMP:20260425T230745
CREATED:20230910T092059Z
LAST-MODIFIED:20230926T115533Z
UID:10000950-1762444800-1762450200@www.melanchthon-hannover.de
SUMMARY:Eltern-Kind-Spielkreis
DESCRIPTION:
URL:https://www.melanchthon-hannover.de/termin/eltern-kind-spielkreis-3/2025-11-06/
LOCATION:Melanchthon – Glasraum\, Menschingstr. 12\, Hannover\, 30173\, Deutschland
CATEGORIES:Gemeindeveranstaltung
END:VEVENT
BEGIN:VEVENT
DTSTART;TZID=Europe/Berlin:20251109T100000
DTEND;TZID=Europe/Berlin:20251109T110000
DTSTAMP:20260425T230745
CREATED:20251106T221716Z
LAST-MODIFIED:20251106T221716Z
UID:10007345-1762682400-1762686000@www.melanchthon-hannover.de
SUMMARY:Kindergottesdienst
DESCRIPTION:
URL:https://www.melanchthon-hannover.de/termin/kindergottesdienst-39/
LOCATION:Melanchthon\, Menschingstr. 12\, Hannover\, 30173\, Deutschland
CATEGORIES:Kindergottesdienst
END:VEVENT
BEGIN:VEVENT
DTSTART;TZID=Europe/Berlin:20251109T180000
DTEND;TZID=Europe/Berlin:20251109T190000
DTSTAMP:20260425T230745
CREATED:20251106T221828Z
LAST-MODIFIED:20251106T225536Z
UID:10007346-1762711200-1762714800@www.melanchthon-hannover.de
SUMMARY:Gottesdienst
DESCRIPTION:
URL:https://www.melanchthon-hannover.de/termin/gottesdienst-68/
LOCATION:Melanchthon\, Menschingstr. 12\, Hannover\, 30173\, Deutschland
CATEGORIES:Abendgottesdienst
ATTACH;FMTTYPE=image/png:https://www.melanchthon-hannover.de/wp-content/uploads/2025/11/9.11.25-Abend-GD.png
END:VEVENT
BEGIN:VEVENT
DTSTART;TZID=Europe/Berlin:20251110T183000
DTEND;TZID=Europe/Berlin:20251110T183000
DTSTAMP:20260425T230745
CREATED:20240724T141125Z
LAST-MODIFIED:20240724T141125Z
UID:10005676-1762799400-1762799400@www.melanchthon-hannover.de
SUMMARY:Meditationsgruppe
DESCRIPTION:
URL:https://www.melanchthon-hannover.de/termin/meditationsgruppe-5/2025-11-10/
LOCATION:Melanchthon – Unterkirche\, Menschingstr. 12\, Hannover\, 30173\, Deutschland
CATEGORIES:Gemeindeveranstaltung
END:VEVENT
BEGIN:VEVENT
DTSTART;TZID=Europe/Berlin:20251110T200000
DTEND;TZID=Europe/Berlin:20251110T213000
DTSTAMP:20260425T230745
CREATED:20230926T114558Z
LAST-MODIFIED:20230926T114558Z
UID:10000570-1762804800-1762810200@www.melanchthon-hannover.de
SUMMARY:Melanchthonchor
DESCRIPTION:
URL:https://www.melanchthon-hannover.de/termin/melanchthonchor-8/2025-11-10/
LOCATION:Melanchthon\, Menschingstr. 12\, Hannover\, 30173\, Deutschland
CATEGORIES:Gemeindeveranstaltung
END:VEVENT
BEGIN:VEVENT
DTSTART;TZID=Europe/Berlin:20251111T160000
DTEND;TZID=Europe/Berlin:20251111T170000
DTSTAMP:20260425T230745
CREATED:20251106T221952Z
LAST-MODIFIED:20251107T090127Z
UID:10007347-1762876800-1762880400@www.melanchthon-hannover.de
SUMMARY:Kindergottesdienst
DESCRIPTION:
URL:https://www.melanchthon-hannover.de/termin/kindergottesdienst-40/
LOCATION:Melanchthon\, Menschingstr. 12\, Hannover\, 30173\, Deutschland
CATEGORIES:Kindergottesdienst
ATTACH;FMTTYPE=image/png:https://www.melanchthon-hannover.de/wp-content/uploads/2025/11/11.11.25-Kinder-GD-1.png
END:VEVENT
BEGIN:VEVENT
DTSTART;TZID=Europe/Berlin:20251111T170000
DTEND;TZID=Europe/Berlin:20251111T183000
DTSTAMP:20260425T230745
CREATED:20250407T164330Z
LAST-MODIFIED:20250407T164330Z
UID:10006386-1762880400-1762885800@www.melanchthon-hannover.de
SUMMARY:Konfirmandenzeit
DESCRIPTION:
URL:https://www.melanchthon-hannover.de/termin/konfirmandenzeit/2025-11-11/
LOCATION:Melanchthon\, Menschingstr. 12\, Hannover\, 30173\, Deutschland
CATEGORIES:Konfirmanden
END:VEVENT
BEGIN:VEVENT
DTSTART;TZID=Europe/Berlin:20251112T100000
DTEND;TZID=Europe/Berlin:20251112T120000
DTSTAMP:20260425T230745
CREATED:20250407T164812Z
LAST-MODIFIED:20250407T164812Z
UID:10006649-1762941600-1762948800@www.melanchthon-hannover.de
SUMMARY:Malen am Morgen
DESCRIPTION:
URL:https://www.melanchthon-hannover.de/termin/malen-am-morgen-2/2025-11-12/
LOCATION:Melanchthon\, Menschingstr. 12\, Hannover\, 30173\, Deutschland
CATEGORIES:Gemeindeveranstaltung
END:VEVENT
END:VCALENDAR