BEGIN:VCALENDAR
VERSION:2.0
PRODID:-//Melanchthon-Gemeinde - ECPv6.15.20//NONSGML v1.0//EN
CALSCALE:GREGORIAN
METHOD:PUBLISH
X-ORIGINAL-URL:https://www.melanchthon-hannover.de
X-WR-CALDESC:Veranstaltungen für Melanchthon-Gemeinde
REFRESH-INTERVAL;VALUE=DURATION:PT1H
X-Robots-Tag:noindex
X-PUBLISHED-TTL:PT1H
BEGIN:VTIMEZONE
TZID:Europe/Berlin
BEGIN:DAYLIGHT
TZOFFSETFROM:+0100
TZOFFSETTO:+0200
TZNAME:CEST
DTSTART:20250330T010000
END:DAYLIGHT
BEGIN:STANDARD
TZOFFSETFROM:+0200
TZOFFSETTO:+0100
TZNAME:CET
DTSTART:20251026T010000
END:STANDARD
BEGIN:DAYLIGHT
TZOFFSETFROM:+0100
TZOFFSETTO:+0200
TZNAME:CEST
DTSTART:20260329T010000
END:DAYLIGHT
BEGIN:STANDARD
TZOFFSETFROM:+0200
TZOFFSETTO:+0100
TZNAME:CET
DTSTART:20261025T010000
END:STANDARD
BEGIN:DAYLIGHT
TZOFFSETFROM:+0100
TZOFFSETTO:+0200
TZNAME:CEST
DTSTART:20270328T010000
END:DAYLIGHT
BEGIN:STANDARD
TZOFFSETFROM:+0200
TZOFFSETTO:+0100
TZNAME:CET
DTSTART:20271031T010000
END:STANDARD
END:VTIMEZONE
BEGIN:VEVENT
DTSTART;TZID=Europe/Berlin:20260404T100000
DTEND;TZID=Europe/Berlin:20260404T120000
DTSTAMP:20260421T184903
CREATED:20250407T165209Z
LAST-MODIFIED:20250407T165209Z
UID:10006952-1775296800-1775304000@www.melanchthon-hannover.de
SUMMARY:Kinderkunst
DESCRIPTION:
URL:https://www.melanchthon-hannover.de/termin/kinderkunst-6/2026-04-04/
LOCATION:Melanchthon\, Menschingstr. 12\, Hannover\, 30173\, Deutschland
CATEGORIES:Gemeindeveranstaltung
END:VEVENT
BEGIN:VEVENT
DTSTART;TZID=Europe/Berlin:20260404T100000
DTEND;TZID=Europe/Berlin:20260404T120000
DTSTAMP:20260421T184903
CREATED:20251002T104027Z
LAST-MODIFIED:20251002T104027Z
UID:10006891-1775296800-1775304000@www.melanchthon-hannover.de
SUMMARY:Marktcafé
DESCRIPTION:
URL:https://www.melanchthon-hannover.de/termin/marktcafe-4-2/2026-04-04/
LOCATION:Melanchthon\, Menschingstr. 12\, Hannover\, 30173\, Deutschland
CATEGORIES:Gemeindeveranstaltung
ATTACH;FMTTYPE=image/png:https://www.melanchthon-hannover.de/wp-content/uploads/2025/04/Markcafe.png
END:VEVENT
BEGIN:VEVENT
DTSTART;TZID=Europe/Berlin:20260404T200000
DTEND;TZID=Europe/Berlin:20260405T003000
DTSTAMP:20260421T184903
CREATED:20260323T124220Z
LAST-MODIFIED:20260402T192753Z
UID:10007403-1775332800-1775349000@www.melanchthon-hannover.de
SUMMARY:Osternacht und Lichtfeier
DESCRIPTION:Herzlich willkommen zu einer besonderen Osternacht: \nneu werden\nein musikalisch-meditativer Weg ins Osterlicht\nIm Weg Jesu durch Leid und Tod hindurch ins Leben spiegeln sich unsere eigenen Lebensthemen  – und finden Erlösung. In dieser Nacht nehmen wir uns Zeit\, gemeinsam diesen Spuren zu folgen. Und lassen uns hineinnehmen in eine geheimnisvolle Verwandlung. \n\n April 2026\n\nab 20 Uhr: sich einfinden – sich einstimmen – sich verbinden\nMusikalisches Ankommen \n21 Uhr: verweilen – verlieren und sich wiederfinden – sich stärken lassen\nTextimpulse – Nachtmahl – Klangbad – meditative Wege im Kirchenraum \n23 Uhr: warten – sich verwandeln lassen – sich aufmachen\nAuferstehungszuspruch – Lichtfeier – Segensklang\n„Einfaches“ Singen ist durchtragendes Element des Abends. \nLeitung: Andreas Hülsemann\, Popularmusiker und Pastor\, Burgdorf\nChristine Tergau-Harms\, Pastorin der Kirche der Stille\nKatrin Grießhammer\, Andreas Weber (Gitarrist) und Rosita Wünderich \nkostenfrei\nSpäteres Hinzukommen ist um 21 Uhr und um 23 Uhr möglich.\nEnde um 0.30 Uhr \n 
URL:https://www.melanchthon-hannover.de/termin/musikalisch-meditativer-weg-ins-osterlicht/
LOCATION:Melanchthon\, Menschingstr. 12\, Hannover\, 30173\, Deutschland
CATEGORIES:Kirche der Stille
ATTACH;FMTTYPE=image/png:https://www.melanchthon-hannover.de/wp-content/uploads/2026/03/2026-Osternacht-2-1.png
END:VEVENT
END:VCALENDAR