BEGIN:VCALENDAR
VERSION:2.0
PRODID:-//Melanchthon-Gemeinde - ECPv6.15.20//NONSGML v1.0//EN
CALSCALE:GREGORIAN
METHOD:PUBLISH
X-ORIGINAL-URL:https://www.melanchthon-hannover.de
X-WR-CALDESC:Veranstaltungen für Melanchthon-Gemeinde
REFRESH-INTERVAL;VALUE=DURATION:PT1H
X-Robots-Tag:noindex
X-PUBLISHED-TTL:PT1H
BEGIN:VTIMEZONE
TZID:Europe/Berlin
BEGIN:DAYLIGHT
TZOFFSETFROM:+0100
TZOFFSETTO:+0200
TZNAME:CEST
DTSTART:20240331T010000
END:DAYLIGHT
BEGIN:STANDARD
TZOFFSETFROM:+0200
TZOFFSETTO:+0100
TZNAME:CET
DTSTART:20241027T010000
END:STANDARD
BEGIN:DAYLIGHT
TZOFFSETFROM:+0100
TZOFFSETTO:+0200
TZNAME:CEST
DTSTART:20250330T010000
END:DAYLIGHT
BEGIN:STANDARD
TZOFFSETFROM:+0200
TZOFFSETTO:+0100
TZNAME:CET
DTSTART:20251026T010000
END:STANDARD
BEGIN:DAYLIGHT
TZOFFSETFROM:+0100
TZOFFSETTO:+0200
TZNAME:CEST
DTSTART:20260329T010000
END:DAYLIGHT
BEGIN:STANDARD
TZOFFSETFROM:+0200
TZOFFSETTO:+0100
TZNAME:CET
DTSTART:20261025T010000
END:STANDARD
END:VTIMEZONE
BEGIN:VEVENT
DTSTART;TZID=Europe/Berlin:20251008T100000
DTEND;TZID=Europe/Berlin:20251008T120000
DTSTAMP:20260425T185447
CREATED:20250407T164812Z
LAST-MODIFIED:20250407T164812Z
UID:10006644-1759917600-1759924800@www.melanchthon-hannover.de
SUMMARY:Malen am Morgen
DESCRIPTION:
URL:https://www.melanchthon-hannover.de/termin/malen-am-morgen-2/2025-10-08/
LOCATION:Melanchthon\, Menschingstr. 12\, Hannover\, 30173\, Deutschland
CATEGORIES:Gemeindeveranstaltung
END:VEVENT
BEGIN:VEVENT
DTSTART;TZID=Europe/Berlin:20251008T190000
DTEND;TZID=Europe/Berlin:20251008T210000
DTSTAMP:20260425T185447
CREATED:20250923T125136Z
LAST-MODIFIED:20251002T200808Z
UID:10007037-1759950000-1759957200@www.melanchthon-hannover.de
SUMMARY:Schnupperkurs Meditation 2/3
DESCRIPTION:Meditation in Klang und Bewegung \nWenn das stille Sitzen Mühe bereitet\, sind manchmal Klang\, Singen und Bewegungsmeditation ein hilfreicher Zugang zur Stille. \n\nhttps://www.kirche-der-stille-hannover.de/alle_angebote/meditation_und_stille/schnupperkurs-mela-2025 \nBitte anmelden: https://www.formulare-e.de/f/stadtkloster-schnupperkurs-meditation-10-2025-anmeldung
URL:https://www.melanchthon-hannover.de/termin/schnupperkurs-meditation-2-3/
LOCATION:Melanchthon\, Menschingstr. 12\, Hannover\, 30173\, Deutschland
CATEGORIES:Kirche der Stille
ATTACH;FMTTYPE=image/png:https://www.melanchthon-hannover.de/wp-content/uploads/2025/10/Kirche-der-Stille-1.png
END:VEVENT
END:VCALENDAR